BEGIN:VCALENDAR
VERSION:2.0
PRODID:-//Celebrate Fairfax - ECPv6.15.20//NONSGML v1.0//EN
CALSCALE:GREGORIAN
METHOD:PUBLISH
X-ORIGINAL-URL:https://celebratefairfax.org
X-WR-CALDESC:Events for Celebrate Fairfax
REFRESH-INTERVAL;VALUE=DURATION:PT1H
X-Robots-Tag:noindex
X-PUBLISHED-TTL:PT1H
BEGIN:VTIMEZONE
TZID:UTC
BEGIN:STANDARD
TZOFFSETFROM:+0000
TZOFFSETTO:+0000
TZNAME:UTC
DTSTART:20250101T000000
END:STANDARD
END:VTIMEZONE
BEGIN:VEVENT
DTSTART;TZID=UTC:20260502T110000
DTEND;TZID=UTC:20260502T140000
DTSTAMP:20260421T160120
CREATED:20260417T152558Z
LAST-MODIFIED:20260417T191325Z
UID:10009734-1777719600-1777730400@celebratefairfax.org
SUMMARY:Celebrate Sully District's 35th Birthday
DESCRIPTION:Join Supervisor Kathy Smith to celebrate the Sully District’s 35th birthday on Saturday\, May 2\, 2026\, from 11 am to 2 pm. Gather with friends and family to celebrate this milestone\, enjoy cake\, a flashback of Sully District history\, and take advantage of onsite County services.
URL:https://celebratefairfax.org/event/celebrate-sully-districts-35th-birthday/
LOCATION:Sully Governmental Center 4900 Stonecroft Boulevard Chantilly\, VA 20151
CATEGORIES:Sully District
ATTACH;FMTTYPE=image/png:https://celebratefairfax.org/wp-content/uploads/2026/04/sully-districts-35th-birthday-celebration.png
END:VEVENT
END:VCALENDAR