BEGIN:VCALENDAR
VERSION:2.0
PRODID:-//Celebrate Fairfax - ECPv6.15.20//NONSGML v1.0//EN
CALSCALE:GREGORIAN
METHOD:PUBLISH
X-ORIGINAL-URL:https://celebratefairfax.org
X-WR-CALDESC:Events for Celebrate Fairfax
REFRESH-INTERVAL;VALUE=DURATION:PT1H
X-Robots-Tag:noindex
X-PUBLISHED-TTL:PT1H
BEGIN:VTIMEZONE
TZID:UTC
BEGIN:STANDARD
TZOFFSETFROM:+0000
TZOFFSETTO:+0000
TZNAME:UTC
DTSTART:20250101T000000
END:STANDARD
END:VTIMEZONE
BEGIN:VEVENT
DTSTART;TZID=UTC:20260424T200000
DTEND;TZID=UTC:20260424T223000
DTSTAMP:20260422T120343
CREATED:20260417T192429Z
LAST-MODIFIED:20260417T192429Z
UID:10009737-1777060800-1777069800@celebratefairfax.org
SUMMARY:A Funny Thing Happened on the Way to the Forum
DESCRIPTION:A Funny Thing Happened on the Way to the Forum is a riotous musical comedy that takes you on a whirlwind adventure through ancient Rome. With clever wordplay\, slapstick humor\, and unforgettable characters\, this show follows the misadventures of Pseudolus\, a wily slave who schemes to win his freedom. Delight in the catchy tunes and outrageous antics as love and chaos collide in this timeless tale of mistaken identities comedic twists. Prepare for an evening filled with laughter and entertainment!
URL:https://celebratefairfax.org/event/a-funny-thing-happened-on-the-way-to-the-forum-2/2026-04-24/
LOCATION:266 Sunset Business Park\, Herndon\, VA 20170
ATTACH;FMTTYPE=image/jpeg:https://celebratefairfax.org/wp-content/uploads/2026/04/afunnythinghappenedonthewaytotheforum.jpg
END:VEVENT
END:VCALENDAR