BEGIN:VCALENDAR
VERSION:2.0
PRODID:-//Celebrate Fairfax - ECPv6.15.20//NONSGML v1.0//EN
CALSCALE:GREGORIAN
METHOD:PUBLISH
X-ORIGINAL-URL:https://celebratefairfax.org
X-WR-CALDESC:Events for Celebrate Fairfax
REFRESH-INTERVAL;VALUE=DURATION:PT1H
X-Robots-Tag:noindex
X-PUBLISHED-TTL:PT1H
BEGIN:VTIMEZONE
TZID:UTC
BEGIN:STANDARD
TZOFFSETFROM:+0000
TZOFFSETTO:+0000
TZNAME:UTC
DTSTART:20250101T000000
END:STANDARD
END:VTIMEZONE
BEGIN:VEVENT
DTSTART;VALUE=DATE:20260530
DTEND;VALUE=DATE:20260601
DTSTAMP:20260424T151005
CREATED:20260417T151241Z
LAST-MODIFIED:20260417T153552Z
UID:10009733-1780099200-1780271999@celebratefairfax.org
SUMMARY:Bull Run Wine Festival
DESCRIPTION:Sip\, savor\, and celebrate at the Bull Run Wine Festival! Enjoy tastings from Virginia wineries\, delicious eats\, live music\, and local vendors all weekend long.
URL:https://celebratefairfax.org/event/bull-run-wine-festival/
LOCATION:15950 Lee Hwy\, Centreville\, VA 20120
ATTACH;FMTTYPE=image/png:https://celebratefairfax.org/wp-content/uploads/2026/04/bull-run-wine-festival.png
END:VEVENT
END:VCALENDAR