BEGIN:VCALENDAR
VERSION:2.0
PRODID:-//Celebrate Fairfax - ECPv6.15.20//NONSGML v1.0//EN
CALSCALE:GREGORIAN
METHOD:PUBLISH
X-WR-CALNAME:Celebrate Fairfax
X-ORIGINAL-URL:https://celebratefairfax.org
X-WR-CALDESC:Events for Celebrate Fairfax
REFRESH-INTERVAL;VALUE=DURATION:PT1H
X-Robots-Tag:noindex
X-PUBLISHED-TTL:PT1H
BEGIN:VTIMEZONE
TZID:UTC
BEGIN:STANDARD
TZOFFSETFROM:+0000
TZOFFSETTO:+0000
TZNAME:UTC
DTSTART:20250101T000000
END:STANDARD
END:VTIMEZONE
BEGIN:VEVENT
DTSTART;TZID=UTC:20260222T150000
DTEND;TZID=UTC:20260222T170000
DTSTAMP:20260425T191732
CREATED:20260126T134119Z
LAST-MODIFIED:20260126T134119Z
UID:10009254-1771772400-1771779600@celebratefairfax.org
SUMMARY:CFTC Presents Once On This Island
DESCRIPTION:Once on This Island is a powerful\, Caribbean-inspired musical about the unbreakable human spirit and the transformative power of love. Told through dynamic storytelling\, vibrant music\, and electrifying dance. This is a tale of love and legacy. Of risk and resilience. Of the ways we remember — and are remembered.
URL:https://celebratefairfax.org/event/cftc-presents-once-on-this-island/2026-02-22/
LOCATION:Katherine Johnson Middle School\, 3801 Jermantown Rd\, Fairfax\, VA\, 22030\, United States
CATEGORIES:City of Fairfax
ATTACH;FMTTYPE=image/avif:https://celebratefairfax.org/wp-content/uploads/2026/01/once-on-this-island.avif
ORGANIZER;CN="City of Fairfax Theatre Company":MAILTO:info@fairfaxcitytheatre.org
END:VEVENT
END:VCALENDAR