BEGIN:VCALENDAR
VERSION:2.0
PRODID:-//Celebrate Fairfax - ECPv6.15.20//NONSGML v1.0//EN
CALSCALE:GREGORIAN
METHOD:PUBLISH
X-ORIGINAL-URL:https://celebratefairfax.org
X-WR-CALDESC:Events for Celebrate Fairfax
REFRESH-INTERVAL;VALUE=DURATION:PT1H
X-Robots-Tag:noindex
X-PUBLISHED-TTL:PT1H
BEGIN:VTIMEZONE
TZID:UTC
BEGIN:STANDARD
TZOFFSETFROM:+0000
TZOFFSETTO:+0000
TZNAME:UTC
DTSTART:20220101T000000
END:STANDARD
END:VTIMEZONE
BEGIN:VEVENT
DTSTART;TZID=UTC:20230724T120000
DTEND;TZID=UTC:20230814T010000
DTSTAMP:20260425T111933
CREATED:20230720T143404Z
LAST-MODIFIED:20230720T143404Z
UID:10000029-1690200000-1691974800@celebratefairfax.org
SUMMARY:Summer Lounge @ The PARC
DESCRIPTION:Celebrate Summer on The Patio at The PARC! You are invited to come out and relax\, work or hang out with friends. The welcoming space is WiFi enabled and features cozy seating. Bring a picnic or snacks and soak up the sun. \n\n\n\nAnd- on Thursdays\, The Patio will also host the Potomac Farm Market from 12pm-7pm. \n\n\n\n\n\n\n\nThe Summer Patio is part of ongoing placemaking efforts\, one of three focus areas of the nonprofit organization Celebrate Fairfax. Placemaking means creating places and focusing on transforming public spaces to strengthen the connections between people and these places (Arch Daily). We’re delighted to transform this empty space into a vibrant place as part of making The PARC a community hub.
URL:https://celebratefairfax.org/event/summer-lounge-the-parc/
LOCATION:United States
CATEGORIES:Providence District
ATTACH;FMTTYPE=image/png:https://celebratefairfax.org/wp-content/uploads/2023/07/CFParc_SummerPatio_360x220.avif
END:VEVENT
BEGIN:VEVENT
DTSTART;TZID=UTC:20230803T160000
DTEND;TZID=UTC:20230803T230000
DTSTAMP:20260425T111933
CREATED:20230728T150530Z
LAST-MODIFIED:20230728T150530Z
UID:10000955-1691078400-1691103600@celebratefairfax.org
SUMMARY:Farm Market
DESCRIPTION:New @The PARC! Potomac Farm Market and Celebrate Fairfax are working in partnership to bring the farm to you Thursdays from 12pm-7pm from July 27th through October 19th. The front patio at The PARC will be bursting with locally sourced produce and agricultural goods!  \n\n\n\nThe market will be held rain or shine at 8508 Leesburg Pike. Free onsite parking or take metro via the Spring Hill station.  Hope to see you there! \n\n\n\n\n\n\n\n2023 Summer offerings from local farmers include:\n\n\n\n\n\n\n\n\n\nZinnias and Sunflowers \n\n\n\nTomatoes; multiple varieties of red\, heirloom and cherries \n\n\n\nPeaches\, Nectarines & Plums \n\n\n\nSweet Corn \n\n\n\nLocal Honey \n\n\n\n\n\n\n\n\n\nLeafy Greens \n\n\n\nCucumbers\, Pickling Cucumbers \n\n\n\nWatermelons; seedless\, seeded\, Sugar Baby\, Buttercup & more! \n\n\n\nCantaloupes\, Canary melons \n\n\n\nBlueberries & Blackberries \n\n\n\n\n\n\n\n\n\nSummer Squash and Zucchini \n\n\n\nOnions \n\n\n\nBell Peppers\, Jalapenos\, Habaneros \n\n\n\nEggplant \n\n\n\nMcCutcheon’s jarred goods and baking mixes \n\n\n\n\n\n\n\n\n\n“We are so excited and grateful for the opportunity to bring our farm market to The PARC this year! To us\, nothing is better than bringing a little bit of the country to the city and offering the community the very best quality\, locally grown produce and agricultural goods. We thrive on building new relationships with our neighbors and creating ever-lasting friendships by merging the gap between farmer and consumer. We look forward to a great season ahead!” Casey & Jack LatimerOwners\, Potomac Farm Market
URL:https://celebratefairfax.org/event/farm-market-3/2023-08-03/
LOCATION:United States
ATTACH;FMTTYPE=image/avif:https://celebratefairfax.org/wp-content/uploads/2023/07/farmers-market-in-urban-setting.avif
END:VEVENT
BEGIN:VEVENT
DTSTART;TZID=UTC:20230810T160000
DTEND;TZID=UTC:20230810T230000
DTSTAMP:20260425T111933
CREATED:20230728T150530Z
LAST-MODIFIED:20230728T150530Z
UID:10000956-1691683200-1691708400@celebratefairfax.org
SUMMARY:Farm Market
DESCRIPTION:New @The PARC! Potomac Farm Market and Celebrate Fairfax are working in partnership to bring the farm to you Thursdays from 12pm-7pm from July 27th through October 19th. The front patio at The PARC will be bursting with locally sourced produce and agricultural goods!  \n\n\n\nThe market will be held rain or shine at 8508 Leesburg Pike. Free onsite parking or take metro via the Spring Hill station.  Hope to see you there! \n\n\n\n\n\n\n\n2023 Summer offerings from local farmers include:\n\n\n\n\n\n\n\n\n\nZinnias and Sunflowers \n\n\n\nTomatoes; multiple varieties of red\, heirloom and cherries \n\n\n\nPeaches\, Nectarines & Plums \n\n\n\nSweet Corn \n\n\n\nLocal Honey \n\n\n\n\n\n\n\n\n\nLeafy Greens \n\n\n\nCucumbers\, Pickling Cucumbers \n\n\n\nWatermelons; seedless\, seeded\, Sugar Baby\, Buttercup & more! \n\n\n\nCantaloupes\, Canary melons \n\n\n\nBlueberries & Blackberries \n\n\n\n\n\n\n\n\n\nSummer Squash and Zucchini \n\n\n\nOnions \n\n\n\nBell Peppers\, Jalapenos\, Habaneros \n\n\n\nEggplant \n\n\n\nMcCutcheon’s jarred goods and baking mixes \n\n\n\n\n\n\n\n\n\n“We are so excited and grateful for the opportunity to bring our farm market to The PARC this year! To us\, nothing is better than bringing a little bit of the country to the city and offering the community the very best quality\, locally grown produce and agricultural goods. We thrive on building new relationships with our neighbors and creating ever-lasting friendships by merging the gap between farmer and consumer. We look forward to a great season ahead!” Casey & Jack LatimerOwners\, Potomac Farm Market
URL:https://celebratefairfax.org/event/farm-market-3/2023-08-10/
LOCATION:United States
ATTACH;FMTTYPE=image/avif:https://celebratefairfax.org/wp-content/uploads/2023/07/farmers-market-in-urban-setting.avif
END:VEVENT
BEGIN:VEVENT
DTSTART;TZID=UTC:20230817T160000
DTEND;TZID=UTC:20230817T230000
DTSTAMP:20260425T111933
CREATED:20230728T150530Z
LAST-MODIFIED:20230728T150530Z
UID:10000957-1692288000-1692313200@celebratefairfax.org
SUMMARY:Farm Market
DESCRIPTION:New @The PARC! Potomac Farm Market and Celebrate Fairfax are working in partnership to bring the farm to you Thursdays from 12pm-7pm from July 27th through October 19th. The front patio at The PARC will be bursting with locally sourced produce and agricultural goods!  \n\n\n\nThe market will be held rain or shine at 8508 Leesburg Pike. Free onsite parking or take metro via the Spring Hill station.  Hope to see you there! \n\n\n\n\n\n\n\n2023 Summer offerings from local farmers include:\n\n\n\n\n\n\n\n\n\nZinnias and Sunflowers \n\n\n\nTomatoes; multiple varieties of red\, heirloom and cherries \n\n\n\nPeaches\, Nectarines & Plums \n\n\n\nSweet Corn \n\n\n\nLocal Honey \n\n\n\n\n\n\n\n\n\nLeafy Greens \n\n\n\nCucumbers\, Pickling Cucumbers \n\n\n\nWatermelons; seedless\, seeded\, Sugar Baby\, Buttercup & more! \n\n\n\nCantaloupes\, Canary melons \n\n\n\nBlueberries & Blackberries \n\n\n\n\n\n\n\n\n\nSummer Squash and Zucchini \n\n\n\nOnions \n\n\n\nBell Peppers\, Jalapenos\, Habaneros \n\n\n\nEggplant \n\n\n\nMcCutcheon’s jarred goods and baking mixes \n\n\n\n\n\n\n\n\n\n“We are so excited and grateful for the opportunity to bring our farm market to The PARC this year! To us\, nothing is better than bringing a little bit of the country to the city and offering the community the very best quality\, locally grown produce and agricultural goods. We thrive on building new relationships with our neighbors and creating ever-lasting friendships by merging the gap between farmer and consumer. We look forward to a great season ahead!” Casey & Jack LatimerOwners\, Potomac Farm Market
URL:https://celebratefairfax.org/event/farm-market-3/2023-08-17/
LOCATION:United States
ATTACH;FMTTYPE=image/avif:https://celebratefairfax.org/wp-content/uploads/2023/07/farmers-market-in-urban-setting.avif
END:VEVENT
BEGIN:VEVENT
DTSTART;TZID=UTC:20230824T160000
DTEND;TZID=UTC:20230824T230000
DTSTAMP:20260425T111933
CREATED:20230728T150530Z
LAST-MODIFIED:20230728T150530Z
UID:10000958-1692892800-1692918000@celebratefairfax.org
SUMMARY:Farm Market
DESCRIPTION:New @The PARC! Potomac Farm Market and Celebrate Fairfax are working in partnership to bring the farm to you Thursdays from 12pm-7pm from July 27th through October 19th. The front patio at The PARC will be bursting with locally sourced produce and agricultural goods!  \n\n\n\nThe market will be held rain or shine at 8508 Leesburg Pike. Free onsite parking or take metro via the Spring Hill station.  Hope to see you there! \n\n\n\n\n\n\n\n2023 Summer offerings from local farmers include:\n\n\n\n\n\n\n\n\n\nZinnias and Sunflowers \n\n\n\nTomatoes; multiple varieties of red\, heirloom and cherries \n\n\n\nPeaches\, Nectarines & Plums \n\n\n\nSweet Corn \n\n\n\nLocal Honey \n\n\n\n\n\n\n\n\n\nLeafy Greens \n\n\n\nCucumbers\, Pickling Cucumbers \n\n\n\nWatermelons; seedless\, seeded\, Sugar Baby\, Buttercup & more! \n\n\n\nCantaloupes\, Canary melons \n\n\n\nBlueberries & Blackberries \n\n\n\n\n\n\n\n\n\nSummer Squash and Zucchini \n\n\n\nOnions \n\n\n\nBell Peppers\, Jalapenos\, Habaneros \n\n\n\nEggplant \n\n\n\nMcCutcheon’s jarred goods and baking mixes \n\n\n\n\n\n\n\n\n\n“We are so excited and grateful for the opportunity to bring our farm market to The PARC this year! To us\, nothing is better than bringing a little bit of the country to the city and offering the community the very best quality\, locally grown produce and agricultural goods. We thrive on building new relationships with our neighbors and creating ever-lasting friendships by merging the gap between farmer and consumer. We look forward to a great season ahead!” Casey & Jack LatimerOwners\, Potomac Farm Market
URL:https://celebratefairfax.org/event/farm-market-3/2023-08-24/
LOCATION:United States
ATTACH;FMTTYPE=image/avif:https://celebratefairfax.org/wp-content/uploads/2023/07/farmers-market-in-urban-setting.avif
END:VEVENT
BEGIN:VEVENT
DTSTART;TZID=UTC:20230831T160000
DTEND;TZID=UTC:20230831T230000
DTSTAMP:20260425T111933
CREATED:20230728T150530Z
LAST-MODIFIED:20230728T150530Z
UID:10000959-1693497600-1693522800@celebratefairfax.org
SUMMARY:Farm Market
DESCRIPTION:New @The PARC! Potomac Farm Market and Celebrate Fairfax are working in partnership to bring the farm to you Thursdays from 12pm-7pm from July 27th through October 19th. The front patio at The PARC will be bursting with locally sourced produce and agricultural goods!  \n\n\n\nThe market will be held rain or shine at 8508 Leesburg Pike. Free onsite parking or take metro via the Spring Hill station.  Hope to see you there! \n\n\n\n\n\n\n\n2023 Summer offerings from local farmers include:\n\n\n\n\n\n\n\n\n\nZinnias and Sunflowers \n\n\n\nTomatoes; multiple varieties of red\, heirloom and cherries \n\n\n\nPeaches\, Nectarines & Plums \n\n\n\nSweet Corn \n\n\n\nLocal Honey \n\n\n\n\n\n\n\n\n\nLeafy Greens \n\n\n\nCucumbers\, Pickling Cucumbers \n\n\n\nWatermelons; seedless\, seeded\, Sugar Baby\, Buttercup & more! \n\n\n\nCantaloupes\, Canary melons \n\n\n\nBlueberries & Blackberries \n\n\n\n\n\n\n\n\n\nSummer Squash and Zucchini \n\n\n\nOnions \n\n\n\nBell Peppers\, Jalapenos\, Habaneros \n\n\n\nEggplant \n\n\n\nMcCutcheon’s jarred goods and baking mixes \n\n\n\n\n\n\n\n\n\n“We are so excited and grateful for the opportunity to bring our farm market to The PARC this year! To us\, nothing is better than bringing a little bit of the country to the city and offering the community the very best quality\, locally grown produce and agricultural goods. We thrive on building new relationships with our neighbors and creating ever-lasting friendships by merging the gap between farmer and consumer. We look forward to a great season ahead!” Casey & Jack LatimerOwners\, Potomac Farm Market
URL:https://celebratefairfax.org/event/farm-market-3/2023-08-31/
LOCATION:United States
ATTACH;FMTTYPE=image/avif:https://celebratefairfax.org/wp-content/uploads/2023/07/farmers-market-in-urban-setting.avif
END:VEVENT
END:VCALENDAR