BEGIN:VCALENDAR
VERSION:2.0
PRODID:-//Celebrate Fairfax - ECPv6.15.20//NONSGML v1.0//EN
CALSCALE:GREGORIAN
METHOD:PUBLISH
X-WR-CALNAME:Celebrate Fairfax
X-ORIGINAL-URL:https://celebratefairfax.org
X-WR-CALDESC:Events for Celebrate Fairfax
REFRESH-INTERVAL;VALUE=DURATION:PT1H
X-Robots-Tag:noindex
X-PUBLISHED-TTL:PT1H
BEGIN:VTIMEZONE
TZID:UTC
BEGIN:STANDARD
TZOFFSETFROM:+0000
TZOFFSETTO:+0000
TZNAME:UTC
DTSTART:20220101T000000
END:STANDARD
END:VTIMEZONE
BEGIN:VEVENT
DTSTART;TZID=UTC:20230120T230000
DTEND;TZID=UTC:20230121T003000
DTSTAMP:20260421T155746
CREATED:20230106T151803Z
LAST-MODIFIED:20230106T151803Z
UID:10000946-1674255600-1674261000@celebratefairfax.org
SUMMARY:Chairman McKay's New Year Reception 2023
DESCRIPTION:Fairfax County Board of Supervisors Chairman Jeff McKay invites you to celebrate the New Year at the Fairfax County Government Center in the atrium as a special “thank you” to the community. Come enjoy friends\, food and a great evening featuring a performance from the Woodson High School Orchestra. \n\n\n\nWe will also be collecting donations on behalf of the Fairfax County Animal Shelter at the reception. Please click here for a list of items the shelter can accept. You can also send items directly to the shelter using the link. \n\n\n\nPlease register here.
URL:https://celebratefairfax.org/event/chairman-mckays-new-year-reception-2023-2/
LOCATION:United States
ATTACH;FMTTYPE=image/png:https://celebratefairfax.org/wp-content/uploads/2023/01/McKay-NY-Reception.avif
END:VEVENT
END:VCALENDAR