BEGIN:VCALENDAR
VERSION:2.0
PRODID:-//Celebrate Fairfax - ECPv6.15.20//NONSGML v1.0//EN
CALSCALE:GREGORIAN
METHOD:PUBLISH
X-WR-CALNAME:Celebrate Fairfax
X-ORIGINAL-URL:https://celebratefairfax.org
X-WR-CALDESC:Events for Celebrate Fairfax
REFRESH-INTERVAL;VALUE=DURATION:PT1H
X-Robots-Tag:noindex
X-PUBLISHED-TTL:PT1H
BEGIN:VTIMEZONE
TZID:UTC
BEGIN:STANDARD
TZOFFSETFROM:+0000
TZOFFSETTO:+0000
TZNAME:UTC
DTSTART:20210101T000000
END:STANDARD
END:VTIMEZONE
BEGIN:VEVENT
DTSTART;TZID=UTC:20221203T170000
DTEND;TZID=UTC:20221203T220000
DTSTAMP:20260420T161158
CREATED:20220807T165100Z
LAST-MODIFIED:20220807T165100Z
UID:10000934-1670086800-1670104800@celebratefairfax.org
SUMMARY:Winter Market
DESCRIPTION:The first of three weekends of Saturday Winter Markets! Spend your afternoon in our cozy and warm indoor winter wonderland. \nThe Winter Market is an expanded series of our popular year round monthly Shop Local Market\, combined with a sleigh-full of of festive activities to enjoy with your friends\, family\, neighbors and coworkers! \nToday’s featured festivities: \n\nThe local nonprofit organization Kids Give Back  host a free craft station “Snowman Soup”. The craft will be donated to a local food bank\n\nToday’s scheduled local makers\, bakers\, crafters\, artisan and entrepreneurs: \n  \n\n\n\n\n\n\nAll American Vegan \n\n\n\nAna’s Twist * \n\n\n\nArty Trails \n\n\n\nBrighter Days \n\n\n\nCJR Unike \n\n\n\nClaudia Alvarez Jewelry \n\n\n\nCooking Live \n\n\n\n\n\nCrochet Designs by Toni \n\n\n\nDivine Healing \n\n\n\nGifts by Nature \n\n\n\nInner Loop Coffee Roasters \n\n\n\nJelly Roll Soul Fine Pastries \n\n\n\nJNRG Healing Co \n\n\n\nKafe 1804 \n\n\n\nLittle Orange Cafe \n\n\n\n\n\nMadison Ghent \n\n\n\nCR C Candle Co/Skincare \n\n\n\nNoonday Collection \n\n\n\nNoumena Products \n\n\n\nThe Magic Art Bus \n\n\n\nTrupti’s Craft \n\n\n\nWalking Wind Farm & Florist \n\n\n\n\n\n\n\n\n\n\n\n\n\n\n\n\n\n-scheduled to appear as of 11/25/2022. Products are sample offerings from vendors and may not be for this at market. \n\n\n\n*Made in Fairfax vendor \n\n\n\nCome back for your new and old favorite vendors at the next Winter Market! Check out our vendor lineup by date here: Friday\, 12/9; Saturday\, 12/10; Friday 12/16\, Saturday\, 12/17 \n\n\n\n 
URL:https://celebratefairfax.org/event/shop-local-market-2-2022-12-04-2/
LOCATION:United States
CATEGORIES:Providence District
ATTACH;FMTTYPE=image/avif:https://celebratefairfax.org/wp-content/uploads/2022/12/winter-market-and-seasonal-festivities-69d992664de50.avif
END:VEVENT
BEGIN:VEVENT
DTSTART;TZID=UTC:20221209T213000
DTEND;TZID=UTC:20221210T010000
DTSTAMP:20260420T161158
CREATED:20220807T165100Z
LAST-MODIFIED:20220807T165100Z
UID:10000014-1670621400-1670634000@celebratefairfax.org
SUMMARY:Winter Market
DESCRIPTION:Our second of three weekends of Winter Market at The PARC at Tysons! Head over to this FREE event with FREE parking (or hop on the metro to the Spring Hill station) and enjoy our cozy and warm indoor winter wonderland. \n  \n\n\n\n\nToday’s featured festivities: \n\n\n\n\nA visit from Santa\n\n\n\nGift wrapping station from Zonta Club of Fairfax (donations accepted)\n\n\n\nDonation drive: bring nonperishable food items\, diapers\, and feminine products to benefit Domestic Violence Action Center\n\n\n\n\nSee additional activities for Saturday\, 12/10; Friday 12/16\, Saturday\, 12/17 \n\n\n\n\n\n\n\nToday’s scheduled line-up of local makers\, bakers\, crafters\, and entrepreneurs: \n\n\n\n\n\nAna’s Twist * \n\n\n\nButterflies Bakeshop \n\n\n\nJ’aime Madeleine \n\n\n\nDee-Lightfully Soft \n\n\n\n\n\nDivine Healing LLC \n\n\n\nGifts Created by Nature \n\n\n\nJelly Roll Soul Fine Pastries \n\n\n\nKaren Porciello \n\n\n\n\n\nMAX’S MIXTURES CANDLES & SOAPS \n\n\n\nMertensia \n\n\n\nMy Empanadas \n\n\n\nStix and Stones \n\n\n\n\n\n\n\n\n\n[Best_Wordpress_Gallery id=”73″ gal_title=”Winter Market 12_9″]\n\n\n\n\n\n\n\n-scheduled to appear as of 11/25/2022. Products are sample offerings from vendors and may not be for this at market. \n\n\n\n*Made in Fairfax vendor \n\n\n\nCome back for your new and old favorite vendors at the next Winter Market! Check out our vendor lineup by date here: Saturday\, 12/10; Friday 12/16\, Saturday\, 12/17
URL:https://celebratefairfax.org/event/shop-local-market-2-2022-12-11/
LOCATION:United States
CATEGORIES:Providence District
ATTACH;FMTTYPE=image/avif:https://celebratefairfax.org/wp-content/uploads/2022/11/winter-market-and-seasonal-festivities-69da4a454c261.avif
END:VEVENT
BEGIN:VEVENT
DTSTART;TZID=UTC:20221210T170000
DTEND;TZID=UTC:20221210T220000
DTSTAMP:20260420T161158
CREATED:20220807T165100Z
LAST-MODIFIED:20220807T165100Z
UID:10000013-1670691600-1670709600@celebratefairfax.org
SUMMARY:Winter Market
DESCRIPTION:Tonight is the second of three weekends of our special Winter edition of the Shop Local Market! The perfect ending to your work day- skip the commute and drive over to spend some time in our cozy and warm winter wonderland. \n\n\n\nNo cost or registration to attend\, vendor products have a cost. The Winter Market is an expanded series of our popular year round monthly Shop Local Market\, combined with a sleigh-full of of festive activities to enjoy with your friends\, family\, neighbors and coworkers! \n\n\n\n\n\n\n\nToday’s scheduled festivities: \n\n\n\n\nFrost Queen and her Princess Sister from your favorite icy movie are here!\n\n\n\nGift wrapping station from Zonta Club of Fairfax (donations accepted)\n\n\n\nDonation drive: bring nonperishable food items\, diapers\, and feminine products to benefit Domestic Violence Action Center\n\n\n\nCommunity Stage\n\n\n\nMercyTimes SuperCar Club (outdoors\, weather dependent)\n\n\n\n\nCome again for additional festivities at these Winter Markets! Check out the lineup by date here:  Saturday\, 12/10; Friday 12/16\, Saturday\, 12/17 \n\n\n\n\n\n\n\nToday’s scheduled local local makers\, bakers\, crafters\, artisans and entrepreneurs: \n\n\n\n\n\nAna’s Twist * \n\n\n\nBrighter Days \n\n\n\nButterflies Bakeshop \n\n\n\nCJR Unike \n\n\n\nClaudia Alvarez Jewelry \n\n\n\nJ’aime Madeleine \n\n\n\nDiving Healing LLC \n\n\n\n\n\nInner Loop Coffee Roasters * \n\n\n\nJelly Roll Soul Fine Pastries * \n\n\n\nKaren Porciello \n\n\n\nLots of Love \n\n\n\nLoza Pastry \n\n\n\nMama Spice \n\n\n\nMAX’S MIXTURES CANDLES & SCENTS \n\n\n\n\n\nMy Empanadas \n\n\n\nNaturally Ashton \n\n\n\nNoumena Products \n\n\n\nSarah’s Jamz N Jellies * \n\n\n\nStix and Stones \n\n\n\nThe Magic Art Bus \n\n\n\n\n\n\n\n\n\n\n\n\n\n\n\n\n\nscheduled to appear as of 11/25/2022. Products are sample offerings from vendors and may not be for this at market. \n\n\n\n*Made in Fairfax vendor \n\n\n\nCome back for your new and old favorite vendors at the next weekend for the last Winter Markets of 2022! Friday 12/16\, Saturday\, 12/17
URL:https://celebratefairfax.org/event/shop-local-market-2-2022-12-10/
LOCATION:United States
CATEGORIES:Providence District
ATTACH;FMTTYPE=image/avif:https://celebratefairfax.org/wp-content/uploads/2022/12/winter-market-seasonal-festivities.avif
END:VEVENT
BEGIN:VEVENT
DTSTART;TZID=UTC:20221216T213000
DTEND;TZID=UTC:20221217T010000
DTSTAMP:20260420T161158
CREATED:20220807T165100Z
LAST-MODIFIED:20220807T165100Z
UID:10000017-1671226200-1671238800@celebratefairfax.org
SUMMARY:Winter Market
DESCRIPTION:Don’t miss our last weekend of 2022 Winter Markets! Enjoy our cozy and warm winter wonderland- no cost or registration to attend (vendor products have a cost). The Winter Market is an expanded series of our popular year round monthly Shop Local Market\, combined with a sleigh-full of of festive activities to enjoy with your friends\, family\, neighbors and coworkers! \n\n\n\nToday’s scheduled festivities: \n\n\n\n\nSanta is here!\n\n\n\nIceless ice skating rink\n\n\n\nSchool of Rock Vienna performances on the community stage\n\n\n\n\nCome back tomorrow for more great festivities!  \n\n\n\n\n\n\n\nToday’s scheduled line-up of local makers\, bakers\, crafters\, and entrepreneurs: \n\n\n\n\n\nAna’s Twist * \n\n\n\nButterflies Bakeshop \n\n\n\nDee-Lightfully Soft \n\n\n\nDivine Healing LLC \n\n\n\n\n\nHeidi Pix \n\n\n\nJelly Roll Soul Fine Pastries \n\n\n\nKaren Porciello \n\n\n\nLittle Orange Cafe \n\n\n\n\n\nMadison Ghent \n\n\n\nMertensia \n\n\n\nMR. C Candle Co/Skincare \n\n\n\nStix and Stones \n\n\n\n\n\nT \n\n\n\n\n\n\n\n[Best_Wordpress_Gallery id=”81″ gal_title=”Winter Market 12_16″]\n\n\n\n\n\n\n\n-scheduled to appear as of 11/25/2022. Products are sample offerings from vendors and may not be for this at market. \n\n\n\n*Made in Fairfax vendor \n\n\n\nCome back tomorrow for these vendors!
URL:https://celebratefairfax.org/event/shop-local-market-2-2022-12-11-2022-12-16/
LOCATION:United States
CATEGORIES:Providence District
ATTACH;FMTTYPE=image/avif:https://celebratefairfax.org/wp-content/uploads/2022/11/winter-market-and-seasonal-festivities-69d979c1517ec.avif
END:VEVENT
BEGIN:VEVENT
DTSTART;TZID=UTC:20221217T170000
DTEND;TZID=UTC:20221217T220000
DTSTAMP:20260420T161158
CREATED:20220807T165100Z
LAST-MODIFIED:20220807T165100Z
UID:10000015-1671296400-1671314400@celebratefairfax.org
SUMMARY:Winter Market
DESCRIPTION:Don’t miss our last winter market for this season! Enjoy our cozy and warm winter wonderland- no cost or registration to attend (vendor products have a cost). The Winter Market is an expanded series of our popular year round monthly Shop Local Market\, combined with a sleigh-full of festive activities for all ages. Tell you friends\, family\, neighbors and coworkers to meet you at the market! \n\n\n\nToday’s scheduled festivities: \n\n\n\n\nFrost Queen and her Princess sister (from your favorite icy movie) are here!\n\n\n\nIceless ice skating rink\n\n\n\nCommunity stage performances featuring Shaun’s String Studio & Bach 2 Rock\n\n\n\nGift wrapping station hosted by Girls on the Run Northern Virginia (donations accepted)\n\n\n\n\n\n\n\n\nToday’s scheduled line-up of all-local makers\, crafters and entrepreneurs: \n\n\n\n\n\n1938 EVOO/ Amore Trade \n\n\n\nAll That Yazz \n\n\n\nAna’s Twist \n\n\n\nAnneMadeStudio \n\n\n\nBeedzxprss \n\n\n\nBrighter Days \n\n\n\nCJR Unike \n\n\n\nClaudia Alvarez Jewelry \n\n\n\nFinca \n\n\n\nInner Loop Coffee Roasters \n\n\n\nJ \n\n\n\n\n\nJelly Roll Soul Fine Pastries \n\n\n\nJewelry You Love \n\n\n\nLB’s Desserts \n\n\n\nLilly and Sparrow Clay \n\n\n\nKafe 1804 \n\n\n\nKaren Porciello \n\n\n\nLancaster Crochet Co \n\n\n\nLittle Orange Cafe \n\n\n\nLots of Love \n\n\n\nLoza Pastry \n\n\n\n\n\nMadison Ghent \n\n\n\nMR. C Candle Co./Skincare \n\n\n\nMystic Lines \n\n\n\nNaturally Ashton 31 \n\n\n\nNoumena Products \n\n\n\nPriti’s Cute & Cozy Crocher \n\n\n\nSarah’s Jamz N Jellies \n\n\n\nThe Magic Art Bus \n\n\n\n\n\n\n\n\n\n[Best_Wordpress_Gallery id=”80″ gal_title=”Winter Market 12_17″]\n\n\n\n\n\n\n\n-scheduled to appear as of 11/25/2022. Products are sample offerings from vendors and may not be for this at market. \n\n\n\n*Made in Fairfax vendor
URL:https://celebratefairfax.org/event/shop-local-market-2-2022-12-10-2022-12-17/
LOCATION:United States
CATEGORIES:Providence District
ATTACH;FMTTYPE=image/avif:https://celebratefairfax.org/wp-content/uploads/2022/11/winter-market-and-seasonal-festivities-69d979c1517ec.avif
END:VEVENT
END:VCALENDAR