BEGIN:VCALENDAR
VERSION:2.0
PRODID:-//Celebrate Fairfax - ECPv6.15.20//NONSGML v1.0//EN
CALSCALE:GREGORIAN
METHOD:PUBLISH
X-ORIGINAL-URL:https://celebratefairfax.org
X-WR-CALDESC:Events for Celebrate Fairfax
REFRESH-INTERVAL;VALUE=DURATION:PT1H
X-Robots-Tag:noindex
X-PUBLISHED-TTL:PT1H
BEGIN:VTIMEZONE
TZID:UTC
BEGIN:STANDARD
TZOFFSETFROM:+0000
TZOFFSETTO:+0000
TZNAME:UTC
DTSTART:20210101T000000
END:STANDARD
END:VTIMEZONE
BEGIN:VEVENT
DTSTART;TZID=UTC:20221018T210000
DTEND;TZID=UTC:20221018T220000
DTSTAMP:20260422T172858
CREATED:20221006T125902Z
LAST-MODIFIED:20221006T125902Z
UID:10000018-1666126800-1666130400@celebratefairfax.org
SUMMARY:Salute to Lord and Lady Fairfax
DESCRIPTION:The tradition of honoring Lord and Lady Fairfax began in 1984 as a way to recognize the outstanding citizens of Fairfax County. \nEach year\, the Fairfax County Board of Supervisors selects two individuals from each district who have demonstrated exceptional volunteer service\, heroism\, or other special accomplishments to receive the award.
URL:https://celebratefairfax.org/event/salute-to-lord-and-lady-fairfax/
LOCATION:United States
ATTACH;FMTTYPE=image/png:https://celebratefairfax.org/wp-content/uploads/2022/10/2022-SALUTE-Website.avif
END:VEVENT
BEGIN:VEVENT
DTSTART;TZID=UTC:20221018T210000
DTEND;TZID=UTC:20221018T220000
DTSTAMP:20260422T172858
CREATED:20221006T125902Z
LAST-MODIFIED:20221006T125902Z
UID:10000942-1666126800-1666130400@celebratefairfax.org
SUMMARY:Salute to Lord and Lady Fairfax
DESCRIPTION:The tradition of honoring Lord and Lady Fairfax began in 1984 as a way to recognize the outstanding citizens of Fairfax County. \nEach year\, the Fairfax County Board of Supervisors selects two individuals from each district who have demonstrated exceptional volunteer service\, heroism\, or other special accomplishments to receive the award.
URL:https://celebratefairfax.org/event/salute-to-lord-and-lady-fairfax-2/
LOCATION:United States
ATTACH;FMTTYPE=image/png:https://celebratefairfax.org/wp-content/uploads/2022/10/2022-SALUTE-Website.avif
END:VEVENT
BEGIN:VEVENT
DTSTART;TZID=UTC:20221022T114500
DTEND;TZID=UTC:20221022T173000
DTSTAMP:20260422T172858
CREATED:20220807T164850Z
LAST-MODIFIED:20220807T164850Z
UID:10000006-1666439100-1666459800@celebratefairfax.org
SUMMARY:Tour de Mt Vernon
DESCRIPTION:The Tour de Mount Vernon brings cyclists on a fun ride through the northern and central portions of the Mount Vernon District including a scenic route through Fort Belvoir. The route consists of paved roads\, paved trails and has several challenging sections. Ride monitors and Fairfax County Police help with directions and keep everyone safe.
URL:https://celebratefairfax.org/event/tour-de-mt-vernon/
LOCATION:United States
CATEGORIES:Mount Vernon District
ATTACH;FMTTYPE=image/png:https://celebratefairfax.org/wp-content/uploads/2022/09/Hunter-Mill-Lets-Go-Expo-Social-1.avif
END:VEVENT
BEGIN:VEVENT
DTSTART;TZID=UTC:20221022T160000
DTEND;TZID=UTC:20221022T210000
DTSTAMP:20260422T172858
CREATED:20220928T110245Z
LAST-MODIFIED:20220928T110245Z
UID:10000016-1666454400-1666472400@celebratefairfax.org
SUMMARY:Shop Local Market
DESCRIPTION:Looking for a fun new way to shop local? Join us at a special Made in Fairfax Shop Local Market this Saturday!\nIf the maker\, crafter\, and artisan booths are your favorite part of a farmer’s market\, then the Shop Local Saturday Market is for you! We have makers\, crafters\, artisans\, and bakers from all over Fairfax County and the greater DMV to sell their unique goods at our one-of-a-kind indoor makers market!\n\nAll of our vendors are locally owned small businesses who are looking to share their talent with you! From gourmet chocolates and ice cream to jewelry\, home décor\, art\, beauty products and more- come on out and see what you find local Market this Saturday!\n\nDon’t miss these vendors:\nArty Trails\nCJR Unike\nCrochet Designs by Toni\nDivine Healing\nFinca\n*Jake’s Ice Cream\nJewelry You Love\n*KTech\nLauren Kristen Roberts\, Author\nLB’s Desserts\nLee Strawberry\nMaison Noir Chocolatier\nMax’s Mixtures Candles & Soap\nNoumena Products\nSarah’s Jamz n Jellies\n*Shea THAT Again!\nStix and Stones\nSustainably DMarie\n\n\n* Made in Fairfax vendor
URL:https://celebratefairfax.org/event/shop-local-market-4/
LOCATION:United States
CATEGORIES:Providence District,Town of Vienna
END:VEVENT
BEGIN:VEVENT
DTSTART;TZID=UTC:20221022T170000
DTEND;TZID=UTC:20221022T200000
DTSTAMP:20260422T172858
CREATED:20220906T152351Z
LAST-MODIFIED:20220906T152351Z
UID:10000011-1666458000-1666468800@celebratefairfax.org
SUMMARY:Let's Go Expo
DESCRIPTION:Get ready to celebrate multimodal transportation at the first-ever Let’s Go Expo! Celebrating transportation of all kinds\, we are sure this event will be fun for the whole family!\nJoin Hunter Mill District Supervisor Alcorn and Celebrate Fairfax for a day full of activities focused on the creative ways to get around Fairfax County using bike trails\, walking paths\, bus system\, metro\, and other multimodal ways. There will also be face painting\, balloon twisting\, interactive safety demos\, child IDs\, giveaways\, games\, and so much more! The event is free\, but don’t forget your money for the food trucks: Kona Ice and El Chef Latino. \nEVENT HIGHLIGHTS:\n\nHop on a Connector Bus and get information on fares\, student passes and routes\nReston police will offer FREE Bike helmet checks (kids and adults) so bring your helmets\nTry out a Capital Bike Share bike – and get coupons for free rides\nCheck out FASTRAN\, a county service that provides specialized transportation\nLearn about Silver Line Phase 2 and play interactive games\nCommunity Art Wall\nMusical performances by Vienna School of Rock\nClimb on & Explore: Fire Trucks\, Snowplow\, Buses\, Police Cars and\n\nLET’S GO:\nIf you are coming by car from Bowman Town Dr: \n\n\n\n\n\nTurn onto Cameron Glen Drive (you can follow signs for North County Government Center NCGC)\nThe NCGC/Reston Police Station on the left\nContinue around the side of the building\nTake the second right\nThe event will be in the parking lot on your left- in front of the North County Human Services Building\nTo park – continue past the event to the lot on the right\n\n\n\n\n\nIf you are coming by car from Town Center Parkway: \n\n\n\n\n\n\n\nTurn onto Cameron Glen Drive\nTake first left (NCGC/Reston Police Station is on the right)\nThe event will be in the parking lot on your left- in front of the North County Human Services Building\nTo park – continue past the event to the lot on the right\n\n\n\n\n\n\n\n \ndescargar PDF: Este Sabado \n  \n  \n 
URL:https://celebratefairfax.org/event/lets-go-expo/
LOCATION:United States
CATEGORIES:Hunter Mill District
ATTACH;FMTTYPE=:
END:VEVENT
BEGIN:VEVENT
DTSTART;TZID=UTC:20221022T170000
DTEND;TZID=UTC:20221022T200000
DTSTAMP:20260422T172858
CREATED:20220906T152351Z
LAST-MODIFIED:20220906T152351Z
UID:10000935-1666458000-1666468800@celebratefairfax.org
SUMMARY:Let's Go Expo
DESCRIPTION:Get ready to celebrate multimodal transportation at the first-ever Let’s Go Expo! Celebrating transportation of all kinds\, we are sure this event will be fun for the whole family!\nJoin Hunter Mill District Supervisor Alcorn and Celebrate Fairfax for a day full of activities focused on the creative ways to get around Fairfax County using bike trails\, walking paths\, bus system\, metro\, and other multimodal ways. There will also be face painting\, balloon twisting\, interactive safety demos\, child IDs\, giveaways\, games\, and so much more! The event is free\, but don’t forget your money for the food trucks: Kona Ice and El Chef Latino. \nEVENT HIGHLIGHTS:\n\nHop on a Connector Bus and get information on fares\, student passes and routes\nReston police will offer FREE Bike helmet checks (kids and adults) so bring your helmets\nTry out a Capital Bike Share bike – and get coupons for free rides\nCheck out FASTRAN\, a county service that provides specialized transportation\nLearn about Silver Line Phase 2 and play interactive games\nCommunity Art Wall\nMusical performances by Vienna School of Rock\nClimb on & Explore: Fire Trucks\, Snowplow\, Buses\, Police Cars and\n\nLET’S GO:\nIf you are coming by car from Bowman Town Dr: \n\n\n\n\n\nTurn onto Cameron Glen Drive (you can follow signs for North County Government Center NCGC)\nThe NCGC/Reston Police Station on the left\nContinue around the side of the building\nTake the second right\nThe event will be in the parking lot on your left- in front of the North County Human Services Building\nTo park – continue past the event to the lot on the right\n\n\n\n\n\nIf you are coming by car from Town Center Parkway: \n\n\n\n\n\n\n\nTurn onto Cameron Glen Drive\nTake first left (NCGC/Reston Police Station is on the right)\nThe event will be in the parking lot on your left- in front of the North County Human Services Building\nTo park – continue past the event to the lot on the right\n\n\n\n\n\n\n\n \ndescargar PDF: Este Sabado \n  \n  \n 
URL:https://celebratefairfax.org/event/lets-go-expo-2/
LOCATION:United States
CATEGORIES:Hunter Mill District
ATTACH;FMTTYPE=:
END:VEVENT
BEGIN:VEVENT
DTSTART;TZID=UTC:20221031T200000
DTEND;TZID=UTC:20221031T230000
DTSTAMP:20260422T172858
CREATED:20221006T145007Z
LAST-MODIFIED:20221006T145007Z
UID:10000019-1667246400-1667257200@celebratefairfax.org
SUMMARY:Halloween at the PARC
DESCRIPTION:
URL:https://celebratefairfax.org/event/halloween-at-the-parc/
LOCATION:United States
CATEGORIES:Providence District
ATTACH;FMTTYPE=image/png:https://celebratefairfax.org/wp-content/uploads/2022/10/PARC22-Halloween.avif
END:VEVENT
END:VCALENDAR