BEGIN:VCALENDAR
VERSION:2.0
PRODID:-//Celebrate Fairfax - ECPv6.15.20//NONSGML v1.0//EN
CALSCALE:GREGORIAN
METHOD:PUBLISH
X-WR-CALNAME:Celebrate Fairfax
X-ORIGINAL-URL:https://celebratefairfax.org
X-WR-CALDESC:Events for Celebrate Fairfax
REFRESH-INTERVAL;VALUE=DURATION:PT1H
X-Robots-Tag:noindex
X-PUBLISHED-TTL:PT1H
BEGIN:VTIMEZONE
TZID:UTC
BEGIN:STANDARD
TZOFFSETFROM:+0000
TZOFFSETTO:+0000
TZNAME:UTC
DTSTART:20260101T000000
END:STANDARD
END:VTIMEZONE
BEGIN:VEVENT
DTSTART;TZID=UTC:20270228T140000
DTEND;TZID=UTC:20270228T190000
DTSTAMP:20260420T162807
CREATED:20250429T195858Z
LAST-MODIFIED:20250429T195858Z
UID:10001515-1803823200-1803841200@celebratefairfax.org
SUMMARY:Mosaic District Market
DESCRIPTION:
URL:https://celebratefairfax.org/event/mosaic-district-market-2/2027-02-28/
LOCATION:United States
CATEGORIES:Farmer's Markets Guide
ATTACH;FMTTYPE=image/avif:https://celebratefairfax.org/wp-content/uploads/2025/04/fresh-produce-display.avif
END:VEVENT
BEGIN:VEVENT
DTSTART;TZID=UTC:20270307T140000
DTEND;TZID=UTC:20270307T190000
DTSTAMP:20260420T162807
CREATED:20250429T195858Z
LAST-MODIFIED:20250429T195858Z
UID:10001516-1804428000-1804446000@celebratefairfax.org
SUMMARY:Mosaic District Market
DESCRIPTION:
URL:https://celebratefairfax.org/event/mosaic-district-market-2/2027-03-07/
LOCATION:United States
CATEGORIES:Farmer's Markets Guide
ATTACH;FMTTYPE=image/avif:https://celebratefairfax.org/wp-content/uploads/2025/04/fresh-produce-display.avif
END:VEVENT
BEGIN:VEVENT
DTSTART;TZID=UTC:20270314T130000
DTEND;TZID=UTC:20270314T180000
DTSTAMP:20260420T162807
CREATED:20250429T195858Z
LAST-MODIFIED:20250429T195858Z
UID:10001517-1805029200-1805047200@celebratefairfax.org
SUMMARY:Mosaic District Market
DESCRIPTION:
URL:https://celebratefairfax.org/event/mosaic-district-market-2/2027-03-14/
LOCATION:United States
CATEGORIES:Farmer's Markets Guide
ATTACH;FMTTYPE=image/avif:https://celebratefairfax.org/wp-content/uploads/2025/04/fresh-produce-display.avif
END:VEVENT
BEGIN:VEVENT
DTSTART;TZID=UTC:20270321T130000
DTEND;TZID=UTC:20270321T180000
DTSTAMP:20260420T162807
CREATED:20250429T195858Z
LAST-MODIFIED:20250429T195858Z
UID:10001518-1805634000-1805652000@celebratefairfax.org
SUMMARY:Mosaic District Market
DESCRIPTION:
URL:https://celebratefairfax.org/event/mosaic-district-market-2/2027-03-21/
LOCATION:United States
CATEGORIES:Farmer's Markets Guide
ATTACH;FMTTYPE=image/avif:https://celebratefairfax.org/wp-content/uploads/2025/04/fresh-produce-display.avif
END:VEVENT
BEGIN:VEVENT
DTSTART;TZID=UTC:20270328T130000
DTEND;TZID=UTC:20270328T180000
DTSTAMP:20260420T162807
CREATED:20250429T195858Z
LAST-MODIFIED:20250429T195858Z
UID:10001519-1806238800-1806256800@celebratefairfax.org
SUMMARY:Mosaic District Market
DESCRIPTION:
URL:https://celebratefairfax.org/event/mosaic-district-market-2/2027-03-28/
LOCATION:United States
CATEGORIES:Farmer's Markets Guide
ATTACH;FMTTYPE=image/avif:https://celebratefairfax.org/wp-content/uploads/2025/04/fresh-produce-display.avif
END:VEVENT
BEGIN:VEVENT
DTSTART;TZID=UTC:20270404T130000
DTEND;TZID=UTC:20270404T180000
DTSTAMP:20260420T162807
CREATED:20250429T195858Z
LAST-MODIFIED:20250429T195858Z
UID:10001520-1806843600-1806861600@celebratefairfax.org
SUMMARY:Mosaic District Market
DESCRIPTION:
URL:https://celebratefairfax.org/event/mosaic-district-market-2/2027-04-04/
LOCATION:United States
CATEGORIES:Farmer's Markets Guide
ATTACH;FMTTYPE=image/avif:https://celebratefairfax.org/wp-content/uploads/2025/04/fresh-produce-display.avif
END:VEVENT
BEGIN:VEVENT
DTSTART;TZID=UTC:20270411T130000
DTEND;TZID=UTC:20270411T180000
DTSTAMP:20260420T162807
CREATED:20250429T195858Z
LAST-MODIFIED:20250429T195858Z
UID:10001521-1807448400-1807466400@celebratefairfax.org
SUMMARY:Mosaic District Market
DESCRIPTION:
URL:https://celebratefairfax.org/event/mosaic-district-market-2/2027-04-11/
LOCATION:United States
CATEGORIES:Farmer's Markets Guide
ATTACH;FMTTYPE=image/avif:https://celebratefairfax.org/wp-content/uploads/2025/04/fresh-produce-display.avif
END:VEVENT
BEGIN:VEVENT
DTSTART;TZID=UTC:20270418T130000
DTEND;TZID=UTC:20270418T180000
DTSTAMP:20260420T162807
CREATED:20250429T195858Z
LAST-MODIFIED:20250429T195858Z
UID:10001522-1808053200-1808071200@celebratefairfax.org
SUMMARY:Mosaic District Market
DESCRIPTION:
URL:https://celebratefairfax.org/event/mosaic-district-market-2/2027-04-18/
LOCATION:United States
CATEGORIES:Farmer's Markets Guide
ATTACH;FMTTYPE=image/avif:https://celebratefairfax.org/wp-content/uploads/2025/04/fresh-produce-display.avif
END:VEVENT
BEGIN:VEVENT
DTSTART;TZID=UTC:20270425T130000
DTEND;TZID=UTC:20270425T180000
DTSTAMP:20260420T162808
CREATED:20250429T195858Z
LAST-MODIFIED:20250429T195858Z
UID:10001523-1808658000-1808676000@celebratefairfax.org
SUMMARY:Mosaic District Market
DESCRIPTION:
URL:https://celebratefairfax.org/event/mosaic-district-market-2/2027-04-25/
LOCATION:United States
CATEGORIES:Farmer's Markets Guide
ATTACH;FMTTYPE=image/avif:https://celebratefairfax.org/wp-content/uploads/2025/04/fresh-produce-display.avif
END:VEVENT
BEGIN:VEVENT
DTSTART;TZID=UTC:20270502T130000
DTEND;TZID=UTC:20270502T180000
DTSTAMP:20260420T162808
CREATED:20250429T195858Z
LAST-MODIFIED:20250429T195858Z
UID:10001524-1809262800-1809280800@celebratefairfax.org
SUMMARY:Mosaic District Market
DESCRIPTION:
URL:https://celebratefairfax.org/event/mosaic-district-market-2/2027-05-02/
LOCATION:United States
CATEGORIES:Farmer's Markets Guide
ATTACH;FMTTYPE=image/avif:https://celebratefairfax.org/wp-content/uploads/2025/04/fresh-produce-display.avif
END:VEVENT
BEGIN:VEVENT
DTSTART;TZID=UTC:20270509T130000
DTEND;TZID=UTC:20270509T180000
DTSTAMP:20260420T162808
CREATED:20250429T195858Z
LAST-MODIFIED:20250429T195858Z
UID:10001525-1809867600-1809885600@celebratefairfax.org
SUMMARY:Mosaic District Market
DESCRIPTION:
URL:https://celebratefairfax.org/event/mosaic-district-market-2/2027-05-09/
LOCATION:United States
CATEGORIES:Farmer's Markets Guide
ATTACH;FMTTYPE=image/avif:https://celebratefairfax.org/wp-content/uploads/2025/04/fresh-produce-display.avif
END:VEVENT
BEGIN:VEVENT
DTSTART;TZID=UTC:20270516T130000
DTEND;TZID=UTC:20270516T180000
DTSTAMP:20260420T162808
CREATED:20250429T195858Z
LAST-MODIFIED:20250429T195858Z
UID:10001526-1810472400-1810490400@celebratefairfax.org
SUMMARY:Mosaic District Market
DESCRIPTION:
URL:https://celebratefairfax.org/event/mosaic-district-market-2/2027-05-16/
LOCATION:United States
CATEGORIES:Farmer's Markets Guide
ATTACH;FMTTYPE=image/avif:https://celebratefairfax.org/wp-content/uploads/2025/04/fresh-produce-display.avif
END:VEVENT
BEGIN:VEVENT
DTSTART;TZID=UTC:20270523T130000
DTEND;TZID=UTC:20270523T180000
DTSTAMP:20260420T162808
CREATED:20250429T195858Z
LAST-MODIFIED:20250429T195858Z
UID:10001527-1811077200-1811095200@celebratefairfax.org
SUMMARY:Mosaic District Market
DESCRIPTION:
URL:https://celebratefairfax.org/event/mosaic-district-market-2/2027-05-23/
LOCATION:United States
CATEGORIES:Farmer's Markets Guide
ATTACH;FMTTYPE=image/avif:https://celebratefairfax.org/wp-content/uploads/2025/04/fresh-produce-display.avif
END:VEVENT
BEGIN:VEVENT
DTSTART;TZID=UTC:20270530T130000
DTEND;TZID=UTC:20270530T180000
DTSTAMP:20260420T162808
CREATED:20250429T195858Z
LAST-MODIFIED:20250429T195858Z
UID:10001528-1811682000-1811700000@celebratefairfax.org
SUMMARY:Mosaic District Market
DESCRIPTION:
URL:https://celebratefairfax.org/event/mosaic-district-market-2/2027-05-30/
LOCATION:United States
CATEGORIES:Farmer's Markets Guide
ATTACH;FMTTYPE=image/avif:https://celebratefairfax.org/wp-content/uploads/2025/04/fresh-produce-display.avif
END:VEVENT
BEGIN:VEVENT
DTSTART;TZID=UTC:20270606T130000
DTEND;TZID=UTC:20270606T180000
DTSTAMP:20260420T162808
CREATED:20250429T195858Z
LAST-MODIFIED:20250429T195858Z
UID:10001529-1812286800-1812304800@celebratefairfax.org
SUMMARY:Mosaic District Market
DESCRIPTION:
URL:https://celebratefairfax.org/event/mosaic-district-market-2/2027-06-06/
LOCATION:United States
CATEGORIES:Farmer's Markets Guide
ATTACH;FMTTYPE=image/avif:https://celebratefairfax.org/wp-content/uploads/2025/04/fresh-produce-display.avif
END:VEVENT
BEGIN:VEVENT
DTSTART;TZID=UTC:20270613T130000
DTEND;TZID=UTC:20270613T180000
DTSTAMP:20260420T162808
CREATED:20250429T195858Z
LAST-MODIFIED:20250429T195858Z
UID:10001530-1812891600-1812909600@celebratefairfax.org
SUMMARY:Mosaic District Market
DESCRIPTION:
URL:https://celebratefairfax.org/event/mosaic-district-market-2/2027-06-13/
LOCATION:United States
CATEGORIES:Farmer's Markets Guide
ATTACH;FMTTYPE=image/avif:https://celebratefairfax.org/wp-content/uploads/2025/04/fresh-produce-display.avif
END:VEVENT
BEGIN:VEVENT
DTSTART;TZID=UTC:20270620T130000
DTEND;TZID=UTC:20270620T180000
DTSTAMP:20260420T162808
CREATED:20250429T195858Z
LAST-MODIFIED:20250429T195858Z
UID:10001531-1813496400-1813514400@celebratefairfax.org
SUMMARY:Mosaic District Market
DESCRIPTION:
URL:https://celebratefairfax.org/event/mosaic-district-market-2/2027-06-20/
LOCATION:United States
CATEGORIES:Farmer's Markets Guide
ATTACH;FMTTYPE=image/avif:https://celebratefairfax.org/wp-content/uploads/2025/04/fresh-produce-display.avif
END:VEVENT
BEGIN:VEVENT
DTSTART;TZID=UTC:20270627T130000
DTEND;TZID=UTC:20270627T180000
DTSTAMP:20260420T162808
CREATED:20250429T195858Z
LAST-MODIFIED:20250429T195858Z
UID:10001532-1814101200-1814119200@celebratefairfax.org
SUMMARY:Mosaic District Market
DESCRIPTION:
URL:https://celebratefairfax.org/event/mosaic-district-market-2/2027-06-27/
LOCATION:United States
CATEGORIES:Farmer's Markets Guide
ATTACH;FMTTYPE=image/avif:https://celebratefairfax.org/wp-content/uploads/2025/04/fresh-produce-display.avif
END:VEVENT
BEGIN:VEVENT
DTSTART;TZID=UTC:20270704T130000
DTEND;TZID=UTC:20270704T180000
DTSTAMP:20260420T162808
CREATED:20250429T195858Z
LAST-MODIFIED:20250429T195858Z
UID:10001533-1814706000-1814724000@celebratefairfax.org
SUMMARY:Mosaic District Market
DESCRIPTION:
URL:https://celebratefairfax.org/event/mosaic-district-market-2/2027-07-04/
LOCATION:United States
CATEGORIES:Farmer's Markets Guide
ATTACH;FMTTYPE=image/avif:https://celebratefairfax.org/wp-content/uploads/2025/04/fresh-produce-display.avif
END:VEVENT
BEGIN:VEVENT
DTSTART;TZID=UTC:20270711T130000
DTEND;TZID=UTC:20270711T180000
DTSTAMP:20260420T162808
CREATED:20250429T195858Z
LAST-MODIFIED:20250429T195858Z
UID:10001534-1815310800-1815328800@celebratefairfax.org
SUMMARY:Mosaic District Market
DESCRIPTION:
URL:https://celebratefairfax.org/event/mosaic-district-market-2/2027-07-11/
LOCATION:United States
CATEGORIES:Farmer's Markets Guide
ATTACH;FMTTYPE=image/avif:https://celebratefairfax.org/wp-content/uploads/2025/04/fresh-produce-display.avif
END:VEVENT
BEGIN:VEVENT
DTSTART;TZID=UTC:20270718T130000
DTEND;TZID=UTC:20270718T180000
DTSTAMP:20260420T162808
CREATED:20250429T195858Z
LAST-MODIFIED:20250429T195858Z
UID:10001535-1815915600-1815933600@celebratefairfax.org
SUMMARY:Mosaic District Market
DESCRIPTION:
URL:https://celebratefairfax.org/event/mosaic-district-market-2/2027-07-18/
LOCATION:United States
CATEGORIES:Farmer's Markets Guide
ATTACH;FMTTYPE=image/avif:https://celebratefairfax.org/wp-content/uploads/2025/04/fresh-produce-display.avif
END:VEVENT
BEGIN:VEVENT
DTSTART;TZID=UTC:20270725T130000
DTEND;TZID=UTC:20270725T180000
DTSTAMP:20260420T162808
CREATED:20250429T195858Z
LAST-MODIFIED:20250429T195858Z
UID:10001536-1816520400-1816538400@celebratefairfax.org
SUMMARY:Mosaic District Market
DESCRIPTION:
URL:https://celebratefairfax.org/event/mosaic-district-market-2/2027-07-25/
LOCATION:United States
CATEGORIES:Farmer's Markets Guide
ATTACH;FMTTYPE=image/avif:https://celebratefairfax.org/wp-content/uploads/2025/04/fresh-produce-display.avif
END:VEVENT
BEGIN:VEVENT
DTSTART;TZID=UTC:20270801T130000
DTEND;TZID=UTC:20270801T180000
DTSTAMP:20260420T162808
CREATED:20250429T195858Z
LAST-MODIFIED:20250429T195858Z
UID:10001537-1817125200-1817143200@celebratefairfax.org
SUMMARY:Mosaic District Market
DESCRIPTION:
URL:https://celebratefairfax.org/event/mosaic-district-market-2/2027-08-01/
LOCATION:United States
CATEGORIES:Farmer's Markets Guide
ATTACH;FMTTYPE=image/avif:https://celebratefairfax.org/wp-content/uploads/2025/04/fresh-produce-display.avif
END:VEVENT
BEGIN:VEVENT
DTSTART;TZID=UTC:20270808T130000
DTEND;TZID=UTC:20270808T180000
DTSTAMP:20260420T162808
CREATED:20250429T195858Z
LAST-MODIFIED:20250429T195858Z
UID:10001538-1817730000-1817748000@celebratefairfax.org
SUMMARY:Mosaic District Market
DESCRIPTION:
URL:https://celebratefairfax.org/event/mosaic-district-market-2/2027-08-08/
LOCATION:United States
CATEGORIES:Farmer's Markets Guide
ATTACH;FMTTYPE=image/avif:https://celebratefairfax.org/wp-content/uploads/2025/04/fresh-produce-display.avif
END:VEVENT
BEGIN:VEVENT
DTSTART;TZID=UTC:20270815T130000
DTEND;TZID=UTC:20270815T180000
DTSTAMP:20260420T162808
CREATED:20250429T195858Z
LAST-MODIFIED:20250429T195858Z
UID:10001539-1818334800-1818352800@celebratefairfax.org
SUMMARY:Mosaic District Market
DESCRIPTION:
URL:https://celebratefairfax.org/event/mosaic-district-market-2/2027-08-15/
LOCATION:United States
CATEGORIES:Farmer's Markets Guide
ATTACH;FMTTYPE=image/avif:https://celebratefairfax.org/wp-content/uploads/2025/04/fresh-produce-display.avif
END:VEVENT
BEGIN:VEVENT
DTSTART;TZID=UTC:20270822T130000
DTEND;TZID=UTC:20270822T180000
DTSTAMP:20260420T162808
CREATED:20250429T195858Z
LAST-MODIFIED:20250429T195858Z
UID:10001540-1818939600-1818957600@celebratefairfax.org
SUMMARY:Mosaic District Market
DESCRIPTION:
URL:https://celebratefairfax.org/event/mosaic-district-market-2/2027-08-22/
LOCATION:United States
CATEGORIES:Farmer's Markets Guide
ATTACH;FMTTYPE=image/avif:https://celebratefairfax.org/wp-content/uploads/2025/04/fresh-produce-display.avif
END:VEVENT
BEGIN:VEVENT
DTSTART;TZID=UTC:20270829T130000
DTEND;TZID=UTC:20270829T180000
DTSTAMP:20260420T162808
CREATED:20250429T195858Z
LAST-MODIFIED:20250429T195858Z
UID:10001541-1819544400-1819562400@celebratefairfax.org
SUMMARY:Mosaic District Market
DESCRIPTION:
URL:https://celebratefairfax.org/event/mosaic-district-market-2/2027-08-29/
LOCATION:United States
CATEGORIES:Farmer's Markets Guide
ATTACH;FMTTYPE=image/avif:https://celebratefairfax.org/wp-content/uploads/2025/04/fresh-produce-display.avif
END:VEVENT
BEGIN:VEVENT
DTSTART;TZID=UTC:20270905T130000
DTEND;TZID=UTC:20270905T180000
DTSTAMP:20260420T162808
CREATED:20250429T195858Z
LAST-MODIFIED:20250429T195858Z
UID:10001542-1820149200-1820167200@celebratefairfax.org
SUMMARY:Mosaic District Market
DESCRIPTION:
URL:https://celebratefairfax.org/event/mosaic-district-market-2/2027-09-05/
LOCATION:United States
CATEGORIES:Farmer's Markets Guide
ATTACH;FMTTYPE=image/avif:https://celebratefairfax.org/wp-content/uploads/2025/04/fresh-produce-display.avif
END:VEVENT
BEGIN:VEVENT
DTSTART;TZID=UTC:20270912T130000
DTEND;TZID=UTC:20270912T180000
DTSTAMP:20260420T162808
CREATED:20250429T195858Z
LAST-MODIFIED:20250429T195858Z
UID:10001543-1820754000-1820772000@celebratefairfax.org
SUMMARY:Mosaic District Market
DESCRIPTION:
URL:https://celebratefairfax.org/event/mosaic-district-market-2/2027-09-12/
LOCATION:United States
CATEGORIES:Farmer's Markets Guide
ATTACH;FMTTYPE=image/avif:https://celebratefairfax.org/wp-content/uploads/2025/04/fresh-produce-display.avif
END:VEVENT
BEGIN:VEVENT
DTSTART;TZID=UTC:20270919T130000
DTEND;TZID=UTC:20270919T180000
DTSTAMP:20260420T162808
CREATED:20250429T195858Z
LAST-MODIFIED:20250429T195858Z
UID:10001544-1821358800-1821376800@celebratefairfax.org
SUMMARY:Mosaic District Market
DESCRIPTION:
URL:https://celebratefairfax.org/event/mosaic-district-market-2/2027-09-19/
LOCATION:United States
CATEGORIES:Farmer's Markets Guide
ATTACH;FMTTYPE=image/avif:https://celebratefairfax.org/wp-content/uploads/2025/04/fresh-produce-display.avif
END:VEVENT
END:VCALENDAR