BEGIN:VCALENDAR
VERSION:2.0
PRODID:-//Celebrate Fairfax - ECPv6.15.20//NONSGML v1.0//EN
CALSCALE:GREGORIAN
METHOD:PUBLISH
X-WR-CALNAME:Celebrate Fairfax
X-ORIGINAL-URL:https://celebratefairfax.org
X-WR-CALDESC:Events for Celebrate Fairfax
REFRESH-INTERVAL;VALUE=DURATION:PT1H
X-Robots-Tag:noindex
X-PUBLISHED-TTL:PT1H
BEGIN:VTIMEZONE
TZID:UTC
BEGIN:STANDARD
TZOFFSETFROM:+0000
TZOFFSETTO:+0000
TZNAME:UTC
DTSTART:20210101T000000
END:STANDARD
END:VTIMEZONE
BEGIN:VEVENT
DTSTART;TZID=UTC:20221018T210000
DTEND;TZID=UTC:20221018T220000
DTSTAMP:20260423T172813
CREATED:20221006T125902Z
LAST-MODIFIED:20221006T125902Z
UID:10000942-1666126800-1666130400@celebratefairfax.org
SUMMARY:Salute to Lord and Lady Fairfax
DESCRIPTION:The tradition of honoring Lord and Lady Fairfax began in 1984 as a way to recognize the outstanding citizens of Fairfax County. \nEach year\, the Fairfax County Board of Supervisors selects two individuals from each district who have demonstrated exceptional volunteer service\, heroism\, or other special accomplishments to receive the award.
URL:https://celebratefairfax.org/event/salute-to-lord-and-lady-fairfax-2/
LOCATION:United States
ATTACH;FMTTYPE=image/png:https://celebratefairfax.org/wp-content/uploads/2022/10/2022-SALUTE-Website.avif
END:VEVENT
BEGIN:VEVENT
DTSTART;TZID=UTC:20221018T210000
DTEND;TZID=UTC:20221018T220000
DTSTAMP:20260423T172813
CREATED:20221006T125902Z
LAST-MODIFIED:20221006T125902Z
UID:10000018-1666126800-1666130400@celebratefairfax.org
SUMMARY:Salute to Lord and Lady Fairfax
DESCRIPTION:The tradition of honoring Lord and Lady Fairfax began in 1984 as a way to recognize the outstanding citizens of Fairfax County. \nEach year\, the Fairfax County Board of Supervisors selects two individuals from each district who have demonstrated exceptional volunteer service\, heroism\, or other special accomplishments to receive the award.
URL:https://celebratefairfax.org/event/salute-to-lord-and-lady-fairfax/
LOCATION:United States
ATTACH;FMTTYPE=image/png:https://celebratefairfax.org/wp-content/uploads/2022/10/2022-SALUTE-Website.avif
END:VEVENT
BEGIN:VEVENT
DTSTART;TZID=UTC:20220917T160000
DTEND;TZID=UTC:20220917T210000
DTSTAMP:20260423T172813
CREATED:20220807T163137Z
LAST-MODIFIED:20220807T163137Z
UID:10000005-1663430400-1663448400@celebratefairfax.org
SUMMARY:Celebrate Sully Community Day
DESCRIPTION:
URL:https://celebratefairfax.org/event/celebrate-sully-community-day/
LOCATION:United States
CATEGORIES:Sully District
ATTACH;FMTTYPE=:
END:VEVENT
BEGIN:VEVENT
DTSTART;TZID=UTC:20220910T160000
DTEND;TZID=UTC:20220910T210000
DTSTAMP:20260423T172813
CREATED:20220908T115153Z
LAST-MODIFIED:20220908T115153Z
UID:10000936-1662825600-1662843600@celebratefairfax.org
SUMMARY:Shop Local Market
DESCRIPTION:If the maker\, crafter\, and artisan booths are your favorite part of a farmer’s market\, then the Shop Local Saturday Market is for you! We have makers\, crafters\, artisans\, and bakers from all over Fairfax County and the greater DMV to sell their unique goods at our one-of-a-kind indoor makers market! All of our vendors are locally owned small businesses who are looking to share their talent with you! Come on out and see what you find! Join us this weekend for our special outdoor market!
URL:https://celebratefairfax.org/event/shop-local-market-3-2/
LOCATION:United States
CATEGORIES:Providence District,Town of Vienna
END:VEVENT
BEGIN:VEVENT
DTSTART;TZID=UTC:20220814T200000
DTEND;TZID=UTC:20220815T010000
DTSTAMP:20260423T172813
CREATED:20220727T003302Z
LAST-MODIFIED:20220727T003302Z
UID:10000002-1660507200-1660525200@celebratefairfax.org
SUMMARY:Tyson's Block Party and Karaoke Finals
DESCRIPTION:We are excited to bring back this night full of fun\, food\, games\, and karaoke in Tysons\, VA! Join us at 4 pm to grab a bite and enjoy open mic karaoke! Then grab a beer and kick back because the Fairfax County Karaoke Finals Competition starts at 6:30 pm!
URL:https://celebratefairfax.org/event/tysons-block-party-and-karaoke-finals/
LOCATION:United States
ATTACH;FMTTYPE=image/avif:https://celebratefairfax.org/wp-content/uploads/2022/07/block-party-in-tysons.avif
END:VEVENT
BEGIN:VEVENT
DTSTART;TZID=UTC:20220813T160000
DTEND;TZID=UTC:20220813T210000
DTSTAMP:20260423T172813
CREATED:20220727T002141Z
LAST-MODIFIED:20220727T002141Z
UID:10000001-1660406400-1660424400@celebratefairfax.org
SUMMARY:Shop Local Market
DESCRIPTION:Shop local vendors\, makers\, and artisans from throughout Fairfax County and the greater DMV.
URL:https://celebratefairfax.org/event/shop-local-market/
LOCATION:United States
END:VEVENT
BEGIN:VEVENT
DTSTART;TZID=UTC:20220805T210000
DTEND;TZID=UTC:20220805T230000
DTSTAMP:20260423T172813
CREATED:20220802T131645Z
LAST-MODIFIED:20220802T131645Z
UID:10000004-1659733200-1659740400@celebratefairfax.org
SUMMARY:Fam-Mingle
DESCRIPTION:Come out for fun for the whole family!
URL:https://celebratefairfax.org/event/fam-mingle/
LOCATION:United States
CATEGORIES:Providence District
ATTACH;FMTTYPE=image/avif:https://celebratefairfax.org/wp-content/uploads/2022/08/young-girl-wearing-sunglasses.avif
END:VEVENT
BEGIN:VEVENT
DTSTART;TZID=UTC:20220728T223000
DTEND;TZID=UTC:20220729T003000
DTSTAMP:20260423T172813
CREATED:20240214T095830Z
LAST-MODIFIED:20240214T095830Z
UID:10000040-1659047400-1659054600@celebratefairfax.org
SUMMARY:Tysons Community Center Engagement Forum
DESCRIPTION:Join Neighborhood & Community Services at a Community Engagement Forum to learn the vision for the new community center in Tysons and provide your input on center activities and programs
URL:https://celebratefairfax.org/event/tysons-community-center-engagement-forum/
LOCATION:United States
END:VEVENT
BEGIN:VEVENT
DTSTART;TZID=UTC:20220727T150000
DTEND;TZID=UTC:20220727T180000
DTSTAMP:20260423T172813
CREATED:20220727T003415Z
LAST-MODIFIED:20220727T003415Z
UID:10000003-1658934000-1658944800@celebratefairfax.org
SUMMARY:Lunch at The PARC
DESCRIPTION:Ready for a lunch break? Head down to the PARC where we will have a food truck every Wednesday from 11 am – 2 pm.
URL:https://celebratefairfax.org/event/lunch-at-the-parch/2022-07-27/
LOCATION:United States
END:VEVENT
BEGIN:VEVENT
DTSTART;TZID=UTC:20220713T210000
DTEND;TZID=UTC:20220713T230000
DTSTAMP:20260423T172813
CREATED:20240214T094731Z
LAST-MODIFIED:20240214T094731Z
UID:10000039-1657746000-1657753200@celebratefairfax.org
SUMMARY:Celebrate Fairfax Kids at Springfield Nights
DESCRIPTION:Enjoy a night of fun for the whole family with demonstrations\, balloon twisting\, and magic shows! Special guests include Mad Science\, Drew Blue Shoes\, and Sam the Balloon Man.
URL:https://celebratefairfax.org/event/celebrate-fairfax-kids-at-springfield-nights/2022-07-13/
LOCATION:United States
ATTACH;FMTTYPE=image/avif:https://celebratefairfax.org/wp-content/uploads/2023/07/young-boy-with-balloon-animals.avif
END:VEVENT
END:VCALENDAR