BEGIN:VCALENDAR
VERSION:2.0
PRODID:-//Celebrate Fairfax - ECPv6.15.20//NONSGML v1.0//EN
CALSCALE:GREGORIAN
METHOD:PUBLISH
X-ORIGINAL-URL:https://celebratefairfax.org
X-WR-CALDESC:Events for Celebrate Fairfax
REFRESH-INTERVAL;VALUE=DURATION:PT1H
X-Robots-Tag:noindex
X-PUBLISHED-TTL:PT1H
BEGIN:VTIMEZONE
TZID:UTC
BEGIN:STANDARD
TZOFFSETFROM:+0000
TZOFFSETTO:+0000
TZNAME:UTC
DTSTART:20240101T000000
END:STANDARD
END:VTIMEZONE
BEGIN:VEVENT
DTSTART;TZID=UTC:20250718T193000
DTEND;TZID=UTC:20250718T203000
DTSTAMP:20260424T103613
CREATED:20250619T161301Z
LAST-MODIFIED:20250619T190207Z
UID:10004026-1752867000-1752870600@celebratefairfax.org
SUMMARY:Braddock Nights – Royal Lake Park
DESCRIPTION:Welcome back to this year’s Braddock Nights summer concert series and Children’s Arts in the Park series!  This is a series of free concerts and children’s events that will present a wide array of performances from classical and big band to blues\, rock\, and salsa\, with something for every music lover. \nJul 11–Aug 15 \nFridays 7:30 pm
URL:https://celebratefairfax.org/event/braddock-nights-royal-lake-park/2025-07-18/
LOCATION:Royal Lake Park\, 5344 Gainborough Dr.\, Fairfax\, VA\, 22030\, United States
CATEGORIES:Summer Concert Series Guide 2025
ATTACH;FMTTYPE=image/avif:https://celebratefairfax.org/wp-content/uploads/2025/06/braddock-nights-summer-concert-series.avif
END:VEVENT
BEGIN:VEVENT
DTSTART;TZID=UTC:20250718T193000
DTEND;TZID=UTC:20250718T203000
DTSTAMP:20260424T103613
CREATED:20250619T164043Z
LAST-MODIFIED:20250619T190725Z
UID:10004575-1752867000-1752870600@celebratefairfax.org
SUMMARY:Mount Vernon Nights – Grist Mill Park
DESCRIPTION:Welcome to Mount Vernon Nights Summer Concert Series!  These free\, public concerts at Grist Mill Park and the Workhouse Arts Center feature a variety of musical performances reflecting Fairfax County’s diversity\, culture and community spirit.  Bring a picnic dinner\, chair or blanket and enjoy one of Fairfax County’s special summer traditions. \nJun 6–Aug 29 \nFridays 7:30 pm
URL:https://celebratefairfax.org/event/mount-vernon-nights-grist-mill-park/2025-07-18/
LOCATION:Grist Mill Park\, 4710 Mt. Vernon Memorial Hwy\, Alexandria\, VA\, 22309\, United States
CATEGORIES:Summer Concert Series Guide 2025
ATTACH;FMTTYPE=image/avif:https://celebratefairfax.org/wp-content/uploads/2025/06/mount-vernon-nights-summer-concert-series.avif
END:VEVENT
BEGIN:VEVENT
DTSTART;TZID=UTC:20250719T090000
DTEND;TZID=UTC:20250719T153000
DTSTAMP:20260424T103613
CREATED:20250623T145323Z
LAST-MODIFIED:20250623T145323Z
UID:10008100-1752915600-1752939000@celebratefairfax.org
SUMMARY:EDU-FAMILY: A Day of Discovery\, Exploration and Future Planning
DESCRIPTION:Saturday\, JULY 19: 9:00 AM – 3:30 PM\nGEORGE MASON UNIVERSITY – Johnson Center\n4400 University Dr\, Fairfax\, VA 22030\n6th to 12th graders and their parents are welcome \n???? Light Breakfast and Lunch Provided | ???? Giveaways | ???? Free\n???? 10+ INTERACTIVE LEARNING STATIONS\n‍ CAREER PANELISTS SHARING REAL STORIES\n️ COLLEGE FAIR – MEET REPRESENTATIVES \nThe event will feature a college fair\, a career panel\, interactive learning stations\, giveaways\, and complimentary breakfast and lunch. It will be a fun\, inspiring\, and practical experience designed to support immigrant and underserved youth in Fairfax County and beyond.
URL:https://celebratefairfax.org/event/edu-family-a-day-of-discovery-exploration-and-future-planning/
LOCATION:George Mason University – Johnson Center\, 4400 University Dr\, Fairfax\, VA\, 22030\, United States
CATEGORIES:Immigrant Heritage Month Guide
ATTACH;FMTTYPE=image/png:https://celebratefairfax.org/wp-content/uploads/2025/06/edu-futuro-community-engagement.avif
END:VEVENT
BEGIN:VEVENT
DTSTART;TZID=UTC:20250719T100000
DTEND;TZID=UTC:20250719T104500
DTSTAMP:20260424T103613
CREATED:20250619T142025Z
LAST-MODIFIED:20250619T183202Z
UID:10002355-1752919200-1752921900@celebratefairfax.org
SUMMARY:Spotlight by Starlight – Mason District Park
DESCRIPTION:Mason District is thrilled to invite you to Fairfax County’s concert series featuring the Spotlight by Starlight concerts. Enjoy entertainment by a diverse range of artists from around the world! \nJun 20–Aug 17\nFridays & Sundays 7:30 pm\nSaturdays 10 am
URL:https://celebratefairfax.org/event/spotlight-by-starlight-mason-district-park-2/2025-07-19/
LOCATION:Mason District Park\, 6621 Columbia Pike\, Annandale\, VA\, 22003\, United States
CATEGORIES:Summer Concert Series Guide 2025
ATTACH;FMTTYPE=image/avif:https://celebratefairfax.org/wp-content/uploads/2025/06/mason-district-supervisor-andres-jimenez-invites-you-to-spotlight-by-starlight.avif
END:VEVENT
BEGIN:VEVENT
DTSTART;TZID=UTC:20250719T100000
DTEND;TZID=UTC:20250719T104500
DTSTAMP:20260424T103613
CREATED:20250619T154328Z
LAST-MODIFIED:20250619T185336Z
UID:10002417-1752919200-1752921900@celebratefairfax.org
SUMMARY:Arts in the Parks – Wakefield Park
DESCRIPTION:Arts in the Parks – a free children’s entertainment series \nJun 14–Aug 16 \nSaturdays 10 am
URL:https://celebratefairfax.org/event/arts-in-the-parks-wakefield-park/2025-07-19/
LOCATION:Wakefield Park\, 8100 Braddock Road\, Annandale\, VA\, 22003\, United States
CATEGORIES:Summer Concert Series Guide 2025
ATTACH;FMTTYPE=image/avif:https://celebratefairfax.org/wp-content/uploads/2025/06/arts-in-the-parks.avif
END:VEVENT
BEGIN:VEVENT
DTSTART;TZID=UTC:20250719T100000
DTEND;TZID=UTC:20250719T104500
DTSTAMP:20260424T103613
CREATED:20250619T155136Z
LAST-MODIFIED:20250619T185429Z
UID:10002953-1752919200-1752921900@celebratefairfax.org
SUMMARY:Arts in the Parks – E.C. Lawrence Park
DESCRIPTION:Arts in the Park – a free children’s entertainment series \nJun 14–Aug 16 \nSaturdays 10 am
URL:https://celebratefairfax.org/event/arts-in-the-parks-e-c-lawrence-park/2025-07-19/
LOCATION:E.C. Lawrence Park\, 5040 Walney Road\, Chantilly\, VA\, 20151\, United States
CATEGORIES:Summer Concert Series Guide 2025
ATTACH;FMTTYPE=image/avif:https://celebratefairfax.org/wp-content/uploads/2025/06/arts-in-the-parks.avif
END:VEVENT
BEGIN:VEVENT
DTSTART;TZID=UTC:20250719T100000
DTEND;TZID=UTC:20250719T104500
DTSTAMP:20260424T103613
CREATED:20250619T155601Z
LAST-MODIFIED:20250619T185106Z
UID:10003222-1752919200-1752921900@celebratefairfax.org
SUMMARY:Arts in the Parks – Burke Lake Park
DESCRIPTION:Arts in the Park – a free children’s entertainment series \nJun 14–Aug 16 \nSaturdays 10 am \n 
URL:https://celebratefairfax.org/event/arts-in-the-parks-burke-lake-park/2025-07-19/
LOCATION:Burke Lake Park\, 7315 Ox Road\, Fairfax Station\, VA\, 22039\, United States
ATTACH;FMTTYPE=image/avif:https://celebratefairfax.org/wp-content/uploads/2025/06/arts-in-the-parks.avif
END:VEVENT
BEGIN:VEVENT
DTSTART;TZID=UTC:20250719T120000
DTEND;TZID=UTC:20250719T160000
DTSTAMP:20260424T103613
CREATED:20250429T142938Z
LAST-MODIFIED:20250605T151940Z
UID:10001157-1752926400-1752940800@celebratefairfax.org
SUMMARY:Burke Market
DESCRIPTION:  \n\n  \n\n\n\n\n\n\n\n\n\n\n\n\n\n\n\n 
URL:https://celebratefairfax.org/event/burke-market-2/2025-07-19/
LOCATION:United States
CATEGORIES:Farmer's Markets Guide
ATTACH;FMTTYPE=image/avif:https://celebratefairfax.org/wp-content/uploads/2025/04/fresh-produce-display.avif
END:VEVENT
BEGIN:VEVENT
DTSTART;TZID=UTC:20250719T120000
DTEND;TZID=UTC:20250719T160000
DTSTAMP:20260424T103613
CREATED:20250429T143108Z
LAST-MODIFIED:20250429T143108Z
UID:10001188-1752926400-1752940800@celebratefairfax.org
SUMMARY:Reston Market
DESCRIPTION:
URL:https://celebratefairfax.org/event/reston-market-3/2025-07-19/
LOCATION:United States
CATEGORIES:Farmer's Markets Guide
ATTACH;FMTTYPE=image/avif:https://celebratefairfax.org/wp-content/uploads/2025/04/fresh-produce-display.avif
END:VEVENT
BEGIN:VEVENT
DTSTART;TZID=UTC:20250719T120000
DTEND;TZID=UTC:20250719T160000
DTSTAMP:20260424T103613
CREATED:20250429T195402Z
LAST-MODIFIED:20250521T202427Z
UID:10000450-1752926400-1752940800@celebratefairfax.org
SUMMARY:Vienna Farmers Market
DESCRIPTION:  \n\n\n\n\n\n\n\n\n\n\n\n\n\n\n\n 
URL:https://celebratefairfax.org/event/vienna-farmers-market/2025-07-19/
LOCATION:United States
CATEGORIES:Farmer's Markets Guide
ATTACH;FMTTYPE=image/avif:https://celebratefairfax.org/wp-content/uploads/2025/04/fresh-produce-display.avif
END:VEVENT
BEGIN:VEVENT
DTSTART;TZID=UTC:20250719T183000
DTEND;TZID=UTC:20250719T210000
DTSTAMP:20260424T103613
CREATED:20250617T162719Z
LAST-MODIFIED:20250617T162719Z
UID:10002093-1752949800-1752958800@celebratefairfax.org
SUMMARY:Reston Station's Summerbration | Jumanji: The Next Level
DESCRIPTION:
URL:https://celebratefairfax.org/event/reston-stations-summerbration-jumanji-the-next-level/
LOCATION:Reston Station\, 1800 Reston Row Plz\, Reston\, VA\, 20190\, United States
CATEGORIES:Outdoor Movie Guide 2025
ATTACH;FMTTYPE=image/png:https://celebratefairfax.org/wp-content/uploads/2025/06/couple-watching-outdoor-movie.avif
END:VEVENT
BEGIN:VEVENT
DTSTART;TZID=UTC:20250719T193000
DTEND;TZID=UTC:20250719T203000
DTSTAMP:20260424T103613
CREATED:20250619T153608Z
LAST-MODIFIED:20250619T185245Z
UID:10002685-1752953400-1752957000@celebratefairfax.org
SUMMARY:Spotlight by Starlight – Ossian Hall Park
DESCRIPTION:Mason District is thrilled to invite you to Fairfax County’s concert series featuring the Spotlight by Starlight concerts. Enjoy entertainment by a diverse range of artists from around the world! \nJun 14–Aug 16 \nSaturdays 7:30 pm
URL:https://celebratefairfax.org/event/spotlight-by-starlight-ossian-hall-park/2025-07-19/
LOCATION:Ossian Hall Park\, 7900 Heritage Dr\, Annandale\, VA\, 22003\, United States
CATEGORIES:Summer Concert Series Guide 2025
ATTACH;FMTTYPE=image/avif:https://celebratefairfax.org/wp-content/uploads/2025/06/mason-district-supervisor-andres-jimenez-invites-you-to-spotlight-by-starlight.avif
END:VEVENT
BEGIN:VEVENT
DTSTART;TZID=UTC:20250719T193000
DTEND;TZID=UTC:20250719T203000
DTSTAMP:20260424T103613
CREATED:20250619T164427Z
LAST-MODIFIED:20250619T190821Z
UID:10004846-1752953400-1752957000@celebratefairfax.org
SUMMARY:Mount Vernon Nights – Workhouse Arts Center
DESCRIPTION:Welcome to Mount Vernon Nights Summer Concert Series!  These free\, public concerts at Grist Mill Park and the Workhouse Arts Center feature a variety of musical performances reflecting Fairfax County’s diversity\, culture and community spirit.  Bring a picnic dinner\, chair or blanket and enjoy one of Fairfax County’s special summer traditions. \nJun 7–Aug 30 \nSaturdays 7:30 pm
URL:https://celebratefairfax.org/event/mount-vernon-nights-workhouse-arts-center/2025-07-19/
CATEGORIES:Summer Concert Series Guide 2025
ATTACH;FMTTYPE=image/avif:https://celebratefairfax.org/wp-content/uploads/2025/06/mount-vernon-nights-summer-concert-series.avif
END:VEVENT
BEGIN:VEVENT
DTSTART;TZID=UTC:20250719T193000
DTEND;TZID=UTC:20250719T203000
DTSTAMP:20260424T103613
CREATED:20250619T173952Z
LAST-MODIFIED:20250619T190604Z
UID:10006171-1752953400-1752957000@celebratefairfax.org
SUMMARY:Music at Arrowbrook – Arrowbrook Centre
DESCRIPTION:Welcome to the Concerts at Arrowbrook Centre Park in Herndon!  This free concert series has been a major catalyst for our community with musical acts that vary from folk to fun and everything in between. \nJul 12–Aug 30 \nSaturdays 7:30 pm
URL:https://celebratefairfax.org/event/music-at-arrowbrook-arrowbrook-centre/2025-07-19/
CATEGORIES:Summer Concert Series Guide 2025
ATTACH;FMTTYPE=image/avif:https://celebratefairfax.org/wp-content/uploads/2025/06/music-at-arrowbrook-centre-park.avif
END:VEVENT
BEGIN:VEVENT
DTSTART;TZID=UTC:20250720T130000
DTEND;TZID=UTC:20250720T180000
DTSTAMP:20260424T103613
CREATED:20250429T195858Z
LAST-MODIFIED:20250429T195858Z
UID:10001431-1753016400-1753034400@celebratefairfax.org
SUMMARY:Mosaic District Market
DESCRIPTION:
URL:https://celebratefairfax.org/event/mosaic-district-market-2/2025-07-20/
LOCATION:United States
CATEGORIES:Farmer's Markets Guide
ATTACH;FMTTYPE=image/avif:https://celebratefairfax.org/wp-content/uploads/2025/04/fresh-produce-display.avif
END:VEVENT
BEGIN:VEVENT
DTSTART;TZID=UTC:20250723T180000
DTEND;TZID=UTC:20250723T220000
DTSTAMP:20260424T103613
CREATED:20250429T194625Z
LAST-MODIFIED:20250429T194625Z
UID:10001381-1753293600-1753308000@celebratefairfax.org
SUMMARY:Wakefield Market
DESCRIPTION:
URL:https://celebratefairfax.org/event/wakefield-market-2/2025-07-23/
LOCATION:United States
CATEGORIES:Farmer's Markets Guide
ATTACH;FMTTYPE=image/avif:https://celebratefairfax.org/wp-content/uploads/2025/04/fresh-produce-display.avif
END:VEVENT
BEGIN:VEVENT
DTSTART;TZID=UTC:20250723T190000
DTEND;TZID=UTC:20250723T230000
DTSTAMP:20260424T103613
CREATED:20250429T200140Z
LAST-MODIFIED:20250429T200140Z
UID:10001698-1753297200-1753311600@celebratefairfax.org
SUMMARY:Reston Market
DESCRIPTION:
URL:https://celebratefairfax.org/event/reston-market-2-2/2025-07-23/
LOCATION:United States
CATEGORIES:Farmer's Markets Guide
ATTACH;FMTTYPE=image/avif:https://celebratefairfax.org/wp-content/uploads/2025/04/fresh-produce-display.avif
END:VEVENT
BEGIN:VEVENT
DTSTART;TZID=UTC:20250724T120000
DTEND;TZID=UTC:20250724T160000
DTSTAMP:20260424T103613
CREATED:20250429T145126Z
LAST-MODIFIED:20250429T145126Z
UID:10001219-1753358400-1753372800@celebratefairfax.org
SUMMARY:Annandale Market
DESCRIPTION:
URL:https://celebratefairfax.org/event/annandale-market-2/2025-07-24/
LOCATION:United States
CATEGORIES:Farmer's Markets Guide
ATTACH;FMTTYPE=image/avif:https://celebratefairfax.org/wp-content/uploads/2025/04/fresh-produce-display.avif
END:VEVENT
BEGIN:VEVENT
DTSTART;TZID=UTC:20250724T160000
DTEND;TZID=UTC:20250724T190000
DTSTAMP:20260424T103613
CREATED:20250715T154921Z
LAST-MODIFIED:20250715T154921Z
UID:10008431-1753372800-1753383600@celebratefairfax.org
SUMMARY:Summer Block Party
DESCRIPTION:Celebrate Fairfax Brings Tysons Together with a Summer Block Party!\n???? Thursday\, July 24\n???? 4 PM – 7 PM\n???? The PARC at Tysons \nIt has been four years since our very first Block Party at The PARC\, and we’re ready to celebrate! Join us for a late afternoon filled with live entertainment from DJ Bounce\, local craft beverages from Settle Down Easy\, delicious food\, and classic yard games. If you haven’t seen it yet\, there’s still time to explore the National Council on Aging’s exhibit and local art displays\, shop locally made products at the BestVends Shop Local Vending Machine\, and enjoy plenty more surprises throughout the afternoon. \n 
URL:https://celebratefairfax.org/event/summer-block-party/
LOCATION:The PARC\, 8508 Leesburg Pike\, Tysons\, VA\, 22182\, United States
ATTACH;FMTTYPE=image/avif:https://celebratefairfax.org/wp-content/uploads/2025/07/people-enjoying-food-at-an-outdoor-event.avif
END:VEVENT
BEGIN:VEVENT
DTSTART;TZID=UTC:20250724T190000
DTEND;TZID=UTC:20250724T210000
DTSTAMP:20260424T103613
CREATED:20250617T155551Z
LAST-MODIFIED:20250617T155551Z
UID:10002081-1753383600-1753390800@celebratefairfax.org
SUMMARY:Films in the Park | Honey I Shrunk The Kids
DESCRIPTION:Films In The Park returns to Mosaic for another summer filled with blockbuster hits and family favorites. All movies starts a 7pm. \nFilm lovers can watch on the larger-than-life outdoor screen while sitting picnic-style in Strawberry Park. \nAll movies are shown rain or shine unless otherwise noted.
URL:https://celebratefairfax.org/event/films-in-the-park-honey-i-shrunk-the-kids/
LOCATION:Mosaic District\, 2910 District Ave\, Fairfax\, VA\, 22031\, United States
CATEGORIES:Outdoor Movie Guide 2025
ATTACH;FMTTYPE=image/png:https://celebratefairfax.org/wp-content/uploads/2025/06/couple-watching-outdoor-movie.avif
END:VEVENT
BEGIN:VEVENT
DTSTART;TZID=UTC:20250725T120000
DTEND;TZID=UTC:20250725T160000
DTSTAMP:20260424T103613
CREATED:20250429T184030Z
LAST-MODIFIED:20250429T184030Z
UID:10001273-1753444800-1753459200@celebratefairfax.org
SUMMARY:McLean Market
DESCRIPTION:
URL:https://celebratefairfax.org/event/mclean-market-2/2025-07-25/
LOCATION:United States
CATEGORIES:Farmer's Markets Guide
ATTACH;FMTTYPE=image/avif:https://celebratefairfax.org/wp-content/uploads/2025/04/fresh-produce-display.avif
END:VEVENT
BEGIN:VEVENT
DTSTART;TZID=UTC:20250725T183000
DTEND;TZID=UTC:20250725T213000
DTSTAMP:20260424T103613
CREATED:20250721T134105Z
LAST-MODIFIED:20250721T134107Z
UID:10004554-1753468200-1753479000@celebratefairfax.org
SUMMARY:Rock the Block – Old Town Square
DESCRIPTION:Come enjoy live music\, beer garden\, food vendors\, and more!\nPlease bring chairs and or blankets to sit on!\nNo pets allowed except service animals. \nFourth Fridays 6:30 pm \nMay–Oct
URL:https://celebratefairfax.org/event/rock-the-block-old-town-square-2/2025-07-25/
LOCATION:Old Town Square\, 10415 North Street\, Fairfax\, VA\, 22030\, United States
CATEGORIES:Summer Concert Series Guide 2025
ATTACH;FMTTYPE=image/png:https://celebratefairfax.org/wp-content/uploads/2025/06/fairfax-city-rock-the-block.avif
END:VEVENT
BEGIN:VEVENT
DTSTART;TZID=UTC:20250726T120000
DTEND;TZID=UTC:20250726T160000
DTSTAMP:20260424T103613
CREATED:20250429T143108Z
LAST-MODIFIED:20250429T143108Z
UID:10001189-1753531200-1753545600@celebratefairfax.org
SUMMARY:Reston Market
DESCRIPTION:
URL:https://celebratefairfax.org/event/reston-market-3/2025-07-26/
LOCATION:United States
CATEGORIES:Farmer's Markets Guide
ATTACH;FMTTYPE=image/avif:https://celebratefairfax.org/wp-content/uploads/2025/04/fresh-produce-display.avif
END:VEVENT
BEGIN:VEVENT
DTSTART;TZID=UTC:20250726T183000
DTEND;TZID=UTC:20250726T210000
DTSTAMP:20260424T103613
CREATED:20250617T162845Z
LAST-MODIFIED:20250617T162845Z
UID:10002094-1753554600-1753563600@celebratefairfax.org
SUMMARY:Reston Station's Summerbration | Hook
DESCRIPTION:Receive a free eyepatch and make scallywags walk the plank.
URL:https://celebratefairfax.org/event/reston-stations-summerbration-hook/
LOCATION:Reston Station\, 1800 Reston Row Plz\, Reston\, VA\, 20190\, United States
CATEGORIES:Outdoor Movie Guide 2025
ATTACH;FMTTYPE=image/png:https://celebratefairfax.org/wp-content/uploads/2025/06/couple-watching-outdoor-movie.avif
END:VEVENT
BEGIN:VEVENT
DTSTART;TZID=UTC:20250727T130000
DTEND;TZID=UTC:20250727T180000
DTSTAMP:20260424T103613
CREATED:20250429T195858Z
LAST-MODIFIED:20250429T195858Z
UID:10001432-1753621200-1753639200@celebratefairfax.org
SUMMARY:Mosaic District Market
DESCRIPTION:
URL:https://celebratefairfax.org/event/mosaic-district-market-2/2025-07-27/
LOCATION:United States
CATEGORIES:Farmer's Markets Guide
ATTACH;FMTTYPE=image/avif:https://celebratefairfax.org/wp-content/uploads/2025/04/fresh-produce-display.avif
END:VEVENT
BEGIN:VEVENT
DTSTART;TZID=UTC:20250730T180000
DTEND;TZID=UTC:20250730T220000
DTSTAMP:20260424T103613
CREATED:20250429T194625Z
LAST-MODIFIED:20250429T194625Z
UID:10001382-1753898400-1753912800@celebratefairfax.org
SUMMARY:Wakefield Market
DESCRIPTION:
URL:https://celebratefairfax.org/event/wakefield-market-2/2025-07-30/
LOCATION:United States
CATEGORIES:Farmer's Markets Guide
ATTACH;FMTTYPE=image/avif:https://celebratefairfax.org/wp-content/uploads/2025/04/fresh-produce-display.avif
END:VEVENT
BEGIN:VEVENT
DTSTART;TZID=UTC:20250730T190000
DTEND;TZID=UTC:20250730T230000
DTSTAMP:20260424T103613
CREATED:20250429T200140Z
LAST-MODIFIED:20250429T200140Z
UID:10001699-1753902000-1753916400@celebratefairfax.org
SUMMARY:Reston Market
DESCRIPTION:
URL:https://celebratefairfax.org/event/reston-market-2-2/2025-07-30/
LOCATION:United States
CATEGORIES:Farmer's Markets Guide
ATTACH;FMTTYPE=image/avif:https://celebratefairfax.org/wp-content/uploads/2025/04/fresh-produce-display.avif
END:VEVENT
BEGIN:VEVENT
DTSTART;TZID=UTC:20250731T120000
DTEND;TZID=UTC:20250731T160000
DTSTAMP:20260424T103613
CREATED:20250429T145126Z
LAST-MODIFIED:20250429T145126Z
UID:10001220-1753963200-1753977600@celebratefairfax.org
SUMMARY:Annandale Market
DESCRIPTION:
URL:https://celebratefairfax.org/event/annandale-market-2/2025-07-31/
LOCATION:United States
CATEGORIES:Farmer's Markets Guide
ATTACH;FMTTYPE=image/avif:https://celebratefairfax.org/wp-content/uploads/2025/04/fresh-produce-display.avif
END:VEVENT
BEGIN:VEVENT
DTSTART;TZID=UTC:20250731T190000
DTEND;TZID=UTC:20250731T210000
DTSTAMP:20260424T103613
CREATED:20250617T155632Z
LAST-MODIFIED:20250617T155835Z
UID:10002082-1753988400-1753995600@celebratefairfax.org
SUMMARY:Films in the Park | Scooby Doo
DESCRIPTION:Films In The Park returns to Mosaic for another summer filled with blockbuster hits and family favorites. All movies starts a 7pm. \nFilm lovers can watch on the larger-than-life outdoor screen while sitting picnic-style in Strawberry Park. \nAll movies are shown rain or shine unless otherwise noted.
URL:https://celebratefairfax.org/event/films-in-the-park-scooby-doo/
LOCATION:Mosaic District\, 2910 District Ave\, Fairfax\, VA\, 22031\, United States
CATEGORIES:Outdoor Movie Guide 2025
ATTACH;FMTTYPE=image/png:https://celebratefairfax.org/wp-content/uploads/2025/06/couple-watching-outdoor-movie.avif
END:VEVENT
BEGIN:VEVENT
DTSTART;TZID=UTC:20250801T120000
DTEND;TZID=UTC:20250801T160000
DTSTAMP:20260424T103613
CREATED:20250429T184030Z
LAST-MODIFIED:20250429T184030Z
UID:10001274-1754049600-1754064000@celebratefairfax.org
SUMMARY:McLean Market
DESCRIPTION:
URL:https://celebratefairfax.org/event/mclean-market-2/2025-08-01/
LOCATION:United States
CATEGORIES:Farmer's Markets Guide
ATTACH;FMTTYPE=image/avif:https://celebratefairfax.org/wp-content/uploads/2025/04/fresh-produce-display.avif
END:VEVENT
END:VCALENDAR