BEGIN:VCALENDAR
VERSION:2.0
PRODID:-//Celebrate Fairfax - ECPv6.15.20//NONSGML v1.0//EN
CALSCALE:GREGORIAN
METHOD:PUBLISH
X-WR-CALNAME:Celebrate Fairfax
X-ORIGINAL-URL:https://celebratefairfax.org
X-WR-CALDESC:Events for Celebrate Fairfax
REFRESH-INTERVAL;VALUE=DURATION:PT1H
X-Robots-Tag:noindex
X-PUBLISHED-TTL:PT1H
BEGIN:VTIMEZONE
TZID:UTC
BEGIN:STANDARD
TZOFFSETFROM:+0000
TZOFFSETTO:+0000
TZNAME:UTC
DTSTART:20240101T000000
END:STANDARD
END:VTIMEZONE
BEGIN:VEVENT
DTSTART;TZID=UTC:20250614T200000
DTEND;TZID=UTC:20250614T220000
DTSTAMP:20260420T132836
CREATED:20250610T162437Z
LAST-MODIFIED:20250610T162455Z
UID:10002066-1749931200-1749938400@celebratefairfax.org
SUMMARY:Eileen Garnett Civic Space Movie Night: The Princess Bride
DESCRIPTION:Prepare for Adventure and True Love Under the Stars! \nJoin us for an unforgettable outdoor movie night featuring the beloved classic\, “The Princess Bride”! \nGet ready to quote your favorite lines and cheer for Westley and Buttercup as we transform the Eileen Garnett Civic Space into an open-air cinema. It’s the perfect way to spend a summer evening with family and friends in the heart of Annandale. \nDate: Saturday\, June 14th Time: 8:00 PM (Come a little early to snag a good spot!) Location: Eileen Garnett Civic Space\, 7200 Columbia Pike\, Annandale\, VA \n“As you wish!” Pack your blankets\, lawn chairs\, and maybe even a picnic (though no open flames\, please!) for a magical evening. \nThis is a FREE community event\, so bring your friends\, family\, and anyone who appreciates a tale of fencing\, fighting\, torture\, revenge\, giants\, monsters\, chases\, escapes\, true love\, and miracles! \nDon’t miss out on this “inconceivable” night of fun!
URL:https://celebratefairfax.org/event/eileen-garnett-civic-space-movie-night-the-princess-bride/
LOCATION:Annandale Pop-Up Park\, 7200 Columbia Pike\, Annandale\, VA\, 22003\, United States
ATTACH;FMTTYPE=image/png:https://celebratefairfax.org/wp-content/uploads/2025/06/welcome-to-the-eileen-garnett-civic-space-movie-night.avif
END:VEVENT
BEGIN:VEVENT
DTSTART;TZID=UTC:20250615T130000
DTEND;TZID=UTC:20250615T180000
DTSTAMP:20260420T132836
CREATED:20250429T195858Z
LAST-MODIFIED:20250429T195858Z
UID:10001426-1749992400-1750010400@celebratefairfax.org
SUMMARY:Mosaic District Market
DESCRIPTION:
URL:https://celebratefairfax.org/event/mosaic-district-market-2/2025-06-15/
LOCATION:United States
CATEGORIES:Farmer's Markets Guide
ATTACH;FMTTYPE=image/avif:https://celebratefairfax.org/wp-content/uploads/2025/04/fresh-produce-display.avif
END:VEVENT
BEGIN:VEVENT
DTSTART;TZID=UTC:20250615T140000
DTEND;TZID=UTC:20250615T220000
DTSTAMP:20260420T132836
CREATED:20250522T141006Z
LAST-MODIFIED:20250522T141006Z
UID:10002037-1749996000-1750024800@celebratefairfax.org
SUMMARY:Thai Street Food Market
DESCRIPTION:The NVA Thai Center is launching a monthly market featuring Thai food\, crafts\, and performances at the Eileen Garnett Civic Space in the center of Annandale. \n\n\n\nThe Thai market will have about 25 to 30 food vendors and 10 to 15 other vendors offering jewelry\, crochet items\, and other handicrafts\, says Project Manager Ruchchai Komol. \n\n\n\nThere will also be live music and a demonstration of Muay Thai\, a type of boxing from Thailand. \n\n\n\nThe event is free. Parking is available at the Annandale Fire Station next door.
URL:https://celebratefairfax.org/event/thai-street-food-market/
LOCATION:United States
CATEGORIES:Immigrant Heritage Month Guide
ATTACH;FMTTYPE=image/avif:https://celebratefairfax.org/wp-content/uploads/2025/05/thai-american-community-celebrates-cultural-heritage.avif
END:VEVENT
BEGIN:VEVENT
DTSTART;TZID=UTC:20250617T190000
DTEND;TZID=UTC:20250617T200000
DTSTAMP:20260420T132836
CREATED:20250610T154218Z
LAST-MODIFIED:20250610T154218Z
UID:10002053-1750186800-1750190400@celebratefairfax.org
SUMMARY:“Written in the Waters”: An Evening with National Geographic Explorer-in-Residence Tara Roberts
DESCRIPTION:MCC Celebrates Juneteenth!\nPerspective Speakers Series\n“Written in the Waters”: An Evening with National Geographic Explorer-in-Residence Tara Roberts \nTuesday\, June 17\, 7 p.m.\nFree admission. Registration is required. Register on the FCPL website.\nPresented in Partnership with the Fairfax County Public Library. National Geographic explorer and storyteller Tara Roberts follows a team on a quest to document and identify sunken slave shipwrecks. Part adventure story\, part scientific log\, and part personal memoir\, “Written in the Waters” catalogues Tara’s journey with divers\, historians\, and archeologists who are searching the Middle Passage for the wrecks of ships that carried enslaved Africans.
URL:https://celebratefairfax.org/event/written-in-the-waters-an-evening-with-national-geographic-explorer-in-residence-tara-roberts/
LOCATION:The Alden Theatre\, 1234 Ingleside Ave\, McLean\, VA\, 22101\, United States
ATTACH;FMTTYPE=image/avif:https://celebratefairfax.org/wp-content/uploads/2025/06/african-american-woman-with-short-hair.avif
END:VEVENT
BEGIN:VEVENT
DTSTART;TZID=UTC:20250618T100000
DTEND;TZID=UTC:20250618T224500
DTSTAMP:20260420T132836
CREATED:20250619T175124Z
LAST-MODIFIED:20250619T190349Z
UID:10006966-1750240800-1750286700@celebratefairfax.org
SUMMARY:Hunter Mill Melodies (Kids)– Visitor Pavillion
DESCRIPTION:Welcome to the 2025 Hunter Mill Melodies concert series at Frying Pan Farm Park!  This is a free entertainment series and features a wide variety of musical acts from across the United States and from around the world.  Come early for a picnic in the park and visit with the farm animals.  Then\, set up your blanket or chair\, sit back and relax\, and enjoy the show. \nJun 18–Aug 13 \nWednesdays 10 am
URL:https://celebratefairfax.org/event/hunter-mill-melodies-kids-visitor-pavillion/2025-06-18/
LOCATION:Frying Pan Park\, 2709 W Ox Road\, Herndon\, VA\, 20171\, United States
CATEGORIES:Summer Concert Series Guide 2025
ATTACH;FMTTYPE=image/avif:https://celebratefairfax.org/wp-content/uploads/2025/06/hunter-mill-melodies.avif
END:VEVENT
BEGIN:VEVENT
DTSTART;TZID=UTC:20250618T180000
DTEND;TZID=UTC:20250618T220000
DTSTAMP:20260420T132836
CREATED:20250429T194625Z
LAST-MODIFIED:20250429T194625Z
UID:10001376-1750269600-1750284000@celebratefairfax.org
SUMMARY:Wakefield Market
DESCRIPTION:
URL:https://celebratefairfax.org/event/wakefield-market-2/2025-06-18/
LOCATION:United States
CATEGORIES:Farmer's Markets Guide
ATTACH;FMTTYPE=image/avif:https://celebratefairfax.org/wp-content/uploads/2025/04/fresh-produce-display.avif
END:VEVENT
BEGIN:VEVENT
DTSTART;TZID=UTC:20250618T190000
DTEND;TZID=UTC:20250618T230000
DTSTAMP:20260420T132836
CREATED:20250429T200140Z
LAST-MODIFIED:20250429T200140Z
UID:10001693-1750273200-1750287600@celebratefairfax.org
SUMMARY:Reston Market
DESCRIPTION:
URL:https://celebratefairfax.org/event/reston-market-2-2/2025-06-18/
LOCATION:United States
CATEGORIES:Farmer's Markets Guide
ATTACH;FMTTYPE=image/avif:https://celebratefairfax.org/wp-content/uploads/2025/04/fresh-produce-display.avif
END:VEVENT
BEGIN:VEVENT
DTSTART;TZID=UTC:20250619T120000
DTEND;TZID=UTC:20250619T160000
DTSTAMP:20260420T132836
CREATED:20250429T145126Z
LAST-MODIFIED:20250429T145126Z
UID:10001214-1750334400-1750348800@celebratefairfax.org
SUMMARY:Annandale Market
DESCRIPTION:
URL:https://celebratefairfax.org/event/annandale-market-2/2025-06-19/
LOCATION:United States
CATEGORIES:Farmer's Markets Guide
ATTACH;FMTTYPE=image/avif:https://celebratefairfax.org/wp-content/uploads/2025/04/fresh-produce-display.avif
END:VEVENT
BEGIN:VEVENT
DTSTART;TZID=UTC:20250619T151500
DTEND;TZID=UTC:20250619T174500
DTSTAMP:20260420T132836
CREATED:20250522T141405Z
LAST-MODIFIED:20250522T141405Z
UID:10002038-1750346100-1750355100@celebratefairfax.org
SUMMARY:Juneteenth Smudge Stick Floral Workshop
DESCRIPTION:(Adults) This Juneteenth join BLK FLWR MRKT\, a local Black woman-owned business\, in making a floral smudge stick – sometimes known as a smoke wand. \n\n\n\nSmudge sticks\, a bundle of botanicals burned for aroma\, have been used by many cultures throughout the world to cleanse and purify both physical spaces and mental energies. \n\n\n\nLearn about the specially selected herbs and flowers you will use and the historical and cultural importance they hold for Black Americans. Engage your inner-self through writing affirmations\, inner-child games and blindfolded sensory activities. \n\n\n\nSign up for sessions starting at 11:15 a.m. and 1:45 p.m.
URL:https://celebratefairfax.org/event/juneteenth-smudge-stick-floral-workshop/
LOCATION:United States
CATEGORIES:Immigrant Heritage Month Guide
ATTACH;FMTTYPE=image/avif:https://celebratefairfax.org/wp-content/uploads/2025/05/juneteenth-smudge-stick-floral-workshop.avif
END:VEVENT
BEGIN:VEVENT
DTSTART;TZID=UTC:20250619T190000
DTEND;TZID=UTC:20250619T200000
DTSTAMP:20260420T132836
CREATED:20250610T154457Z
LAST-MODIFIED:20250610T154457Z
UID:10002054-1750359600-1750363200@celebratefairfax.org
SUMMARY:The Pack Drumline
DESCRIPTION:MCC Celebrates Juneteenth!\nThursday\, June 19\, 7 p.m.\nFree admission. \nThis electrifying performance will have you on the edge of your seat or blanket! The Pack Drumline’s renowned blend of southern show-style drumming with intense\, upbeat choreography creates a production that is both powerful and awe-inspiring. Together\, dynamic percussionists and dancers create explosive rhythms\, intricate patterns\, and stunning visuals.
URL:https://celebratefairfax.org/event/the-pack-drumline/
LOCATION:McLean Central Park\, 1468 Dolley Madison Blvd\, McLean\, VA\, 22101\, United States
ATTACH;FMTTYPE=image/avif:https://celebratefairfax.org/wp-content/uploads/2025/06/musicians-on-stage.avif
END:VEVENT
BEGIN:VEVENT
DTSTART;TZID=UTC:20250619T190000
DTEND;TZID=UTC:20250619T203000
DTSTAMP:20260420T132836
CREATED:20250619T163250Z
LAST-MODIFIED:20250619T190620Z
UID:10004570-1750359600-1750365000@celebratefairfax.org
SUMMARY:Concerts in the Park – Cherry Hill Park
DESCRIPTION:The Summer Concerts in the Park Series hosted by the Falls Church Village Preservation and Improvement Society (VPIS) and the Recreation and Parks Department returns for its 33rd year! \nConcerts in the Park are Thursdays in June and July this year! Guests are encouraged to bring a blanket or folding chairs and a picnic dinner to the concerts. \nConcerts start at 7 p.m. and range from 60 minutes to 90 minutes long. Advanced registration is not required. \n 
URL:https://celebratefairfax.org/event/concerts-in-the-park-cherry-hill-park/2025-06-19/
CATEGORIES:Summer Concert Series Guide 2025
ATTACH;FMTTYPE=image/png:https://celebratefairfax.org/wp-content/uploads/2025/06/concerts-in-the-park.avif
END:VEVENT
BEGIN:VEVENT
DTSTART;TZID=UTC:20250619T190000
DTEND;TZID=UTC:20250619T210000
DTSTAMP:20260420T132836
CREATED:20250617T154946Z
LAST-MODIFIED:20250617T154946Z
UID:10002076-1750359600-1750366800@celebratefairfax.org
SUMMARY:Films in the Park | Sonic The Hedgehog 3
DESCRIPTION:Films In The Park returns to Mosaic for another summer filled with blockbuster hits and family favorites. All movies starts a 7pm. \nFilm lovers can watch on the larger-than-life outdoor screen while sitting picnic-style in Strawberry Park. \nAll movies are shown rain or shine unless otherwise noted.
URL:https://celebratefairfax.org/event/films-in-the-park-sonic-the-hedgehog-3/
LOCATION:Mosaic District\, 2910 District Ave\, Fairfax\, VA\, 22031\, United States
CATEGORIES:Outdoor Movie Guide 2025
ATTACH;FMTTYPE=image/png:https://celebratefairfax.org/wp-content/uploads/2025/06/couple-watching-outdoor-movie.avif
END:VEVENT
BEGIN:VEVENT
DTSTART;TZID=UTC:20250620T120000
DTEND;TZID=UTC:20250620T160000
DTSTAMP:20260420T132836
CREATED:20250429T184030Z
LAST-MODIFIED:20250429T184030Z
UID:10001268-1750420800-1750435200@celebratefairfax.org
SUMMARY:McLean Market
DESCRIPTION:
URL:https://celebratefairfax.org/event/mclean-market-2/2025-06-20/
LOCATION:United States
CATEGORIES:Farmer's Markets Guide
ATTACH;FMTTYPE=image/avif:https://celebratefairfax.org/wp-content/uploads/2025/04/fresh-produce-display.avif
END:VEVENT
BEGIN:VEVENT
DTSTART;TZID=UTC:20250620T193000
DTEND;TZID=UTC:20250620T203000
DTSTAMP:20260420T132836
CREATED:20250619T141625Z
LAST-MODIFIED:20250619T185938Z
UID:10002107-1750447800-1750451400@celebratefairfax.org
SUMMARY:Spotlight by Starlight – Mason District Park
DESCRIPTION:Mason District is thrilled to invite you to Fairfax County’s concert series featuring the Spotlight by Starlight concerts. Enjoy entertainment by a diverse range of artists from around the world! \nJun 20–Aug 17\nFridays & Sundays 7:30 pm\nSaturdays 10 am
URL:https://celebratefairfax.org/event/spotlight-by-starlight-mason-district-park/2025-06-20/
LOCATION:Mason District Park\, 6621 Columbia Pike\, Annandale\, VA\, 22003\, United States
CATEGORIES:Summer Concert Series Guide 2025
ATTACH;FMTTYPE=image/avif:https://celebratefairfax.org/wp-content/uploads/2025/06/spotlight-by-starlight-mason-district-summer-entertainment-series.avif
END:VEVENT
BEGIN:VEVENT
DTSTART;TZID=UTC:20250620T193000
DTEND;TZID=UTC:20250620T203000
DTSTAMP:20260420T132836
CREATED:20250619T164043Z
LAST-MODIFIED:20250619T190725Z
UID:10004571-1750447800-1750451400@celebratefairfax.org
SUMMARY:Mount Vernon Nights – Grist Mill Park
DESCRIPTION:Welcome to Mount Vernon Nights Summer Concert Series!  These free\, public concerts at Grist Mill Park and the Workhouse Arts Center feature a variety of musical performances reflecting Fairfax County’s diversity\, culture and community spirit.  Bring a picnic dinner\, chair or blanket and enjoy one of Fairfax County’s special summer traditions. \nJun 6–Aug 29 \nFridays 7:30 pm
URL:https://celebratefairfax.org/event/mount-vernon-nights-grist-mill-park/2025-06-20/
LOCATION:Grist Mill Park\, 4710 Mt. Vernon Memorial Hwy\, Alexandria\, VA\, 22309\, United States
CATEGORIES:Summer Concert Series Guide 2025
ATTACH;FMTTYPE=image/avif:https://celebratefairfax.org/wp-content/uploads/2025/06/mount-vernon-nights-summer-concert-series.avif
END:VEVENT
BEGIN:VEVENT
DTSTART;TZID=UTC:20250621T100000
DTEND;TZID=UTC:20250621T104500
DTSTAMP:20260420T132836
CREATED:20250619T142025Z
LAST-MODIFIED:20250619T183202Z
UID:10002351-1750500000-1750502700@celebratefairfax.org
SUMMARY:Spotlight by Starlight – Mason District Park
DESCRIPTION:Mason District is thrilled to invite you to Fairfax County’s concert series featuring the Spotlight by Starlight concerts. Enjoy entertainment by a diverse range of artists from around the world! \nJun 20–Aug 17\nFridays & Sundays 7:30 pm\nSaturdays 10 am
URL:https://celebratefairfax.org/event/spotlight-by-starlight-mason-district-park-2/2025-06-21/
LOCATION:Mason District Park\, 6621 Columbia Pike\, Annandale\, VA\, 22003\, United States
CATEGORIES:Summer Concert Series Guide 2025
ATTACH;FMTTYPE=image/avif:https://celebratefairfax.org/wp-content/uploads/2025/06/mason-district-supervisor-andres-jimenez-invites-you-to-spotlight-by-starlight.avif
END:VEVENT
BEGIN:VEVENT
DTSTART;TZID=UTC:20250621T100000
DTEND;TZID=UTC:20250621T104500
DTSTAMP:20260420T132836
CREATED:20250619T154328Z
LAST-MODIFIED:20250619T185336Z
UID:10002413-1750500000-1750502700@celebratefairfax.org
SUMMARY:Arts in the Parks – Wakefield Park
DESCRIPTION:Arts in the Parks – a free children’s entertainment series \nJun 14–Aug 16 \nSaturdays 10 am
URL:https://celebratefairfax.org/event/arts-in-the-parks-wakefield-park/2025-06-21/
LOCATION:Wakefield Park\, 8100 Braddock Road\, Annandale\, VA\, 22003\, United States
CATEGORIES:Summer Concert Series Guide 2025
ATTACH;FMTTYPE=image/avif:https://celebratefairfax.org/wp-content/uploads/2025/06/arts-in-the-parks.avif
END:VEVENT
BEGIN:VEVENT
DTSTART;TZID=UTC:20250621T100000
DTEND;TZID=UTC:20250621T104500
DTSTAMP:20260420T132836
CREATED:20250619T155136Z
LAST-MODIFIED:20250619T185429Z
UID:10002949-1750500000-1750502700@celebratefairfax.org
SUMMARY:Arts in the Parks – E.C. Lawrence Park
DESCRIPTION:Arts in the Park – a free children’s entertainment series \nJun 14–Aug 16 \nSaturdays 10 am
URL:https://celebratefairfax.org/event/arts-in-the-parks-e-c-lawrence-park/2025-06-21/
LOCATION:E.C. Lawrence Park\, 5040 Walney Road\, Chantilly\, VA\, 20151\, United States
CATEGORIES:Summer Concert Series Guide 2025
ATTACH;FMTTYPE=image/avif:https://celebratefairfax.org/wp-content/uploads/2025/06/arts-in-the-parks.avif
END:VEVENT
BEGIN:VEVENT
DTSTART;TZID=UTC:20250621T100000
DTEND;TZID=UTC:20250621T104500
DTSTAMP:20260420T132836
CREATED:20250619T155601Z
LAST-MODIFIED:20250619T185106Z
UID:10003218-1750500000-1750502700@celebratefairfax.org
SUMMARY:Arts in the Parks – Burke Lake Park
DESCRIPTION:Arts in the Park – a free children’s entertainment series \nJun 14–Aug 16 \nSaturdays 10 am \n 
URL:https://celebratefairfax.org/event/arts-in-the-parks-burke-lake-park/2025-06-21/
LOCATION:Burke Lake Park\, 7315 Ox Road\, Fairfax Station\, VA\, 22039\, United States
ATTACH;FMTTYPE=image/avif:https://celebratefairfax.org/wp-content/uploads/2025/06/arts-in-the-parks.avif
END:VEVENT
BEGIN:VEVENT
DTSTART;TZID=UTC:20250621T120000
DTEND;TZID=UTC:20250621T160000
DTSTAMP:20260420T132836
CREATED:20250429T143108Z
LAST-MODIFIED:20250429T143108Z
UID:10001184-1750507200-1750521600@celebratefairfax.org
SUMMARY:Reston Market
DESCRIPTION:
URL:https://celebratefairfax.org/event/reston-market-3/2025-06-21/
LOCATION:United States
CATEGORIES:Farmer's Markets Guide
ATTACH;FMTTYPE=image/avif:https://celebratefairfax.org/wp-content/uploads/2025/04/fresh-produce-display.avif
END:VEVENT
BEGIN:VEVENT
DTSTART;TZID=UTC:20250621T150000
DTEND;TZID=UTC:20250621T170000
DTSTAMP:20260420T132836
CREATED:20250610T152322Z
LAST-MODIFIED:20250610T152322Z
UID:10002048-1750518000-1750525200@celebratefairfax.org
SUMMARY:Fourth Annual Bull Run: Juneteenth Commemoration
DESCRIPTION:Join a celebration of the largest emancipation prior to the Civil War and the lives of the enslaved and their descendants. This emancipation occurred at the current site of Bull Run Regional Park.
URL:https://celebratefairfax.org/event/fourth-annual-bull-run-juneteenth-commemoration/
LOCATION:Bull Run Regional Park\, 7700 Bull Run Dr\, Centerville\, VA\, 20121\, United States
CATEGORIES:Immigrant Heritage Month Guide
ATTACH;FMTTYPE=image/png:https://celebratefairfax.org/wp-content/uploads/2025/06/celebrate-juneteenth.avif
END:VEVENT
BEGIN:VEVENT
DTSTART;TZID=UTC:20250621T150000
DTEND;TZID=UTC:20250621T220000
DTSTAMP:20260420T132836
CREATED:20250612T181356Z
LAST-MODIFIED:20250612T181356Z
UID:10002069-1750518000-1750543200@celebratefairfax.org
SUMMARY:Fête de la Musique
DESCRIPTION:Georgetown Heritage Arts\, the Georgetown Business Improvement District [BID]\, and the Embassy of France-Villa Albertine are partnering to host our second annual Fête de la Musique – World Music Day on Saturday\, June 21. 40+ musical acts will perform outside in dozens of locations throughout Georgetown (3–7 pm)\, or at one of several stages at Villa Albertine (6–10 pm). The music schedule and list of performers will be announced soon!
URL:https://celebratefairfax.org/event/fete-de-la-musique/
ATTACH;FMTTYPE=image/avif:https://celebratefairfax.org/wp-content/uploads/2025/06/world-music-day-2025-fete-de-la-musique-georgetown-dc.avif
END:VEVENT
BEGIN:VEVENT
DTSTART;TZID=UTC:20250621T183000
DTEND;TZID=UTC:20250621T210000
DTSTAMP:20260420T132836
CREATED:20250617T162104Z
LAST-MODIFIED:20250617T162104Z
UID:10002089-1750530600-1750539600@celebratefairfax.org
SUMMARY:Reston Station's Summerbration | The Goonies
DESCRIPTION:
URL:https://celebratefairfax.org/event/reston-stations-summerbration-the-goonies/
LOCATION:Reston Station\, 1800 Reston Row Plz\, Reston\, VA\, 20190\, United States
CATEGORIES:Outdoor Movie Guide 2025
ATTACH;FMTTYPE=image/png:https://celebratefairfax.org/wp-content/uploads/2025/06/couple-watching-outdoor-movie.avif
END:VEVENT
BEGIN:VEVENT
DTSTART;TZID=UTC:20250621T193000
DTEND;TZID=UTC:20250621T203000
DTSTAMP:20260420T132836
CREATED:20250619T153608Z
LAST-MODIFIED:20250619T185245Z
UID:10002412-1750534200-1750537800@celebratefairfax.org
SUMMARY:Spotlight by Starlight – Ossian Hall Park
DESCRIPTION:Mason District is thrilled to invite you to Fairfax County’s concert series featuring the Spotlight by Starlight concerts. Enjoy entertainment by a diverse range of artists from around the world! \nJun 14–Aug 16 \nSaturdays 7:30 pm
URL:https://celebratefairfax.org/event/spotlight-by-starlight-ossian-hall-park/2025-06-21/
LOCATION:Ossian Hall Park\, 7900 Heritage Dr\, Annandale\, VA\, 22003\, United States
CATEGORIES:Summer Concert Series Guide 2025
ATTACH;FMTTYPE=image/avif:https://celebratefairfax.org/wp-content/uploads/2025/06/mason-district-supervisor-andres-jimenez-invites-you-to-spotlight-by-starlight.avif
END:VEVENT
BEGIN:VEVENT
DTSTART;TZID=UTC:20250621T193000
DTEND;TZID=UTC:20250621T203000
DTSTAMP:20260420T132836
CREATED:20250619T164427Z
LAST-MODIFIED:20250619T190821Z
UID:10004842-1750534200-1750537800@celebratefairfax.org
SUMMARY:Mount Vernon Nights – Workhouse Arts Center
DESCRIPTION:Welcome to Mount Vernon Nights Summer Concert Series!  These free\, public concerts at Grist Mill Park and the Workhouse Arts Center feature a variety of musical performances reflecting Fairfax County’s diversity\, culture and community spirit.  Bring a picnic dinner\, chair or blanket and enjoy one of Fairfax County’s special summer traditions. \nJun 7–Aug 30 \nSaturdays 7:30 pm
URL:https://celebratefairfax.org/event/mount-vernon-nights-workhouse-arts-center/2025-06-21/
CATEGORIES:Summer Concert Series Guide 2025
ATTACH;FMTTYPE=image/avif:https://celebratefairfax.org/wp-content/uploads/2025/06/mount-vernon-nights-summer-concert-series.avif
END:VEVENT
BEGIN:VEVENT
DTSTART;TZID=UTC:20250622T130000
DTEND;TZID=UTC:20250622T180000
DTSTAMP:20260420T132836
CREATED:20250429T195858Z
LAST-MODIFIED:20250429T195858Z
UID:10001427-1750597200-1750615200@celebratefairfax.org
SUMMARY:Mosaic District Market
DESCRIPTION:
URL:https://celebratefairfax.org/event/mosaic-district-market-2/2025-06-22/
LOCATION:United States
CATEGORIES:Farmer's Markets Guide
ATTACH;FMTTYPE=image/avif:https://celebratefairfax.org/wp-content/uploads/2025/04/fresh-produce-display.avif
END:VEVENT
BEGIN:VEVENT
DTSTART;TZID=UTC:20250622T190000
DTEND;TZID=UTC:20250622T200000
DTSTAMP:20260420T132836
CREATED:20250619T181847Z
LAST-MODIFIED:20250619T181847Z
UID:10008042-1750618800-1750622400@celebratefairfax.org
SUMMARY:Sunday Art in the Park: ClarVoice Trio
DESCRIPTION:Free • All Ages \nRomantic & Inspiring Works \nPack a picnic and join the renowned Shenandoah Conservatory on Sunday evenings this summer! \nClarVoice Trio \nShenandoah Conservatory’s Professor of Clarinet Garrick Zoeter and soprano Mariana Mihai-Zoeter interpret romantic and inspiring works from around the world as well as uplifting jazz and classically inflected music\, guaranteed to lift your spirit.
URL:https://celebratefairfax.org/event/sunday-art-in-the-park-clarvoice-trio/
LOCATION:Reston Town Square Park\, 1880 Explorer St\, Reston\, VA\, 20190\, United States
CATEGORIES:Summer Concert Series Guide 2025
ATTACH;FMTTYPE=image/avif:https://celebratefairfax.org/wp-content/uploads/2025/06/outdoor-concert-in-the-park.avif
END:VEVENT
BEGIN:VEVENT
DTSTART;TZID=UTC:20250625T180000
DTEND;TZID=UTC:20250625T200000
DTSTAMP:20260420T132836
CREATED:20250807T162307Z
LAST-MODIFIED:20250807T162307Z
UID:10002067-1750874400-1750881600@celebratefairfax.org
SUMMARY:Fairfax Regional Artist Survey Community Engagement Event
DESCRIPTION:Are you an artist\, arts administrator\, or an arts enthusiast? Join ArtsFairfax as we uncover survey results from our Fairfax Regional Artist Survey\, designed for individual artists of all disciplines to identify the needs and obstacles they face in living and working in Fairfax County\, the City of Fairfax\, and the City of Falls Church. \nArtsFairfax and research partners AMS Analytics will present what we learned about individual artists\, including their artistic practices\, priorities\, challenges\, and what they need to thrive. \nGather in the Community Room of Reston Community Center for a briefing of the results followed by an opportunity to ask questions. Prepare to engage with your neighbors for a community discussion and let your voice be heard by ArtsFairfax\, your local arts agency. \nRegistration is encouraged; participants can check in upon arrival. Doors open around 5:45 pm\, and the event ends at 8.
URL:https://celebratefairfax.org/event/fairfax-regional-artist-survey-community-engagement-event/
LOCATION:Reston Community Center\, 2310 Colts Neck Road\, Reston\, VA\, 20191\, United States
CATEGORIES:Braddock District,City of Fairfax,Dranesville District,Franconia District,Hunter Mill District,Mason District,Mount Vernon District,Providence District,Sully District,Town of Vienna
ATTACH;FMTTYPE=image/png:https://celebratefairfax.org/wp-content/uploads/2025/06/Artist-Survey-Event-Image-1.avif
ORGANIZER;CN="ArtsFairfax":MAILTO:info@artsfairfax.org
END:VEVENT
BEGIN:VEVENT
DTSTART;TZID=UTC:20250625T180000
DTEND;TZID=UTC:20250625T220000
DTSTAMP:20260420T132836
CREATED:20250429T194625Z
LAST-MODIFIED:20250429T194625Z
UID:10001377-1750874400-1750888800@celebratefairfax.org
SUMMARY:Wakefield Market
DESCRIPTION:
URL:https://celebratefairfax.org/event/wakefield-market-2/2025-06-25/
LOCATION:United States
CATEGORIES:Farmer's Markets Guide
ATTACH;FMTTYPE=image/avif:https://celebratefairfax.org/wp-content/uploads/2025/04/fresh-produce-display.avif
END:VEVENT
BEGIN:VEVENT
DTSTART;TZID=UTC:20250625T190000
DTEND;TZID=UTC:20250625T200000
DTSTAMP:20260420T132836
CREATED:20250619T160320Z
LAST-MODIFIED:20250619T185537Z
UID:10003756-1750878000-1750881600@celebratefairfax.org
SUMMARY:Springfield Nights – Burke Lake Park
DESCRIPTION:Welcome to the seventh season of free concerts in the park!  The setting is beautiful Burke Lake Park.  The atmosphere is informal so bring a picnic dinner\, blankets and lawn chairs\, and relax with family and friends.  We will also have food trucks\, 2 Silos beer and Kona Ice for sale. \nJun 25 – Aug 20 \nWednesdays 7 pm \n 
URL:https://celebratefairfax.org/event/springfield-nights-burke-lake-park/2025-06-25/
LOCATION:Burke Lake Park\, 7315 Ox Road\, Fairfax Station\, VA\, 22039\, United States
CATEGORIES:Summer Concert Series Guide 2025
ATTACH;FMTTYPE=image/avif:https://celebratefairfax.org/wp-content/uploads/2025/06/springfield-nights.avif
END:VEVENT
END:VCALENDAR