BEGIN:VCALENDAR
VERSION:2.0
PRODID:-//Celebrate Fairfax - ECPv6.15.20//NONSGML v1.0//EN
CALSCALE:GREGORIAN
METHOD:PUBLISH
X-ORIGINAL-URL:https://celebratefairfax.org
X-WR-CALDESC:Events for Celebrate Fairfax
REFRESH-INTERVAL;VALUE=DURATION:PT1H
X-Robots-Tag:noindex
X-PUBLISHED-TTL:PT1H
BEGIN:VTIMEZONE
TZID:UTC
BEGIN:STANDARD
TZOFFSETFROM:+0000
TZOFFSETTO:+0000
TZNAME:UTC
DTSTART:20280101T000000
END:STANDARD
END:VTIMEZONE
BEGIN:VEVENT
DTSTART;TZID=UTC:20290506T130000
DTEND;TZID=UTC:20290506T180000
DTSTAMP:20260424T122900
CREATED:20250429T195858Z
LAST-MODIFIED:20250429T195858Z
UID:10001629-1872766800-1872784800@celebratefairfax.org
SUMMARY:Mosaic District Market
DESCRIPTION:
URL:https://celebratefairfax.org/event/mosaic-district-market-2/2029-05-06/
LOCATION:VA\, United States
CATEGORIES:Farmer's Markets Guide
ATTACH;FMTTYPE=image/avif:https://celebratefairfax.org/wp-content/uploads/2025/04/fresh-produce-display.avif
END:VEVENT
BEGIN:VEVENT
DTSTART;TZID=UTC:20290513T130000
DTEND;TZID=UTC:20290513T180000
DTSTAMP:20260424T122900
CREATED:20250429T195858Z
LAST-MODIFIED:20250429T195858Z
UID:10001630-1873371600-1873389600@celebratefairfax.org
SUMMARY:Mosaic District Market
DESCRIPTION:
URL:https://celebratefairfax.org/event/mosaic-district-market-2/2029-05-13/
LOCATION:VA\, United States
CATEGORIES:Farmer's Markets Guide
ATTACH;FMTTYPE=image/avif:https://celebratefairfax.org/wp-content/uploads/2025/04/fresh-produce-display.avif
END:VEVENT
BEGIN:VEVENT
DTSTART;TZID=UTC:20290520T130000
DTEND;TZID=UTC:20290520T180000
DTSTAMP:20260424T122900
CREATED:20250429T195858Z
LAST-MODIFIED:20250429T195858Z
UID:10001631-1873976400-1873994400@celebratefairfax.org
SUMMARY:Mosaic District Market
DESCRIPTION:
URL:https://celebratefairfax.org/event/mosaic-district-market-2/2029-05-20/
LOCATION:VA\, United States
CATEGORIES:Farmer's Markets Guide
ATTACH;FMTTYPE=image/avif:https://celebratefairfax.org/wp-content/uploads/2025/04/fresh-produce-display.avif
END:VEVENT
BEGIN:VEVENT
DTSTART;TZID=UTC:20290527T130000
DTEND;TZID=UTC:20290527T180000
DTSTAMP:20260424T122900
CREATED:20250429T195858Z
LAST-MODIFIED:20250429T195858Z
UID:10001632-1874581200-1874599200@celebratefairfax.org
SUMMARY:Mosaic District Market
DESCRIPTION:
URL:https://celebratefairfax.org/event/mosaic-district-market-2/2029-05-27/
LOCATION:VA\, United States
CATEGORIES:Farmer's Markets Guide
ATTACH;FMTTYPE=image/avif:https://celebratefairfax.org/wp-content/uploads/2025/04/fresh-produce-display.avif
END:VEVENT
BEGIN:VEVENT
DTSTART;TZID=UTC:20290603T130000
DTEND;TZID=UTC:20290603T180000
DTSTAMP:20260424T122900
CREATED:20250429T195858Z
LAST-MODIFIED:20250429T195858Z
UID:10001633-1875186000-1875204000@celebratefairfax.org
SUMMARY:Mosaic District Market
DESCRIPTION:
URL:https://celebratefairfax.org/event/mosaic-district-market-2/2029-06-03/
LOCATION:VA\, United States
CATEGORIES:Farmer's Markets Guide
ATTACH;FMTTYPE=image/avif:https://celebratefairfax.org/wp-content/uploads/2025/04/fresh-produce-display.avif
END:VEVENT
BEGIN:VEVENT
DTSTART;TZID=UTC:20290610T130000
DTEND;TZID=UTC:20290610T180000
DTSTAMP:20260424T122901
CREATED:20250429T195858Z
LAST-MODIFIED:20250429T195858Z
UID:10001634-1875790800-1875808800@celebratefairfax.org
SUMMARY:Mosaic District Market
DESCRIPTION:
URL:https://celebratefairfax.org/event/mosaic-district-market-2/2029-06-10/
LOCATION:VA\, United States
CATEGORIES:Farmer's Markets Guide
ATTACH;FMTTYPE=image/avif:https://celebratefairfax.org/wp-content/uploads/2025/04/fresh-produce-display.avif
END:VEVENT
BEGIN:VEVENT
DTSTART;TZID=UTC:20290617T130000
DTEND;TZID=UTC:20290617T180000
DTSTAMP:20260424T122901
CREATED:20250429T195858Z
LAST-MODIFIED:20250429T195858Z
UID:10001635-1876395600-1876413600@celebratefairfax.org
SUMMARY:Mosaic District Market
DESCRIPTION:
URL:https://celebratefairfax.org/event/mosaic-district-market-2/2029-06-17/
LOCATION:VA\, United States
CATEGORIES:Farmer's Markets Guide
ATTACH;FMTTYPE=image/avif:https://celebratefairfax.org/wp-content/uploads/2025/04/fresh-produce-display.avif
END:VEVENT
BEGIN:VEVENT
DTSTART;TZID=UTC:20290624T130000
DTEND;TZID=UTC:20290624T180000
DTSTAMP:20260424T122901
CREATED:20250429T195858Z
LAST-MODIFIED:20250429T195858Z
UID:10001636-1877000400-1877018400@celebratefairfax.org
SUMMARY:Mosaic District Market
DESCRIPTION:
URL:https://celebratefairfax.org/event/mosaic-district-market-2/2029-06-24/
LOCATION:VA\, United States
CATEGORIES:Farmer's Markets Guide
ATTACH;FMTTYPE=image/avif:https://celebratefairfax.org/wp-content/uploads/2025/04/fresh-produce-display.avif
END:VEVENT
BEGIN:VEVENT
DTSTART;TZID=UTC:20290701T130000
DTEND;TZID=UTC:20290701T180000
DTSTAMP:20260424T122901
CREATED:20250429T195858Z
LAST-MODIFIED:20250429T195858Z
UID:10001637-1877605200-1877623200@celebratefairfax.org
SUMMARY:Mosaic District Market
DESCRIPTION:
URL:https://celebratefairfax.org/event/mosaic-district-market-2/2029-07-01/
LOCATION:VA\, United States
CATEGORIES:Farmer's Markets Guide
ATTACH;FMTTYPE=image/avif:https://celebratefairfax.org/wp-content/uploads/2025/04/fresh-produce-display.avif
END:VEVENT
BEGIN:VEVENT
DTSTART;TZID=UTC:20290708T130000
DTEND;TZID=UTC:20290708T180000
DTSTAMP:20260424T122901
CREATED:20250429T195858Z
LAST-MODIFIED:20250429T195858Z
UID:10001638-1878210000-1878228000@celebratefairfax.org
SUMMARY:Mosaic District Market
DESCRIPTION:
URL:https://celebratefairfax.org/event/mosaic-district-market-2/2029-07-08/
LOCATION:VA\, United States
CATEGORIES:Farmer's Markets Guide
ATTACH;FMTTYPE=image/avif:https://celebratefairfax.org/wp-content/uploads/2025/04/fresh-produce-display.avif
END:VEVENT
BEGIN:VEVENT
DTSTART;TZID=UTC:20290715T130000
DTEND;TZID=UTC:20290715T180000
DTSTAMP:20260424T122901
CREATED:20250429T195858Z
LAST-MODIFIED:20250429T195858Z
UID:10001639-1878814800-1878832800@celebratefairfax.org
SUMMARY:Mosaic District Market
DESCRIPTION:
URL:https://celebratefairfax.org/event/mosaic-district-market-2/2029-07-15/
LOCATION:VA\, United States
CATEGORIES:Farmer's Markets Guide
ATTACH;FMTTYPE=image/avif:https://celebratefairfax.org/wp-content/uploads/2025/04/fresh-produce-display.avif
END:VEVENT
BEGIN:VEVENT
DTSTART;TZID=UTC:20290722T130000
DTEND;TZID=UTC:20290722T180000
DTSTAMP:20260424T122901
CREATED:20250429T195858Z
LAST-MODIFIED:20250429T195858Z
UID:10001640-1879419600-1879437600@celebratefairfax.org
SUMMARY:Mosaic District Market
DESCRIPTION:
URL:https://celebratefairfax.org/event/mosaic-district-market-2/2029-07-22/
LOCATION:VA\, United States
CATEGORIES:Farmer's Markets Guide
ATTACH;FMTTYPE=image/avif:https://celebratefairfax.org/wp-content/uploads/2025/04/fresh-produce-display.avif
END:VEVENT
BEGIN:VEVENT
DTSTART;TZID=UTC:20290729T130000
DTEND;TZID=UTC:20290729T180000
DTSTAMP:20260424T122901
CREATED:20250429T195858Z
LAST-MODIFIED:20250429T195858Z
UID:10001641-1880024400-1880042400@celebratefairfax.org
SUMMARY:Mosaic District Market
DESCRIPTION:
URL:https://celebratefairfax.org/event/mosaic-district-market-2/2029-07-29/
LOCATION:VA\, United States
CATEGORIES:Farmer's Markets Guide
ATTACH;FMTTYPE=image/avif:https://celebratefairfax.org/wp-content/uploads/2025/04/fresh-produce-display.avif
END:VEVENT
BEGIN:VEVENT
DTSTART;TZID=UTC:20290805T130000
DTEND;TZID=UTC:20290805T180000
DTSTAMP:20260424T122901
CREATED:20250429T195858Z
LAST-MODIFIED:20250429T195858Z
UID:10001642-1880629200-1880647200@celebratefairfax.org
SUMMARY:Mosaic District Market
DESCRIPTION:
URL:https://celebratefairfax.org/event/mosaic-district-market-2/2029-08-05/
LOCATION:VA\, United States
CATEGORIES:Farmer's Markets Guide
ATTACH;FMTTYPE=image/avif:https://celebratefairfax.org/wp-content/uploads/2025/04/fresh-produce-display.avif
END:VEVENT
BEGIN:VEVENT
DTSTART;TZID=UTC:20290812T130000
DTEND;TZID=UTC:20290812T180000
DTSTAMP:20260424T122901
CREATED:20250429T195858Z
LAST-MODIFIED:20250429T195858Z
UID:10001643-1881234000-1881252000@celebratefairfax.org
SUMMARY:Mosaic District Market
DESCRIPTION:
URL:https://celebratefairfax.org/event/mosaic-district-market-2/2029-08-12/
LOCATION:VA\, United States
CATEGORIES:Farmer's Markets Guide
ATTACH;FMTTYPE=image/avif:https://celebratefairfax.org/wp-content/uploads/2025/04/fresh-produce-display.avif
END:VEVENT
BEGIN:VEVENT
DTSTART;TZID=UTC:20290819T130000
DTEND;TZID=UTC:20290819T180000
DTSTAMP:20260424T122901
CREATED:20250429T195858Z
LAST-MODIFIED:20250429T195858Z
UID:10001644-1881838800-1881856800@celebratefairfax.org
SUMMARY:Mosaic District Market
DESCRIPTION:
URL:https://celebratefairfax.org/event/mosaic-district-market-2/2029-08-19/
LOCATION:VA\, United States
CATEGORIES:Farmer's Markets Guide
ATTACH;FMTTYPE=image/avif:https://celebratefairfax.org/wp-content/uploads/2025/04/fresh-produce-display.avif
END:VEVENT
BEGIN:VEVENT
DTSTART;TZID=UTC:20290826T130000
DTEND;TZID=UTC:20290826T180000
DTSTAMP:20260424T122901
CREATED:20250429T195858Z
LAST-MODIFIED:20250429T195858Z
UID:10001645-1882443600-1882461600@celebratefairfax.org
SUMMARY:Mosaic District Market
DESCRIPTION:
URL:https://celebratefairfax.org/event/mosaic-district-market-2/2029-08-26/
LOCATION:VA\, United States
CATEGORIES:Farmer's Markets Guide
ATTACH;FMTTYPE=image/avif:https://celebratefairfax.org/wp-content/uploads/2025/04/fresh-produce-display.avif
END:VEVENT
BEGIN:VEVENT
DTSTART;TZID=UTC:20290902T130000
DTEND;TZID=UTC:20290902T180000
DTSTAMP:20260424T122901
CREATED:20250429T195858Z
LAST-MODIFIED:20250429T195858Z
UID:10001646-1883048400-1883066400@celebratefairfax.org
SUMMARY:Mosaic District Market
DESCRIPTION:
URL:https://celebratefairfax.org/event/mosaic-district-market-2/2029-09-02/
LOCATION:VA\, United States
CATEGORIES:Farmer's Markets Guide
ATTACH;FMTTYPE=image/avif:https://celebratefairfax.org/wp-content/uploads/2025/04/fresh-produce-display.avif
END:VEVENT
BEGIN:VEVENT
DTSTART;TZID=UTC:20290909T130000
DTEND;TZID=UTC:20290909T180000
DTSTAMP:20260424T122901
CREATED:20250429T195858Z
LAST-MODIFIED:20250429T195858Z
UID:10001647-1883653200-1883671200@celebratefairfax.org
SUMMARY:Mosaic District Market
DESCRIPTION:
URL:https://celebratefairfax.org/event/mosaic-district-market-2/2029-09-09/
LOCATION:VA\, United States
CATEGORIES:Farmer's Markets Guide
ATTACH;FMTTYPE=image/avif:https://celebratefairfax.org/wp-content/uploads/2025/04/fresh-produce-display.avif
END:VEVENT
BEGIN:VEVENT
DTSTART;TZID=UTC:20290916T130000
DTEND;TZID=UTC:20290916T180000
DTSTAMP:20260424T122901
CREATED:20250429T195858Z
LAST-MODIFIED:20250429T195858Z
UID:10001648-1884258000-1884276000@celebratefairfax.org
SUMMARY:Mosaic District Market
DESCRIPTION:
URL:https://celebratefairfax.org/event/mosaic-district-market-2/2029-09-16/
LOCATION:VA\, United States
CATEGORIES:Farmer's Markets Guide
ATTACH;FMTTYPE=image/avif:https://celebratefairfax.org/wp-content/uploads/2025/04/fresh-produce-display.avif
END:VEVENT
BEGIN:VEVENT
DTSTART;TZID=UTC:20290923T130000
DTEND;TZID=UTC:20290923T180000
DTSTAMP:20260424T122901
CREATED:20250429T195858Z
LAST-MODIFIED:20250429T195858Z
UID:10001649-1884862800-1884880800@celebratefairfax.org
SUMMARY:Mosaic District Market
DESCRIPTION:
URL:https://celebratefairfax.org/event/mosaic-district-market-2/2029-09-23/
LOCATION:VA\, United States
CATEGORIES:Farmer's Markets Guide
ATTACH;FMTTYPE=image/avif:https://celebratefairfax.org/wp-content/uploads/2025/04/fresh-produce-display.avif
END:VEVENT
BEGIN:VEVENT
DTSTART;TZID=UTC:20290930T130000
DTEND;TZID=UTC:20290930T180000
DTSTAMP:20260424T122901
CREATED:20250429T195858Z
LAST-MODIFIED:20250429T195858Z
UID:10001650-1885467600-1885485600@celebratefairfax.org
SUMMARY:Mosaic District Market
DESCRIPTION:
URL:https://celebratefairfax.org/event/mosaic-district-market-2/2029-09-30/
LOCATION:VA\, United States
CATEGORIES:Farmer's Markets Guide
ATTACH;FMTTYPE=image/avif:https://celebratefairfax.org/wp-content/uploads/2025/04/fresh-produce-display.avif
END:VEVENT
BEGIN:VEVENT
DTSTART;TZID=UTC:20291007T130000
DTEND;TZID=UTC:20291007T180000
DTSTAMP:20260424T122901
CREATED:20250429T195858Z
LAST-MODIFIED:20250429T195858Z
UID:10001651-1886072400-1886090400@celebratefairfax.org
SUMMARY:Mosaic District Market
DESCRIPTION:
URL:https://celebratefairfax.org/event/mosaic-district-market-2/2029-10-07/
LOCATION:VA\, United States
CATEGORIES:Farmer's Markets Guide
ATTACH;FMTTYPE=image/avif:https://celebratefairfax.org/wp-content/uploads/2025/04/fresh-produce-display.avif
END:VEVENT
BEGIN:VEVENT
DTSTART;TZID=UTC:20291014T130000
DTEND;TZID=UTC:20291014T180000
DTSTAMP:20260424T122901
CREATED:20250429T195858Z
LAST-MODIFIED:20250429T195858Z
UID:10001652-1886677200-1886695200@celebratefairfax.org
SUMMARY:Mosaic District Market
DESCRIPTION:
URL:https://celebratefairfax.org/event/mosaic-district-market-2/2029-10-14/
LOCATION:VA\, United States
CATEGORIES:Farmer's Markets Guide
ATTACH;FMTTYPE=image/avif:https://celebratefairfax.org/wp-content/uploads/2025/04/fresh-produce-display.avif
END:VEVENT
BEGIN:VEVENT
DTSTART;TZID=UTC:20291021T130000
DTEND;TZID=UTC:20291021T180000
DTSTAMP:20260424T122901
CREATED:20250429T195858Z
LAST-MODIFIED:20250429T195858Z
UID:10001653-1887282000-1887300000@celebratefairfax.org
SUMMARY:Mosaic District Market
DESCRIPTION:
URL:https://celebratefairfax.org/event/mosaic-district-market-2/2029-10-21/
LOCATION:VA\, United States
CATEGORIES:Farmer's Markets Guide
ATTACH;FMTTYPE=image/avif:https://celebratefairfax.org/wp-content/uploads/2025/04/fresh-produce-display.avif
END:VEVENT
BEGIN:VEVENT
DTSTART;TZID=UTC:20291028T130000
DTEND;TZID=UTC:20291028T180000
DTSTAMP:20260424T122901
CREATED:20250429T195858Z
LAST-MODIFIED:20250429T195858Z
UID:10001654-1887886800-1887904800@celebratefairfax.org
SUMMARY:Mosaic District Market
DESCRIPTION:
URL:https://celebratefairfax.org/event/mosaic-district-market-2/2029-10-28/
LOCATION:VA\, United States
CATEGORIES:Farmer's Markets Guide
ATTACH;FMTTYPE=image/avif:https://celebratefairfax.org/wp-content/uploads/2025/04/fresh-produce-display.avif
END:VEVENT
BEGIN:VEVENT
DTSTART;TZID=UTC:20291104T140000
DTEND;TZID=UTC:20291104T190000
DTSTAMP:20260424T122901
CREATED:20250429T195858Z
LAST-MODIFIED:20250429T195858Z
UID:10001655-1888495200-1888513200@celebratefairfax.org
SUMMARY:Mosaic District Market
DESCRIPTION:
URL:https://celebratefairfax.org/event/mosaic-district-market-2/2029-11-04/
LOCATION:VA\, United States
CATEGORIES:Farmer's Markets Guide
ATTACH;FMTTYPE=image/avif:https://celebratefairfax.org/wp-content/uploads/2025/04/fresh-produce-display.avif
END:VEVENT
BEGIN:VEVENT
DTSTART;TZID=UTC:20291111T140000
DTEND;TZID=UTC:20291111T190000
DTSTAMP:20260424T122901
CREATED:20250429T195858Z
LAST-MODIFIED:20250429T195858Z
UID:10001656-1889100000-1889118000@celebratefairfax.org
SUMMARY:Mosaic District Market
DESCRIPTION:
URL:https://celebratefairfax.org/event/mosaic-district-market-2/2029-11-11/
LOCATION:VA\, United States
CATEGORIES:Farmer's Markets Guide
ATTACH;FMTTYPE=image/avif:https://celebratefairfax.org/wp-content/uploads/2025/04/fresh-produce-display.avif
END:VEVENT
BEGIN:VEVENT
DTSTART;TZID=UTC:20291118T140000
DTEND;TZID=UTC:20291118T190000
DTSTAMP:20260424T122901
CREATED:20250429T195858Z
LAST-MODIFIED:20250429T195858Z
UID:10001657-1889704800-1889722800@celebratefairfax.org
SUMMARY:Mosaic District Market
DESCRIPTION:
URL:https://celebratefairfax.org/event/mosaic-district-market-2/2029-11-18/
LOCATION:VA\, United States
CATEGORIES:Farmer's Markets Guide
ATTACH;FMTTYPE=image/avif:https://celebratefairfax.org/wp-content/uploads/2025/04/fresh-produce-display.avif
END:VEVENT
BEGIN:VEVENT
DTSTART;TZID=UTC:20291125T140000
DTEND;TZID=UTC:20291125T190000
DTSTAMP:20260424T122901
CREATED:20250429T195858Z
LAST-MODIFIED:20250429T195858Z
UID:10001658-1890309600-1890327600@celebratefairfax.org
SUMMARY:Mosaic District Market
DESCRIPTION:
URL:https://celebratefairfax.org/event/mosaic-district-market-2/2029-11-25/
LOCATION:VA\, United States
CATEGORIES:Farmer's Markets Guide
ATTACH;FMTTYPE=image/avif:https://celebratefairfax.org/wp-content/uploads/2025/04/fresh-produce-display.avif
END:VEVENT
END:VCALENDAR