BEGIN:VCALENDAR
VERSION:2.0
PRODID:-//Celebrate Fairfax - ECPv6.15.20//NONSGML v1.0//EN
CALSCALE:GREGORIAN
METHOD:PUBLISH
X-ORIGINAL-URL:https://celebratefairfax.org
X-WR-CALDESC:Events for Celebrate Fairfax
REFRESH-INTERVAL;VALUE=DURATION:PT1H
X-Robots-Tag:noindex
X-PUBLISHED-TTL:PT1H
BEGIN:VTIMEZONE
TZID:UTC
BEGIN:STANDARD
TZOFFSETFROM:+0000
TZOFFSETTO:+0000
TZNAME:UTC
DTSTART:20240101T000000
END:STANDARD
END:VTIMEZONE
BEGIN:VEVENT
DTSTART;TZID=UTC:20250806T190000
DTEND;TZID=UTC:20250806T230000
DTSTAMP:20260423T031226
CREATED:20250429T200140Z
LAST-MODIFIED:20250429T200140Z
UID:10001700-1754506800-1754521200@celebratefairfax.org
SUMMARY:Reston Market
DESCRIPTION:
URL:https://celebratefairfax.org/event/reston-market-2-2/2025-08-06/
LOCATION:United States
CATEGORIES:Farmer's Markets Guide
ATTACH;FMTTYPE=image/avif:https://celebratefairfax.org/wp-content/uploads/2025/04/fresh-produce-display.avif
END:VEVENT
BEGIN:VEVENT
DTSTART;TZID=UTC:20250806T193000
DTEND;TZID=UTC:20250806T203000
DTSTAMP:20260423T031226
CREATED:20250619T175811Z
LAST-MODIFIED:20250619T190125Z
UID:10007241-1754508600-1754512200@celebratefairfax.org
SUMMARY:Franconia Nights – Leonardus K. Plenty Amphitheater
DESCRIPTION:Welcome to Franconia District Nights!  This series of free public concerts features a wide variety of musical acts from jazz and go-go\, to ska and rock ‘n’ roll.  Bring a picnic dinner and a blanket and sit back and enjoy the show. \nJul 2–Aug 20 \nWednesdays 7:30 pm
URL:https://celebratefairfax.org/event/franconia-nights-leonardus-k-plenty-amphitheater/2025-08-06/
LOCATION:Leonardus K. Plenty Amphitheater\, 6601 Telegraph Road\, Alexandria\, VA\, 22310\, United States
CATEGORIES:Summer Concert Series Guide 2025
ATTACH;FMTTYPE=image/avif:https://celebratefairfax.org/wp-content/uploads/2025/06/franconia-nights.avif
END:VEVENT
BEGIN:VEVENT
DTSTART;TZID=UTC:20250807T120000
DTEND;TZID=UTC:20250807T160000
DTSTAMP:20260423T031226
CREATED:20250429T145126Z
LAST-MODIFIED:20250429T145126Z
UID:10001221-1754568000-1754582400@celebratefairfax.org
SUMMARY:Annandale Market
DESCRIPTION:
URL:https://celebratefairfax.org/event/annandale-market-2/2025-08-07/
LOCATION:United States
CATEGORIES:Farmer's Markets Guide
ATTACH;FMTTYPE=image/avif:https://celebratefairfax.org/wp-content/uploads/2025/04/fresh-produce-display.avif
END:VEVENT
BEGIN:VEVENT
DTSTART;TZID=UTC:20250807T120000
DTEND;TZID=UTC:20250807T160000
DTSTAMP:20260423T031226
CREATED:20250429T145430Z
LAST-MODIFIED:20250521T202530Z
UID:10000527-1754568000-1754582400@celebratefairfax.org
SUMMARY:Herndon Market
DESCRIPTION:  \n\n\n\n\n\n\n\n\n\n\n\n\n\n\n\n 
URL:https://celebratefairfax.org/event/herndon-market/2025-08-07/
LOCATION:United States
CATEGORIES:Farmer's Markets Guide
ATTACH;FMTTYPE=image/avif:https://celebratefairfax.org/wp-content/uploads/2025/04/fresh-produce-display.avif
END:VEVENT
BEGIN:VEVENT
DTSTART;TZID=UTC:20250807T173000
DTEND;TZID=UTC:20250807T183000
DTSTAMP:20260423T031226
CREATED:20250619T162114Z
LAST-MODIFIED:20250619T190310Z
UID:10004293-1754587800-1754591400@celebratefairfax.org
SUMMARY:Evenings on the Ellipse – Government Center
DESCRIPTION:Welcome to the summer concert series\, Evenings on the Ellipse.  Evenings on the Ellipse\, featuring a wide variety of music\, is a celebration of these talented performers and the joy and togetherness we find in our Fairfax County Community. \nJul 3–Aug 14 \nThursdays 5:30 pm
URL:https://celebratefairfax.org/event/evenings-on-the-ellipse-government-center/2025-08-07/
LOCATION:Government Center\, 12000 Government Center Pkwy\, Fairfax\, VA\, 22035\, United States
CATEGORIES:Summer Concert Series Guide 2025
ATTACH;FMTTYPE=image/avif:https://celebratefairfax.org/wp-content/uploads/2025/06/evenings-on-the-ellipse.avif
END:VEVENT
BEGIN:VEVENT
DTSTART;TZID=UTC:20250807T180000
DTEND;TZID=UTC:20250807T210000
DTSTAMP:20260423T031226
CREATED:20250619T173312Z
LAST-MODIFIED:20250619T190722Z
UID:10005910-1754589600-1754600400@celebratefairfax.org
SUMMARY:Providence Presents – Nottoway Park
DESCRIPTION:Welcome back to Providence Presents!  This eclectic music series includes both Mosaic LIVE at the Mosaic District and Nottoway Nights at Nottoway Park.  All shows are free\, held outdoors\, and appeal to all ages. \nJul 3–Aug 14 \nThursdays 7:30 pm
URL:https://celebratefairfax.org/event/providence-presents-nottoway-park/2025-08-07/
LOCATION:Nottoway Park\, 9601 Courthouse Road\, Vienna\, 22181\, United States
CATEGORIES:Summer Concert Series Guide 2025
ATTACH;FMTTYPE=image/avif:https://celebratefairfax.org/wp-content/uploads/2025/06/providence-presents-summer-of-music-and-community.avif
END:VEVENT
BEGIN:VEVENT
DTSTART;TZID=UTC:20250808T120000
DTEND;TZID=UTC:20250808T160000
DTSTAMP:20260423T031226
CREATED:20250429T184030Z
LAST-MODIFIED:20250429T184030Z
UID:10001275-1754654400-1754668800@celebratefairfax.org
SUMMARY:McLean Market
DESCRIPTION:
URL:https://celebratefairfax.org/event/mclean-market-2/2025-08-08/
LOCATION:United States
CATEGORIES:Farmer's Markets Guide
ATTACH;FMTTYPE=image/avif:https://celebratefairfax.org/wp-content/uploads/2025/04/fresh-produce-display.avif
END:VEVENT
BEGIN:VEVENT
DTSTART;TZID=UTC:20250808T190000
DTEND;TZID=UTC:20250808T230000
DTSTAMP:20260423T031226
CREATED:20250429T184321Z
LAST-MODIFIED:20250521T202450Z
UID:10000476-1754679600-1754694000@celebratefairfax.org
SUMMARY:Kingstowne Market
DESCRIPTION:  \n\n\n\n\n\n\n\n\n\n\n\n\n\n\n\n 
URL:https://celebratefairfax.org/event/kingstowne-market/2025-08-08/
LOCATION:United States
CATEGORIES:Farmer's Markets Guide
ATTACH;FMTTYPE=image/avif:https://celebratefairfax.org/wp-content/uploads/2025/04/fresh-produce-display.avif
END:VEVENT
BEGIN:VEVENT
DTSTART;TZID=UTC:20250808T193000
DTEND;TZID=UTC:20250808T203000
DTSTAMP:20260423T031226
CREATED:20250619T161301Z
LAST-MODIFIED:20250619T190207Z
UID:10004029-1754681400-1754685000@celebratefairfax.org
SUMMARY:Braddock Nights – Royal Lake Park
DESCRIPTION:Welcome back to this year’s Braddock Nights summer concert series and Children’s Arts in the Park series!  This is a series of free concerts and children’s events that will present a wide array of performances from classical and big band to blues\, rock\, and salsa\, with something for every music lover. \nJul 11–Aug 15 \nFridays 7:30 pm
URL:https://celebratefairfax.org/event/braddock-nights-royal-lake-park/2025-08-08/
LOCATION:Royal Lake Park\, 5344 Gainborough Dr.\, Fairfax\, VA\, 22030\, United States
CATEGORIES:Summer Concert Series Guide 2025
ATTACH;FMTTYPE=image/avif:https://celebratefairfax.org/wp-content/uploads/2025/06/braddock-nights-summer-concert-series.avif
END:VEVENT
BEGIN:VEVENT
DTSTART;TZID=UTC:20250808T193000
DTEND;TZID=UTC:20250808T203000
DTSTAMP:20260423T031226
CREATED:20250619T164043Z
LAST-MODIFIED:20250619T190725Z
UID:10004578-1754681400-1754685000@celebratefairfax.org
SUMMARY:Mount Vernon Nights – Grist Mill Park
DESCRIPTION:Welcome to Mount Vernon Nights Summer Concert Series!  These free\, public concerts at Grist Mill Park and the Workhouse Arts Center feature a variety of musical performances reflecting Fairfax County’s diversity\, culture and community spirit.  Bring a picnic dinner\, chair or blanket and enjoy one of Fairfax County’s special summer traditions. \nJun 6–Aug 29 \nFridays 7:30 pm
URL:https://celebratefairfax.org/event/mount-vernon-nights-grist-mill-park/2025-08-08/
LOCATION:Grist Mill Park\, 4710 Mt. Vernon Memorial Hwy\, Alexandria\, VA\, 22309\, United States
CATEGORIES:Summer Concert Series Guide 2025
ATTACH;FMTTYPE=image/avif:https://celebratefairfax.org/wp-content/uploads/2025/06/mount-vernon-nights-summer-concert-series.avif
END:VEVENT
BEGIN:VEVENT
DTSTART;TZID=UTC:20250808T200000
DTEND;TZID=UTC:20250808T220000
DTSTAMP:20260423T031226
CREATED:20250617T161345Z
LAST-MODIFIED:20250617T161345Z
UID:10002087-1754683200-1754690400@celebratefairfax.org
SUMMARY:Movies Under the Moon | Mulan 2
DESCRIPTION:Friday\, August 8\n8pm\nVan Dyck Park\n3720 Blenheim Blvd.\, Fairfax \nBring blankets and lawn chairs!
URL:https://celebratefairfax.org/event/movies-under-the-moon-mulan-2/
LOCATION:Van Dyck Park\, 3720 Blenheim Blvd\, Fairfax\, VA\, 22030\, United States
CATEGORIES:Outdoor Movie Guide 2025
ATTACH;FMTTYPE=image/png:https://celebratefairfax.org/wp-content/uploads/2025/06/movies-under-the-moon.avif
END:VEVENT
BEGIN:VEVENT
DTSTART;TZID=UTC:20250809T100000
DTEND;TZID=UTC:20250809T104500
DTSTAMP:20260423T031226
CREATED:20250619T142025Z
LAST-MODIFIED:20250619T183202Z
UID:10002358-1754733600-1754736300@celebratefairfax.org
SUMMARY:Spotlight by Starlight – Mason District Park
DESCRIPTION:Mason District is thrilled to invite you to Fairfax County’s concert series featuring the Spotlight by Starlight concerts. Enjoy entertainment by a diverse range of artists from around the world! \nJun 20–Aug 17\nFridays & Sundays 7:30 pm\nSaturdays 10 am
URL:https://celebratefairfax.org/event/spotlight-by-starlight-mason-district-park-2/2025-08-09/
LOCATION:Mason District Park\, 6621 Columbia Pike\, Annandale\, VA\, 22003\, United States
CATEGORIES:Summer Concert Series Guide 2025
ATTACH;FMTTYPE=image/avif:https://celebratefairfax.org/wp-content/uploads/2025/06/mason-district-supervisor-andres-jimenez-invites-you-to-spotlight-by-starlight.avif
END:VEVENT
BEGIN:VEVENT
DTSTART;TZID=UTC:20250809T100000
DTEND;TZID=UTC:20250809T104500
DTSTAMP:20260423T031226
CREATED:20250619T154328Z
LAST-MODIFIED:20250619T185336Z
UID:10002420-1754733600-1754736300@celebratefairfax.org
SUMMARY:Arts in the Parks – Wakefield Park
DESCRIPTION:Arts in the Parks – a free children’s entertainment series \nJun 14–Aug 16 \nSaturdays 10 am
URL:https://celebratefairfax.org/event/arts-in-the-parks-wakefield-park/2025-08-09/
LOCATION:Wakefield Park\, 8100 Braddock Road\, Annandale\, VA\, 22003\, United States
CATEGORIES:Summer Concert Series Guide 2025
ATTACH;FMTTYPE=image/avif:https://celebratefairfax.org/wp-content/uploads/2025/06/arts-in-the-parks.avif
END:VEVENT
BEGIN:VEVENT
DTSTART;TZID=UTC:20250809T100000
DTEND;TZID=UTC:20250809T104500
DTSTAMP:20260423T031226
CREATED:20250619T155136Z
LAST-MODIFIED:20250619T185429Z
UID:10002956-1754733600-1754736300@celebratefairfax.org
SUMMARY:Arts in the Parks – E.C. Lawrence Park
DESCRIPTION:Arts in the Park – a free children’s entertainment series \nJun 14–Aug 16 \nSaturdays 10 am
URL:https://celebratefairfax.org/event/arts-in-the-parks-e-c-lawrence-park/2025-08-09/
LOCATION:E.C. Lawrence Park\, 5040 Walney Road\, Chantilly\, VA\, 20151\, United States
CATEGORIES:Summer Concert Series Guide 2025
ATTACH;FMTTYPE=image/avif:https://celebratefairfax.org/wp-content/uploads/2025/06/arts-in-the-parks.avif
END:VEVENT
BEGIN:VEVENT
DTSTART;TZID=UTC:20250809T100000
DTEND;TZID=UTC:20250809T104500
DTSTAMP:20260423T031226
CREATED:20250619T155601Z
LAST-MODIFIED:20250619T185106Z
UID:10003225-1754733600-1754736300@celebratefairfax.org
SUMMARY:Arts in the Parks – Burke Lake Park
DESCRIPTION:Arts in the Park – a free children’s entertainment series \nJun 14–Aug 16 \nSaturdays 10 am \n 
URL:https://celebratefairfax.org/event/arts-in-the-parks-burke-lake-park/2025-08-09/
LOCATION:Burke Lake Park\, 7315 Ox Road\, Fairfax Station\, VA\, 22039\, United States
ATTACH;FMTTYPE=image/avif:https://celebratefairfax.org/wp-content/uploads/2025/06/arts-in-the-parks.avif
END:VEVENT
BEGIN:VEVENT
DTSTART;TZID=UTC:20250809T120000
DTEND;TZID=UTC:20250809T160000
DTSTAMP:20260423T031226
CREATED:20250429T142938Z
LAST-MODIFIED:20250605T151940Z
UID:10001160-1754740800-1754755200@celebratefairfax.org
SUMMARY:Burke Market
DESCRIPTION:  \n\n  \n\n\n\n\n\n\n\n\n\n\n\n\n\n\n\n 
URL:https://celebratefairfax.org/event/burke-market-2/2025-08-09/
LOCATION:United States
CATEGORIES:Farmer's Markets Guide
ATTACH;FMTTYPE=image/avif:https://celebratefairfax.org/wp-content/uploads/2025/04/fresh-produce-display.avif
END:VEVENT
BEGIN:VEVENT
DTSTART;TZID=UTC:20250809T120000
DTEND;TZID=UTC:20250809T160000
DTSTAMP:20260423T031226
CREATED:20250429T143108Z
LAST-MODIFIED:20250429T143108Z
UID:10001191-1754740800-1754755200@celebratefairfax.org
SUMMARY:Reston Market
DESCRIPTION:
URL:https://celebratefairfax.org/event/reston-market-3/2025-08-09/
LOCATION:United States
CATEGORIES:Farmer's Markets Guide
ATTACH;FMTTYPE=image/avif:https://celebratefairfax.org/wp-content/uploads/2025/04/fresh-produce-display.avif
END:VEVENT
BEGIN:VEVENT
DTSTART;TZID=UTC:20250809T120000
DTEND;TZID=UTC:20250809T160000
DTSTAMP:20260423T031226
CREATED:20250429T195402Z
LAST-MODIFIED:20250521T202427Z
UID:10000453-1754740800-1754755200@celebratefairfax.org
SUMMARY:Vienna Farmers Market
DESCRIPTION:  \n\n\n\n\n\n\n\n\n\n\n\n\n\n\n\n 
URL:https://celebratefairfax.org/event/vienna-farmers-market/2025-08-09/
LOCATION:United States
CATEGORIES:Farmer's Markets Guide
ATTACH;FMTTYPE=image/avif:https://celebratefairfax.org/wp-content/uploads/2025/04/fresh-produce-display.avif
END:VEVENT
BEGIN:VEVENT
DTSTART;TZID=UTC:20250809T183000
DTEND;TZID=UTC:20250809T210000
DTSTAMP:20260423T031226
CREATED:20250617T163120Z
LAST-MODIFIED:20250617T163120Z
UID:10002096-1754764200-1754773200@celebratefairfax.org
SUMMARY:Reston Station's Summerbration | Madagascar
DESCRIPTION:
URL:https://celebratefairfax.org/event/reston-stations-summerbration-madagascar/
LOCATION:Reston Station\, 1800 Reston Row Plz\, Reston\, VA\, 20190\, United States
CATEGORIES:Outdoor Movie Guide 2025
ATTACH;FMTTYPE=image/png:https://celebratefairfax.org/wp-content/uploads/2025/06/couple-watching-outdoor-movie.avif
END:VEVENT
BEGIN:VEVENT
DTSTART;TZID=UTC:20250809T190000
DTEND;TZID=UTC:20250809T210000
DTSTAMP:20260423T031226
CREATED:20250619T164917Z
LAST-MODIFIED:20250619T190942Z
UID:10005114-1754766000-1754773200@celebratefairfax.org
SUMMARY:Starlight Cinema (Drive-In) – Sully Site
DESCRIPTION:Welcome to another exciting season of Starlight Drive-In Cinema.  Our 2025 season provides children’s shows before each of the four movies\, free for the public to enjoy.  The atmosphere is relaxed and informal\, so feel free to bring a picnic\, blankets\, and chairs\, and enjoy the movies. \nAug 2–23 \nSaturdays\, pre-show 7 pm
URL:https://celebratefairfax.org/event/starlight-cinema-drive-in-sully-site/2025-08-09/
CATEGORIES:Summer Concert Series Guide 2025
ATTACH;FMTTYPE=image/avif:https://celebratefairfax.org/wp-content/uploads/2025/06/starlight-cinema.avif
END:VEVENT
BEGIN:VEVENT
DTSTART;TZID=UTC:20250809T193000
DTEND;TZID=UTC:20250809T203000
DTSTAMP:20260423T031226
CREATED:20250619T153608Z
LAST-MODIFIED:20250619T185245Z
UID:10002688-1754767800-1754771400@celebratefairfax.org
SUMMARY:Spotlight by Starlight – Ossian Hall Park
DESCRIPTION:Mason District is thrilled to invite you to Fairfax County’s concert series featuring the Spotlight by Starlight concerts. Enjoy entertainment by a diverse range of artists from around the world! \nJun 14–Aug 16 \nSaturdays 7:30 pm
URL:https://celebratefairfax.org/event/spotlight-by-starlight-ossian-hall-park/2025-08-09/
LOCATION:Ossian Hall Park\, 7900 Heritage Dr\, Annandale\, VA\, 22003\, United States
CATEGORIES:Summer Concert Series Guide 2025
ATTACH;FMTTYPE=image/avif:https://celebratefairfax.org/wp-content/uploads/2025/06/mason-district-supervisor-andres-jimenez-invites-you-to-spotlight-by-starlight.avif
END:VEVENT
BEGIN:VEVENT
DTSTART;TZID=UTC:20250809T193000
DTEND;TZID=UTC:20250809T203000
DTSTAMP:20260423T031226
CREATED:20250619T164427Z
LAST-MODIFIED:20250619T190821Z
UID:10004849-1754767800-1754771400@celebratefairfax.org
SUMMARY:Mount Vernon Nights – Workhouse Arts Center
DESCRIPTION:Welcome to Mount Vernon Nights Summer Concert Series!  These free\, public concerts at Grist Mill Park and the Workhouse Arts Center feature a variety of musical performances reflecting Fairfax County’s diversity\, culture and community spirit.  Bring a picnic dinner\, chair or blanket and enjoy one of Fairfax County’s special summer traditions. \nJun 7–Aug 30 \nSaturdays 7:30 pm
URL:https://celebratefairfax.org/event/mount-vernon-nights-workhouse-arts-center/2025-08-09/
CATEGORIES:Summer Concert Series Guide 2025
ATTACH;FMTTYPE=image/avif:https://celebratefairfax.org/wp-content/uploads/2025/06/mount-vernon-nights-summer-concert-series.avif
END:VEVENT
BEGIN:VEVENT
DTSTART;TZID=UTC:20250809T193000
DTEND;TZID=UTC:20250809T203000
DTSTAMP:20260423T031226
CREATED:20250619T173952Z
LAST-MODIFIED:20250619T190604Z
UID:10006174-1754767800-1754771400@celebratefairfax.org
SUMMARY:Music at Arrowbrook – Arrowbrook Centre
DESCRIPTION:Welcome to the Concerts at Arrowbrook Centre Park in Herndon!  This free concert series has been a major catalyst for our community with musical acts that vary from folk to fun and everything in between. \nJul 12–Aug 30 \nSaturdays 7:30 pm
URL:https://celebratefairfax.org/event/music-at-arrowbrook-arrowbrook-centre/2025-08-09/
CATEGORIES:Summer Concert Series Guide 2025
ATTACH;FMTTYPE=image/avif:https://celebratefairfax.org/wp-content/uploads/2025/06/music-at-arrowbrook-centre-park.avif
END:VEVENT
BEGIN:VEVENT
DTSTART;TZID=UTC:20250809T200000
DTEND;TZID=UTC:20250809T220000
DTSTAMP:20260423T031226
CREATED:20250617T153619Z
LAST-MODIFIED:20250617T153619Z
UID:10002072-1754769600-1754776800@celebratefairfax.org
SUMMARY:Starlight Cinema | Moana 2
DESCRIPTION:After receiving an unexpected call from her wayfinding ancestors\, Moana must journey to the far seas of Oceania and into dangerous\, long-lost waters for an adventure unlike anything she’s ever faced. \nSTYLE: Drive-in Movies \nFree \nGates open at 6:00 p.m.; movie at dusk \nContact: Rain Cancellation HOTLINE\nFor last-minute performance cancellations due to inclement weather\, call 571-202-SHOW (7469) one hour before the program start time.
URL:https://celebratefairfax.org/event/starlight-cinema-moana-2/
LOCATION:Sully Historic Site\, 3650 Historic Sully Way\, Chantilly\, VA\, 20151\, United States
CATEGORIES:Outdoor Movie Guide 2025
ATTACH;FMTTYPE=image/avif:https://celebratefairfax.org/wp-content/uploads/2025/06/moana-2.avif
END:VEVENT
BEGIN:VEVENT
DTSTART;TZID=UTC:20250810T130000
DTEND;TZID=UTC:20250810T180000
DTSTAMP:20260423T031226
CREATED:20250429T195858Z
LAST-MODIFIED:20250429T195858Z
UID:10001434-1754830800-1754848800@celebratefairfax.org
SUMMARY:Mosaic District Market
DESCRIPTION:
URL:https://celebratefairfax.org/event/mosaic-district-market-2/2025-08-10/
LOCATION:United States
CATEGORIES:Farmer's Markets Guide
ATTACH;FMTTYPE=image/avif:https://celebratefairfax.org/wp-content/uploads/2025/04/fresh-produce-display.avif
END:VEVENT
BEGIN:VEVENT
DTSTART;TZID=UTC:20250812T190000
DTEND;TZID=UTC:20250812T210000
DTSTAMP:20260423T031226
CREATED:20250617T160315Z
LAST-MODIFIED:20250617T160324Z
UID:10002085-1755025200-1755032400@celebratefairfax.org
SUMMARY:Films in the Park | Mufasa: The Lion King
DESCRIPTION:Films In The Park returns to Mosaic for another summer filled with blockbuster hits and family favorites. All movies starts a 7pm. \nFilm lovers can watch on the larger-than-life outdoor screen while sitting picnic-style in Strawberry Park. \nAll movies are shown rain or shine unless otherwise noted.
URL:https://celebratefairfax.org/event/films-in-the-parc-mufasa-the-lion-king/
LOCATION:Mosaic District\, 2910 District Ave\, Fairfax\, VA\, 22031\, United States
CATEGORIES:Outdoor Movie Guide 2025
ATTACH;FMTTYPE=image/png:https://celebratefairfax.org/wp-content/uploads/2025/06/couple-watching-outdoor-movie.avif
END:VEVENT
BEGIN:VEVENT
DTSTART;TZID=UTC:20250813T180000
DTEND;TZID=UTC:20250813T220000
DTSTAMP:20260423T031226
CREATED:20250429T194625Z
LAST-MODIFIED:20250429T194625Z
UID:10001384-1755108000-1755122400@celebratefairfax.org
SUMMARY:Wakefield Market
DESCRIPTION:
URL:https://celebratefairfax.org/event/wakefield-market-2/2025-08-13/
LOCATION:United States
CATEGORIES:Farmer's Markets Guide
ATTACH;FMTTYPE=image/avif:https://celebratefairfax.org/wp-content/uploads/2025/04/fresh-produce-display.avif
END:VEVENT
BEGIN:VEVENT
DTSTART;TZID=UTC:20250813T190000
DTEND;TZID=UTC:20250813T230000
DTSTAMP:20260423T031226
CREATED:20250429T200140Z
LAST-MODIFIED:20250429T200140Z
UID:10001701-1755111600-1755126000@celebratefairfax.org
SUMMARY:Reston Market
DESCRIPTION:
URL:https://celebratefairfax.org/event/reston-market-2-2/2025-08-13/
LOCATION:United States
CATEGORIES:Farmer's Markets Guide
ATTACH;FMTTYPE=image/avif:https://celebratefairfax.org/wp-content/uploads/2025/04/fresh-produce-display.avif
END:VEVENT
BEGIN:VEVENT
DTSTART;TZID=UTC:20250814T120000
DTEND;TZID=UTC:20250814T160000
DTSTAMP:20260423T031226
CREATED:20250429T145126Z
LAST-MODIFIED:20250429T145126Z
UID:10001222-1755172800-1755187200@celebratefairfax.org
SUMMARY:Annandale Market
DESCRIPTION:
URL:https://celebratefairfax.org/event/annandale-market-2/2025-08-14/
LOCATION:United States
CATEGORIES:Farmer's Markets Guide
ATTACH;FMTTYPE=image/avif:https://celebratefairfax.org/wp-content/uploads/2025/04/fresh-produce-display.avif
END:VEVENT
BEGIN:VEVENT
DTSTART;TZID=UTC:20250815T120000
DTEND;TZID=UTC:20250815T160000
DTSTAMP:20260423T031226
CREATED:20250429T184030Z
LAST-MODIFIED:20250429T184030Z
UID:10001276-1755259200-1755273600@celebratefairfax.org
SUMMARY:McLean Market
DESCRIPTION:
URL:https://celebratefairfax.org/event/mclean-market-2/2025-08-15/
LOCATION:United States
CATEGORIES:Farmer's Markets Guide
ATTACH;FMTTYPE=image/avif:https://celebratefairfax.org/wp-content/uploads/2025/04/fresh-produce-display.avif
END:VEVENT
END:VCALENDAR