BEGIN:VCALENDAR
VERSION:2.0
PRODID:-//Celebrate Fairfax - ECPv6.15.20//NONSGML v1.0//EN
CALSCALE:GREGORIAN
METHOD:PUBLISH
X-ORIGINAL-URL:https://celebratefairfax.org
X-WR-CALDESC:Events for Celebrate Fairfax
REFRESH-INTERVAL;VALUE=DURATION:PT1H
X-Robots-Tag:noindex
X-PUBLISHED-TTL:PT1H
BEGIN:VTIMEZONE
TZID:UTC
BEGIN:STANDARD
TZOFFSETFROM:+0000
TZOFFSETTO:+0000
TZNAME:UTC
DTSTART:20240101T000000
END:STANDARD
END:VTIMEZONE
BEGIN:VEVENT
DTSTART;TZID=UTC:20250726T183000
DTEND;TZID=UTC:20250726T210000
DTSTAMP:20260425T185102
CREATED:20250617T162845Z
LAST-MODIFIED:20250617T162845Z
UID:10002094-1753554600-1753563600@celebratefairfax.org
SUMMARY:Reston Station's Summerbration | Hook
DESCRIPTION:Receive a free eyepatch and make scallywags walk the plank.
URL:https://celebratefairfax.org/event/reston-stations-summerbration-hook/
LOCATION:Reston Station\, 1800 Reston Row Plz\, Reston\, VA\, 20190\, United States
CATEGORIES:Outdoor Movie Guide 2025
ATTACH;FMTTYPE=image/png:https://celebratefairfax.org/wp-content/uploads/2025/06/couple-watching-outdoor-movie.avif
END:VEVENT
BEGIN:VEVENT
DTSTART;TZID=UTC:20250726T193000
DTEND;TZID=UTC:20250726T203000
DTSTAMP:20260425T185102
CREATED:20250619T153608Z
LAST-MODIFIED:20250619T185245Z
UID:10002686-1753558200-1753561800@celebratefairfax.org
SUMMARY:Spotlight by Starlight – Ossian Hall Park
DESCRIPTION:Mason District is thrilled to invite you to Fairfax County’s concert series featuring the Spotlight by Starlight concerts. Enjoy entertainment by a diverse range of artists from around the world! \nJun 14–Aug 16 \nSaturdays 7:30 pm
URL:https://celebratefairfax.org/event/spotlight-by-starlight-ossian-hall-park/2025-07-26/
LOCATION:Ossian Hall Park\, 7900 Heritage Dr\, Annandale\, VA\, 22003\, United States
CATEGORIES:Summer Concert Series Guide 2025
ATTACH;FMTTYPE=image/avif:https://celebratefairfax.org/wp-content/uploads/2025/06/mason-district-supervisor-andres-jimenez-invites-you-to-spotlight-by-starlight.avif
END:VEVENT
BEGIN:VEVENT
DTSTART;TZID=UTC:20250726T193000
DTEND;TZID=UTC:20250726T203000
DTSTAMP:20260425T185102
CREATED:20250619T164427Z
LAST-MODIFIED:20250619T190821Z
UID:10004847-1753558200-1753561800@celebratefairfax.org
SUMMARY:Mount Vernon Nights – Workhouse Arts Center
DESCRIPTION:Welcome to Mount Vernon Nights Summer Concert Series!  These free\, public concerts at Grist Mill Park and the Workhouse Arts Center feature a variety of musical performances reflecting Fairfax County’s diversity\, culture and community spirit.  Bring a picnic dinner\, chair or blanket and enjoy one of Fairfax County’s special summer traditions. \nJun 7–Aug 30 \nSaturdays 7:30 pm
URL:https://celebratefairfax.org/event/mount-vernon-nights-workhouse-arts-center/2025-07-26/
CATEGORIES:Summer Concert Series Guide 2025
ATTACH;FMTTYPE=image/avif:https://celebratefairfax.org/wp-content/uploads/2025/06/mount-vernon-nights-summer-concert-series.avif
END:VEVENT
BEGIN:VEVENT
DTSTART;TZID=UTC:20250726T193000
DTEND;TZID=UTC:20250726T203000
DTSTAMP:20260425T185102
CREATED:20250619T173952Z
LAST-MODIFIED:20250619T190604Z
UID:10006172-1753558200-1753561800@celebratefairfax.org
SUMMARY:Music at Arrowbrook – Arrowbrook Centre
DESCRIPTION:Welcome to the Concerts at Arrowbrook Centre Park in Herndon!  This free concert series has been a major catalyst for our community with musical acts that vary from folk to fun and everything in between. \nJul 12–Aug 30 \nSaturdays 7:30 pm
URL:https://celebratefairfax.org/event/music-at-arrowbrook-arrowbrook-centre/2025-07-26/
CATEGORIES:Summer Concert Series Guide 2025
ATTACH;FMTTYPE=image/avif:https://celebratefairfax.org/wp-content/uploads/2025/06/music-at-arrowbrook-centre-park.avif
END:VEVENT
BEGIN:VEVENT
DTSTART;TZID=UTC:20250727T130000
DTEND;TZID=UTC:20250727T180000
DTSTAMP:20260425T185102
CREATED:20250429T195858Z
LAST-MODIFIED:20250429T195858Z
UID:10001432-1753621200-1753639200@celebratefairfax.org
SUMMARY:Mosaic District Market
DESCRIPTION:
URL:https://celebratefairfax.org/event/mosaic-district-market-2/2025-07-27/
LOCATION:United States
CATEGORIES:Farmer's Markets Guide
ATTACH;FMTTYPE=image/avif:https://celebratefairfax.org/wp-content/uploads/2025/04/fresh-produce-display.avif
END:VEVENT
BEGIN:VEVENT
DTSTART;TZID=UTC:20250727T193000
DTEND;TZID=UTC:20250727T203000
DTSTAMP:20260425T185102
CREATED:20250619T141625Z
LAST-MODIFIED:20250619T185938Z
UID:10002118-1753644600-1753648200@celebratefairfax.org
SUMMARY:Spotlight by Starlight – Mason District Park
DESCRIPTION:Mason District is thrilled to invite you to Fairfax County’s concert series featuring the Spotlight by Starlight concerts. Enjoy entertainment by a diverse range of artists from around the world! \nJun 20–Aug 17\nFridays & Sundays 7:30 pm\nSaturdays 10 am
URL:https://celebratefairfax.org/event/spotlight-by-starlight-mason-district-park/2025-07-27/
LOCATION:Mason District Park\, 6621 Columbia Pike\, Annandale\, VA\, 22003\, United States
CATEGORIES:Summer Concert Series Guide 2025
ATTACH;FMTTYPE=image/avif:https://celebratefairfax.org/wp-content/uploads/2025/06/spotlight-by-starlight-mason-district-summer-entertainment-series.avif
END:VEVENT
BEGIN:VEVENT
DTSTART;TZID=UTC:20250729T100000
DTEND;TZID=UTC:20250729T170000
DTSTAMP:20260425T185102
CREATED:20250702T152940Z
LAST-MODIFIED:20250708T134000Z
UID:10008402-1753783200-1753808400@celebratefairfax.org
SUMMARY:NCOA Photography Award Contest Exhibition
DESCRIPTION:In celebration of its 75 years of service to older adults\, the National Council on Aging (NCOA) is hosting a photography contest to redefine aging as a period of vitality\, purpose\, and connections. NCOA’s goal is to break down stereotypes of aging in America by showing older adults who are engaged in life—interacting with others across generations\, volunteering and working in their communities\, and being physically and mentally active. NCOA invites photographers to submit images\, and the personal stories of the subjects depicted in the photos as they reflect on what aging well means to them. This powerful exhibition features the nationally awarded 2025 NCOA photographers alongside creative expressions from talented local DMV artists. \nTuesday\, Wednesday\, Friday: 10 am – 5 pm\nThursday: 11 am – 7 pm
URL:https://celebratefairfax.org/event/ncoa-photography-award-contest-exhibition/2025-07-29/
LOCATION:The PARC\, 8508 Leesburg Pike\, Tysons\, VA\, 22182\, United States
CATEGORIES:CF Hosted,NCOA Art Exhibition,The PARC
ATTACH;FMTTYPE=image/png:https://celebratefairfax.org/wp-content/uploads/2025/07/elderly-woman-driving-vintage-red-truck.avif
END:VEVENT
BEGIN:VEVENT
DTSTART;TZID=UTC:20250730T100000
DTEND;TZID=UTC:20250730T224500
DTSTAMP:20260425T185102
CREATED:20250619T175124Z
LAST-MODIFIED:20250619T190349Z
UID:10006972-1753869600-1753915500@celebratefairfax.org
SUMMARY:Hunter Mill Melodies (Kids)– Visitor Pavillion
DESCRIPTION:Welcome to the 2025 Hunter Mill Melodies concert series at Frying Pan Farm Park!  This is a free entertainment series and features a wide variety of musical acts from across the United States and from around the world.  Come early for a picnic in the park and visit with the farm animals.  Then\, set up your blanket or chair\, sit back and relax\, and enjoy the show. \nJun 18–Aug 13 \nWednesdays 10 am
URL:https://celebratefairfax.org/event/hunter-mill-melodies-kids-visitor-pavillion/2025-07-30/
LOCATION:Frying Pan Park\, 2709 W Ox Road\, Herndon\, VA\, 20171\, United States
CATEGORIES:Summer Concert Series Guide 2025
ATTACH;FMTTYPE=image/avif:https://celebratefairfax.org/wp-content/uploads/2025/06/hunter-mill-melodies.avif
END:VEVENT
BEGIN:VEVENT
DTSTART;TZID=UTC:20250730T120000
DTEND;TZID=UTC:20250730T160000
DTSTAMP:20260425T185102
CREATED:20250429T135845Z
LAST-MODIFIED:20250608T223332Z
UID:10001126-1753876800-1753891200@celebratefairfax.org
SUMMARY:The McCutcheon/Mount Vernon market
DESCRIPTION:  \n\n\n\n\n\n\n\n\n\n\n\n\n\n\n\n 
URL:https://celebratefairfax.org/event/the-mccutcheon-mount-vernon-market-2/2025-07-30/
LOCATION:United States
CATEGORIES:Farmer's Markets Guide
ATTACH;FMTTYPE=image/avif:https://celebratefairfax.org/wp-content/uploads/2025/04/fresh-produce-display.avif
END:VEVENT
BEGIN:VEVENT
DTSTART;TZID=UTC:20250730T120000
DTEND;TZID=UTC:20250730T160000
DTSTAMP:20260425T185102
CREATED:20250429T194413Z
LAST-MODIFIED:20250521T202323Z
UID:10000163-1753876800-1753891200@celebratefairfax.org
SUMMARY:Oakton Market
DESCRIPTION:  \n\n\n\n\n\n\n\n\n\n\n\n\n\n\n\n 
URL:https://celebratefairfax.org/event/oakton-market/2025-07-30/
LOCATION:United States
CATEGORIES:Farmer's Markets Guide
ATTACH;FMTTYPE=image/avif:https://celebratefairfax.org/wp-content/uploads/2025/04/fresh-produce-display.avif
END:VEVENT
BEGIN:VEVENT
DTSTART;TZID=UTC:20250730T180000
DTEND;TZID=UTC:20250730T220000
DTSTAMP:20260425T185102
CREATED:20250429T194625Z
LAST-MODIFIED:20250429T194625Z
UID:10001382-1753898400-1753912800@celebratefairfax.org
SUMMARY:Wakefield Market
DESCRIPTION:
URL:https://celebratefairfax.org/event/wakefield-market-2/2025-07-30/
LOCATION:United States
CATEGORIES:Farmer's Markets Guide
ATTACH;FMTTYPE=image/avif:https://celebratefairfax.org/wp-content/uploads/2025/04/fresh-produce-display.avif
END:VEVENT
BEGIN:VEVENT
DTSTART;TZID=UTC:20250730T190000
DTEND;TZID=UTC:20250730T200000
DTSTAMP:20260425T185102
CREATED:20250619T160320Z
LAST-MODIFIED:20250619T185537Z
UID:10003761-1753902000-1753905600@celebratefairfax.org
SUMMARY:Springfield Nights – Burke Lake Park
DESCRIPTION:Welcome to the seventh season of free concerts in the park!  The setting is beautiful Burke Lake Park.  The atmosphere is informal so bring a picnic dinner\, blankets and lawn chairs\, and relax with family and friends.  We will also have food trucks\, 2 Silos beer and Kona Ice for sale. \nJun 25 – Aug 20 \nWednesdays 7 pm \n 
URL:https://celebratefairfax.org/event/springfield-nights-burke-lake-park/2025-07-30/
LOCATION:Burke Lake Park\, 7315 Ox Road\, Fairfax Station\, VA\, 22039\, United States
CATEGORIES:Summer Concert Series Guide 2025
ATTACH;FMTTYPE=image/avif:https://celebratefairfax.org/wp-content/uploads/2025/06/springfield-nights.avif
END:VEVENT
BEGIN:VEVENT
DTSTART;TZID=UTC:20250730T190000
DTEND;TZID=UTC:20250730T230000
DTSTAMP:20260425T185102
CREATED:20250429T200140Z
LAST-MODIFIED:20250429T200140Z
UID:10001699-1753902000-1753916400@celebratefairfax.org
SUMMARY:Reston Market
DESCRIPTION:
URL:https://celebratefairfax.org/event/reston-market-2-2/2025-07-30/
LOCATION:United States
CATEGORIES:Farmer's Markets Guide
ATTACH;FMTTYPE=image/avif:https://celebratefairfax.org/wp-content/uploads/2025/04/fresh-produce-display.avif
END:VEVENT
BEGIN:VEVENT
DTSTART;TZID=UTC:20250731T120000
DTEND;TZID=UTC:20250731T160000
DTSTAMP:20260425T185102
CREATED:20250429T145126Z
LAST-MODIFIED:20250429T145126Z
UID:10001220-1753963200-1753977600@celebratefairfax.org
SUMMARY:Annandale Market
DESCRIPTION:
URL:https://celebratefairfax.org/event/annandale-market-2/2025-07-31/
LOCATION:United States
CATEGORIES:Farmer's Markets Guide
ATTACH;FMTTYPE=image/avif:https://celebratefairfax.org/wp-content/uploads/2025/04/fresh-produce-display.avif
END:VEVENT
BEGIN:VEVENT
DTSTART;TZID=UTC:20250731T120000
DTEND;TZID=UTC:20250731T160000
DTSTAMP:20260425T185102
CREATED:20250429T145430Z
LAST-MODIFIED:20250521T202530Z
UID:10000526-1753963200-1753977600@celebratefairfax.org
SUMMARY:Herndon Market
DESCRIPTION:  \n\n\n\n\n\n\n\n\n\n\n\n\n\n\n\n 
URL:https://celebratefairfax.org/event/herndon-market/2025-07-31/
LOCATION:United States
CATEGORIES:Farmer's Markets Guide
ATTACH;FMTTYPE=image/avif:https://celebratefairfax.org/wp-content/uploads/2025/04/fresh-produce-display.avif
END:VEVENT
BEGIN:VEVENT
DTSTART;TZID=UTC:20250731T173000
DTEND;TZID=UTC:20250731T183000
DTSTAMP:20260425T185102
CREATED:20250619T162114Z
LAST-MODIFIED:20250619T190310Z
UID:10004292-1753983000-1753986600@celebratefairfax.org
SUMMARY:Evenings on the Ellipse – Government Center
DESCRIPTION:Welcome to the summer concert series\, Evenings on the Ellipse.  Evenings on the Ellipse\, featuring a wide variety of music\, is a celebration of these talented performers and the joy and togetherness we find in our Fairfax County Community. \nJul 3–Aug 14 \nThursdays 5:30 pm
URL:https://celebratefairfax.org/event/evenings-on-the-ellipse-government-center/2025-07-31/
LOCATION:Government Center\, 12000 Government Center Pkwy\, Fairfax\, VA\, 22035\, United States
CATEGORIES:Summer Concert Series Guide 2025
ATTACH;FMTTYPE=image/avif:https://celebratefairfax.org/wp-content/uploads/2025/06/evenings-on-the-ellipse.avif
END:VEVENT
BEGIN:VEVENT
DTSTART;TZID=UTC:20250731T190000
DTEND;TZID=UTC:20250731T203000
DTSTAMP:20260425T185102
CREATED:20250619T163250Z
LAST-MODIFIED:20250619T190620Z
UID:10008099-1753988400-1753993800@celebratefairfax.org
SUMMARY:Concerts in the Park – Cherry Hill Park
DESCRIPTION:The Summer Concerts in the Park Series hosted by the Falls Church Village Preservation and Improvement Society (VPIS) and the Recreation and Parks Department returns for its 33rd year! \nConcerts in the Park are Thursdays in June and July this year! Guests are encouraged to bring a blanket or folding chairs and a picnic dinner to the concerts. \nConcerts start at 7 p.m. and range from 60 minutes to 90 minutes long. Advanced registration is not required. \n 
URL:https://celebratefairfax.org/event/concerts-in-the-park-cherry-hill-park/2025-07-31/
CATEGORIES:Summer Concert Series Guide 2025
ATTACH;FMTTYPE=image/png:https://celebratefairfax.org/wp-content/uploads/2025/06/concerts-in-the-park.avif
END:VEVENT
BEGIN:VEVENT
DTSTART;TZID=UTC:20250731T190000
DTEND;TZID=UTC:20250731T210000
DTSTAMP:20260425T185102
CREATED:20250617T155632Z
LAST-MODIFIED:20250617T155835Z
UID:10002082-1753988400-1753995600@celebratefairfax.org
SUMMARY:Films in the Park | Scooby Doo
DESCRIPTION:Films In The Park returns to Mosaic for another summer filled with blockbuster hits and family favorites. All movies starts a 7pm. \nFilm lovers can watch on the larger-than-life outdoor screen while sitting picnic-style in Strawberry Park. \nAll movies are shown rain or shine unless otherwise noted.
URL:https://celebratefairfax.org/event/films-in-the-park-scooby-doo/
LOCATION:Mosaic District\, 2910 District Ave\, Fairfax\, VA\, 22031\, United States
CATEGORIES:Outdoor Movie Guide 2025
ATTACH;FMTTYPE=image/png:https://celebratefairfax.org/wp-content/uploads/2025/06/couple-watching-outdoor-movie.avif
END:VEVENT
BEGIN:VEVENT
DTSTART;TZID=UTC:20250801T120000
DTEND;TZID=UTC:20250801T160000
DTSTAMP:20260425T185102
CREATED:20250429T184030Z
LAST-MODIFIED:20250429T184030Z
UID:10001274-1754049600-1754064000@celebratefairfax.org
SUMMARY:McLean Market
DESCRIPTION:
URL:https://celebratefairfax.org/event/mclean-market-2/2025-08-01/
LOCATION:United States
CATEGORIES:Farmer's Markets Guide
ATTACH;FMTTYPE=image/avif:https://celebratefairfax.org/wp-content/uploads/2025/04/fresh-produce-display.avif
END:VEVENT
BEGIN:VEVENT
DTSTART;TZID=UTC:20250801T190000
DTEND;TZID=UTC:20250801T230000
DTSTAMP:20260425T185102
CREATED:20250429T184321Z
LAST-MODIFIED:20250521T202450Z
UID:10000475-1754074800-1754089200@celebratefairfax.org
SUMMARY:Kingstowne Market
DESCRIPTION:  \n\n\n\n\n\n\n\n\n\n\n\n\n\n\n\n 
URL:https://celebratefairfax.org/event/kingstowne-market/2025-08-01/
LOCATION:United States
CATEGORIES:Farmer's Markets Guide
ATTACH;FMTTYPE=image/avif:https://celebratefairfax.org/wp-content/uploads/2025/04/fresh-produce-display.avif
END:VEVENT
BEGIN:VEVENT
DTSTART;TZID=UTC:20250801T193000
DTEND;TZID=UTC:20250801T203000
DTSTAMP:20260425T185102
CREATED:20250619T161301Z
LAST-MODIFIED:20250619T190207Z
UID:10004028-1754076600-1754080200@celebratefairfax.org
SUMMARY:Braddock Nights – Royal Lake Park
DESCRIPTION:Welcome back to this year’s Braddock Nights summer concert series and Children’s Arts in the Park series!  This is a series of free concerts and children’s events that will present a wide array of performances from classical and big band to blues\, rock\, and salsa\, with something for every music lover. \nJul 11–Aug 15 \nFridays 7:30 pm
URL:https://celebratefairfax.org/event/braddock-nights-royal-lake-park/2025-08-01/
LOCATION:Royal Lake Park\, 5344 Gainborough Dr.\, Fairfax\, VA\, 22030\, United States
CATEGORIES:Summer Concert Series Guide 2025
ATTACH;FMTTYPE=image/avif:https://celebratefairfax.org/wp-content/uploads/2025/06/braddock-nights-summer-concert-series.avif
END:VEVENT
BEGIN:VEVENT
DTSTART;TZID=UTC:20250801T193000
DTEND;TZID=UTC:20250801T203000
DTSTAMP:20260425T185102
CREATED:20250619T164043Z
LAST-MODIFIED:20250619T190725Z
UID:10004577-1754076600-1754080200@celebratefairfax.org
SUMMARY:Mount Vernon Nights – Grist Mill Park
DESCRIPTION:Welcome to Mount Vernon Nights Summer Concert Series!  These free\, public concerts at Grist Mill Park and the Workhouse Arts Center feature a variety of musical performances reflecting Fairfax County’s diversity\, culture and community spirit.  Bring a picnic dinner\, chair or blanket and enjoy one of Fairfax County’s special summer traditions. \nJun 6–Aug 29 \nFridays 7:30 pm
URL:https://celebratefairfax.org/event/mount-vernon-nights-grist-mill-park/2025-08-01/
LOCATION:Grist Mill Park\, 4710 Mt. Vernon Memorial Hwy\, Alexandria\, VA\, 22309\, United States
CATEGORIES:Summer Concert Series Guide 2025
ATTACH;FMTTYPE=image/avif:https://celebratefairfax.org/wp-content/uploads/2025/06/mount-vernon-nights-summer-concert-series.avif
END:VEVENT
BEGIN:VEVENT
DTSTART;TZID=UTC:20250802T120000
DTEND;TZID=UTC:20250802T160000
DTSTAMP:20260425T185102
CREATED:20250429T143108Z
LAST-MODIFIED:20250429T143108Z
UID:10001190-1754136000-1754150400@celebratefairfax.org
SUMMARY:Reston Market
DESCRIPTION:
URL:https://celebratefairfax.org/event/reston-market-3/2025-08-02/
LOCATION:United States
CATEGORIES:Farmer's Markets Guide
ATTACH;FMTTYPE=image/avif:https://celebratefairfax.org/wp-content/uploads/2025/04/fresh-produce-display.avif
END:VEVENT
BEGIN:VEVENT
DTSTART;TZID=UTC:20250802T183000
DTEND;TZID=UTC:20250802T210000
DTSTAMP:20260425T185102
CREATED:20250617T163024Z
LAST-MODIFIED:20250617T163024Z
UID:10002095-1754159400-1754168400@celebratefairfax.org
SUMMARY:Reston Station's Summerbration | Aladdin
DESCRIPTION:Meet Princess Jasmine!\n6:00 pm – 8:00 pm\nCome and meet Princess Jasmine outside the palace walls!
URL:https://celebratefairfax.org/event/reston-stations-summerbration-aladdin/
LOCATION:Reston Station\, 1800 Reston Row Plz\, Reston\, VA\, 20190\, United States
CATEGORIES:Outdoor Movie Guide 2025
ATTACH;FMTTYPE=image/png:https://celebratefairfax.org/wp-content/uploads/2025/06/couple-watching-outdoor-movie.avif
END:VEVENT
BEGIN:VEVENT
DTSTART;TZID=UTC:20250802T190000
DTEND;TZID=UTC:20250802T210000
DTSTAMP:20260425T185102
CREATED:20250619T164917Z
LAST-MODIFIED:20250619T190942Z
UID:10005113-1754161200-1754168400@celebratefairfax.org
SUMMARY:Starlight Cinema (Drive-In) – Sully Site
DESCRIPTION:Welcome to another exciting season of Starlight Drive-In Cinema.  Our 2025 season provides children’s shows before each of the four movies\, free for the public to enjoy.  The atmosphere is relaxed and informal\, so feel free to bring a picnic\, blankets\, and chairs\, and enjoy the movies. \nAug 2–23 \nSaturdays\, pre-show 7 pm
URL:https://celebratefairfax.org/event/starlight-cinema-drive-in-sully-site/2025-08-02/
CATEGORIES:Summer Concert Series Guide 2025
ATTACH;FMTTYPE=image/avif:https://celebratefairfax.org/wp-content/uploads/2025/06/starlight-cinema.avif
END:VEVENT
BEGIN:VEVENT
DTSTART;TZID=UTC:20250802T200000
DTEND;TZID=UTC:20250802T220000
DTSTAMP:20260425T185102
CREATED:20250617T153401Z
LAST-MODIFIED:20250617T153401Z
UID:10002071-1754164800-1754172000@celebratefairfax.org
SUMMARY:Starlight Cinemas | Harold and the Purple Crayon
DESCRIPTION:Inside his book\, adventurous Harold can make anything come to life simply by drawing it. After he grows up and draws himself off the book’s pages and into the physical world\, Harold finds he has a lot to learn about real life. \nSTYLE: Drive-in Movies \nFree \nGates open at 6:00 p.m.; movie at dusk \nContact: Rain Cancellation HOTLINE\nFor last-minute performance cancellations due to inclement weather\, call 571-202-SHOW (7469) one hour before the program start time.
URL:https://celebratefairfax.org/event/starlight-cinemas-harold-and-the-purple-crayon/
LOCATION:Sully Historic Site\, 3650 Historic Sully Way\, Chantilly\, VA\, 20151\, United States
CATEGORIES:Outdoor Movie Guide 2025
ATTACH;FMTTYPE=image/avif:https://celebratefairfax.org/wp-content/uploads/2025/06/harold-and-the-purple-crayon.avif
END:VEVENT
BEGIN:VEVENT
DTSTART;TZID=UTC:20250803T130000
DTEND;TZID=UTC:20250803T180000
DTSTAMP:20260425T185102
CREATED:20250429T195858Z
LAST-MODIFIED:20250429T195858Z
UID:10001433-1754226000-1754244000@celebratefairfax.org
SUMMARY:Mosaic District Market
DESCRIPTION:
URL:https://celebratefairfax.org/event/mosaic-district-market-2/2025-08-03/
LOCATION:United States
CATEGORIES:Farmer's Markets Guide
ATTACH;FMTTYPE=image/avif:https://celebratefairfax.org/wp-content/uploads/2025/04/fresh-produce-display.avif
END:VEVENT
BEGIN:VEVENT
DTSTART;TZID=UTC:20250805T190000
DTEND;TZID=UTC:20250805T210000
DTSTAMP:20260425T185102
CREATED:20250617T155703Z
LAST-MODIFIED:20250617T155703Z
UID:10002083-1754420400-1754427600@celebratefairfax.org
SUMMARY:Films in the Park | Moana 2
DESCRIPTION:Films In The Park returns to Mosaic for another summer filled with blockbuster hits and family favorites. All movies starts a 7pm. \nFilm lovers can watch on the larger-than-life outdoor screen while sitting picnic-style in Strawberry Park. \nAll movies are shown rain or shine unless otherwise noted.
URL:https://celebratefairfax.org/event/films-in-the-park-moana-2/
LOCATION:Mosaic District\, 2910 District Ave\, Fairfax\, VA\, 22031\, United States
CATEGORIES:Outdoor Movie Guide 2025
ATTACH;FMTTYPE=image/png:https://celebratefairfax.org/wp-content/uploads/2025/06/couple-watching-outdoor-movie.avif
END:VEVENT
BEGIN:VEVENT
DTSTART;TZID=UTC:20250806T180000
DTEND;TZID=UTC:20250806T220000
DTSTAMP:20260425T185102
CREATED:20250429T194625Z
LAST-MODIFIED:20250429T194625Z
UID:10001383-1754503200-1754517600@celebratefairfax.org
SUMMARY:Wakefield Market
DESCRIPTION:
URL:https://celebratefairfax.org/event/wakefield-market-2/2025-08-06/
LOCATION:United States
CATEGORIES:Farmer's Markets Guide
ATTACH;FMTTYPE=image/avif:https://celebratefairfax.org/wp-content/uploads/2025/04/fresh-produce-display.avif
END:VEVENT
BEGIN:VEVENT
DTSTART;TZID=UTC:20250806T190000
DTEND;TZID=UTC:20250806T230000
DTSTAMP:20260425T185102
CREATED:20250429T200140Z
LAST-MODIFIED:20250429T200140Z
UID:10001700-1754506800-1754521200@celebratefairfax.org
SUMMARY:Reston Market
DESCRIPTION:
URL:https://celebratefairfax.org/event/reston-market-2-2/2025-08-06/
LOCATION:United States
CATEGORIES:Farmer's Markets Guide
ATTACH;FMTTYPE=image/avif:https://celebratefairfax.org/wp-content/uploads/2025/04/fresh-produce-display.avif
END:VEVENT
END:VCALENDAR