BEGIN:VCALENDAR
VERSION:2.0
PRODID:-//Celebrate Fairfax - ECPv6.15.20//NONSGML v1.0//EN
CALSCALE:GREGORIAN
METHOD:PUBLISH
X-ORIGINAL-URL:https://celebratefairfax.org
X-WR-CALDESC:Events for Celebrate Fairfax
REFRESH-INTERVAL;VALUE=DURATION:PT1H
X-Robots-Tag:noindex
X-PUBLISHED-TTL:PT1H
BEGIN:VTIMEZONE
TZID:UTC
BEGIN:STANDARD
TZOFFSETFROM:+0000
TZOFFSETTO:+0000
TZNAME:UTC
DTSTART:20240101T000000
END:STANDARD
END:VTIMEZONE
BEGIN:VEVENT
DTSTART;TZID=UTC:20250710T120000
DTEND;TZID=UTC:20250710T160000
DTSTAMP:20260421T203255
CREATED:20250429T145126Z
LAST-MODIFIED:20250429T145126Z
UID:10001217-1752148800-1752163200@celebratefairfax.org
SUMMARY:Annandale Market
DESCRIPTION:
URL:https://celebratefairfax.org/event/annandale-market-2/2025-07-10/
LOCATION:United States
CATEGORIES:Farmer's Markets Guide
ATTACH;FMTTYPE=image/avif:https://celebratefairfax.org/wp-content/uploads/2025/04/fresh-produce-display.avif
END:VEVENT
BEGIN:VEVENT
DTSTART;TZID=UTC:20250710T120000
DTEND;TZID=UTC:20250710T160000
DTSTAMP:20260421T203255
CREATED:20250429T145430Z
LAST-MODIFIED:20250521T202530Z
UID:10000523-1752148800-1752163200@celebratefairfax.org
SUMMARY:Herndon Market
DESCRIPTION:  \n\n\n\n\n\n\n\n\n\n\n\n\n\n\n\n 
URL:https://celebratefairfax.org/event/herndon-market/2025-07-10/
LOCATION:United States
CATEGORIES:Farmer's Markets Guide
ATTACH;FMTTYPE=image/avif:https://celebratefairfax.org/wp-content/uploads/2025/04/fresh-produce-display.avif
END:VEVENT
BEGIN:VEVENT
DTSTART;TZID=UTC:20250710T173000
DTEND;TZID=UTC:20250710T183000
DTSTAMP:20260421T203255
CREATED:20250619T162114Z
LAST-MODIFIED:20250619T190310Z
UID:10004289-1752168600-1752172200@celebratefairfax.org
SUMMARY:Evenings on the Ellipse – Government Center
DESCRIPTION:Welcome to the summer concert series\, Evenings on the Ellipse.  Evenings on the Ellipse\, featuring a wide variety of music\, is a celebration of these talented performers and the joy and togetherness we find in our Fairfax County Community. \nJul 3–Aug 14 \nThursdays 5:30 pm
URL:https://celebratefairfax.org/event/evenings-on-the-ellipse-government-center/2025-07-10/
LOCATION:Government Center\, 12000 Government Center Pkwy\, Fairfax\, VA\, 22035\, United States
CATEGORIES:Summer Concert Series Guide 2025
ATTACH;FMTTYPE=image/avif:https://celebratefairfax.org/wp-content/uploads/2025/06/evenings-on-the-ellipse.avif
END:VEVENT
BEGIN:VEVENT
DTSTART;TZID=UTC:20250710T180000
DTEND;TZID=UTC:20250710T210000
DTSTAMP:20260421T203255
CREATED:20250619T173312Z
LAST-MODIFIED:20250619T190722Z
UID:10005906-1752170400-1752181200@celebratefairfax.org
SUMMARY:Providence Presents – Nottoway Park
DESCRIPTION:Welcome back to Providence Presents!  This eclectic music series includes both Mosaic LIVE at the Mosaic District and Nottoway Nights at Nottoway Park.  All shows are free\, held outdoors\, and appeal to all ages. \nJul 3–Aug 14 \nThursdays 7:30 pm
URL:https://celebratefairfax.org/event/providence-presents-nottoway-park/2025-07-10/
LOCATION:Nottoway Park\, 9601 Courthouse Road\, Vienna\, 22181\, United States
CATEGORIES:Summer Concert Series Guide 2025
ATTACH;FMTTYPE=image/avif:https://celebratefairfax.org/wp-content/uploads/2025/06/providence-presents-summer-of-music-and-community.avif
END:VEVENT
BEGIN:VEVENT
DTSTART;TZID=UTC:20250710T190000
DTEND;TZID=UTC:20250710T203000
DTSTAMP:20260421T203255
CREATED:20250619T163250Z
LAST-MODIFIED:20250619T190620Z
UID:10008096-1752174000-1752179400@celebratefairfax.org
SUMMARY:Concerts in the Park – Cherry Hill Park
DESCRIPTION:The Summer Concerts in the Park Series hosted by the Falls Church Village Preservation and Improvement Society (VPIS) and the Recreation and Parks Department returns for its 33rd year! \nConcerts in the Park are Thursdays in June and July this year! Guests are encouraged to bring a blanket or folding chairs and a picnic dinner to the concerts. \nConcerts start at 7 p.m. and range from 60 minutes to 90 minutes long. Advanced registration is not required. \n 
URL:https://celebratefairfax.org/event/concerts-in-the-park-cherry-hill-park/2025-07-10/
CATEGORIES:Summer Concert Series Guide 2025
ATTACH;FMTTYPE=image/png:https://celebratefairfax.org/wp-content/uploads/2025/06/concerts-in-the-park.avif
END:VEVENT
BEGIN:VEVENT
DTSTART;TZID=UTC:20250710T190000
DTEND;TZID=UTC:20250710T210000
DTSTAMP:20260421T203255
CREATED:20250617T155154Z
LAST-MODIFIED:20250617T155426Z
UID:10002079-1752174000-1752181200@celebratefairfax.org
SUMMARY:Films in the Park | Despicable Me 4
DESCRIPTION:Films In The Park returns to Mosaic for another summer filled with blockbuster hits and family favorites. All movies starts a 7pm. \nFilm lovers can watch on the larger-than-life outdoor screen while sitting picnic-style in Strawberry Park. \nAll movies are shown rain or shine unless otherwise noted.
URL:https://celebratefairfax.org/event/films-in-the-park-despicable-me-4/
LOCATION:Mosaic District\, 2910 District Ave\, Fairfax\, VA\, 22031\, United States
CATEGORIES:Outdoor Movie Guide 2025
ATTACH;FMTTYPE=image/png:https://celebratefairfax.org/wp-content/uploads/2025/06/couple-watching-outdoor-movie.avif
END:VEVENT
BEGIN:VEVENT
DTSTART;TZID=UTC:20250711T120000
DTEND;TZID=UTC:20250711T160000
DTSTAMP:20260421T203255
CREATED:20250429T184030Z
LAST-MODIFIED:20250429T184030Z
UID:10001271-1752235200-1752249600@celebratefairfax.org
SUMMARY:McLean Market
DESCRIPTION:
URL:https://celebratefairfax.org/event/mclean-market-2/2025-07-11/
LOCATION:United States
CATEGORIES:Farmer's Markets Guide
ATTACH;FMTTYPE=image/avif:https://celebratefairfax.org/wp-content/uploads/2025/04/fresh-produce-display.avif
END:VEVENT
BEGIN:VEVENT
DTSTART;TZID=UTC:20250711T190000
DTEND;TZID=UTC:20250711T230000
DTSTAMP:20260421T203255
CREATED:20250429T184321Z
LAST-MODIFIED:20250521T202450Z
UID:10000472-1752260400-1752274800@celebratefairfax.org
SUMMARY:Kingstowne Market
DESCRIPTION:  \n\n\n\n\n\n\n\n\n\n\n\n\n\n\n\n 
URL:https://celebratefairfax.org/event/kingstowne-market/2025-07-11/
LOCATION:United States
CATEGORIES:Farmer's Markets Guide
ATTACH;FMTTYPE=image/avif:https://celebratefairfax.org/wp-content/uploads/2025/04/fresh-produce-display.avif
END:VEVENT
BEGIN:VEVENT
DTSTART;TZID=UTC:20250711T193000
DTEND;TZID=UTC:20250711T203000
DTSTAMP:20260421T203255
CREATED:20250619T161301Z
LAST-MODIFIED:20250619T190207Z
UID:10004025-1752262200-1752265800@celebratefairfax.org
SUMMARY:Braddock Nights – Royal Lake Park
DESCRIPTION:Welcome back to this year’s Braddock Nights summer concert series and Children’s Arts in the Park series!  This is a series of free concerts and children’s events that will present a wide array of performances from classical and big band to blues\, rock\, and salsa\, with something for every music lover. \nJul 11–Aug 15 \nFridays 7:30 pm
URL:https://celebratefairfax.org/event/braddock-nights-royal-lake-park/2025-07-11/
LOCATION:Royal Lake Park\, 5344 Gainborough Dr.\, Fairfax\, VA\, 22030\, United States
CATEGORIES:Summer Concert Series Guide 2025
ATTACH;FMTTYPE=image/avif:https://celebratefairfax.org/wp-content/uploads/2025/06/braddock-nights-summer-concert-series.avif
END:VEVENT
BEGIN:VEVENT
DTSTART;TZID=UTC:20250711T193000
DTEND;TZID=UTC:20250711T203000
DTSTAMP:20260421T203255
CREATED:20250619T164043Z
LAST-MODIFIED:20250619T190725Z
UID:10004574-1752262200-1752265800@celebratefairfax.org
SUMMARY:Mount Vernon Nights – Grist Mill Park
DESCRIPTION:Welcome to Mount Vernon Nights Summer Concert Series!  These free\, public concerts at Grist Mill Park and the Workhouse Arts Center feature a variety of musical performances reflecting Fairfax County’s diversity\, culture and community spirit.  Bring a picnic dinner\, chair or blanket and enjoy one of Fairfax County’s special summer traditions. \nJun 6–Aug 29 \nFridays 7:30 pm
URL:https://celebratefairfax.org/event/mount-vernon-nights-grist-mill-park/2025-07-11/
LOCATION:Grist Mill Park\, 4710 Mt. Vernon Memorial Hwy\, Alexandria\, VA\, 22309\, United States
CATEGORIES:Summer Concert Series Guide 2025
ATTACH;FMTTYPE=image/avif:https://celebratefairfax.org/wp-content/uploads/2025/06/mount-vernon-nights-summer-concert-series.avif
END:VEVENT
BEGIN:VEVENT
DTSTART;TZID=UTC:20250711T200000
DTEND;TZID=UTC:20250711T220000
DTSTAMP:20260421T203255
CREATED:20250617T161040Z
LAST-MODIFIED:20250617T161108Z
UID:10002086-1752264000-1752271200@celebratefairfax.org
SUMMARY:Movies Under the Moon | UP!
DESCRIPTION:Friday\, July 11\n8pm\nVan Dyck Park\n3720 Blenheim Blvd.\, Fairfax \nBring blankets and lawn chairs!
URL:https://celebratefairfax.org/event/movies-under-the-moon-up/
LOCATION:Van Dyck Park\, 3720 Blenheim Blvd\, Fairfax\, VA\, 22030\, United States
CATEGORIES:Outdoor Movie Guide 2025
ATTACH;FMTTYPE=image/png:https://celebratefairfax.org/wp-content/uploads/2025/06/movies-under-the-moon.avif
END:VEVENT
BEGIN:VEVENT
DTSTART;TZID=UTC:20250712T090000
DTEND;TZID=UTC:20250712T110000
DTSTAMP:20260421T203255
CREATED:20250610T152830Z
LAST-MODIFIED:20250610T152830Z
UID:10002049-1752310800-1752318000@celebratefairfax.org
SUMMARY:Pancake Breakfast for SPARC
DESCRIPTION:Eat pancakes with SPARC at the Fairfax American Legion Post for breakfast\, lunch\, or both! \nPlay games\, bid on special raffle items\, and show up for your community. \nBy eating delicious pancakes\, you’ll be supporting scholarships\, our new microgreens curriculum\, Zumba\, yoga\, and therapeutic art and music classes.
URL:https://celebratefairfax.org/event/pancake-breakfast-for-sparc/
LOCATION:American Legion Post\, 3939 Oak St\, Fairfax\, VA\, 22030\, United States
ATTACH;FMTTYPE=image/png:https://celebratefairfax.org/wp-content/uploads/2025/06/eat-pancakes-support-sparc.avif
END:VEVENT
BEGIN:VEVENT
DTSTART;TZID=UTC:20250712T100000
DTEND;TZID=UTC:20250712T104500
DTSTAMP:20260421T203255
CREATED:20250619T142025Z
LAST-MODIFIED:20250619T183202Z
UID:10002354-1752314400-1752317100@celebratefairfax.org
SUMMARY:Spotlight by Starlight – Mason District Park
DESCRIPTION:Mason District is thrilled to invite you to Fairfax County’s concert series featuring the Spotlight by Starlight concerts. Enjoy entertainment by a diverse range of artists from around the world! \nJun 20–Aug 17\nFridays & Sundays 7:30 pm\nSaturdays 10 am
URL:https://celebratefairfax.org/event/spotlight-by-starlight-mason-district-park-2/2025-07-12/
LOCATION:Mason District Park\, 6621 Columbia Pike\, Annandale\, VA\, 22003\, United States
CATEGORIES:Summer Concert Series Guide 2025
ATTACH;FMTTYPE=image/avif:https://celebratefairfax.org/wp-content/uploads/2025/06/mason-district-supervisor-andres-jimenez-invites-you-to-spotlight-by-starlight.avif
END:VEVENT
BEGIN:VEVENT
DTSTART;TZID=UTC:20250712T100000
DTEND;TZID=UTC:20250712T104500
DTSTAMP:20260421T203255
CREATED:20250619T154328Z
LAST-MODIFIED:20250619T185336Z
UID:10002416-1752314400-1752317100@celebratefairfax.org
SUMMARY:Arts in the Parks – Wakefield Park
DESCRIPTION:Arts in the Parks – a free children’s entertainment series \nJun 14–Aug 16 \nSaturdays 10 am
URL:https://celebratefairfax.org/event/arts-in-the-parks-wakefield-park/2025-07-12/
LOCATION:Wakefield Park\, 8100 Braddock Road\, Annandale\, VA\, 22003\, United States
CATEGORIES:Summer Concert Series Guide 2025
ATTACH;FMTTYPE=image/avif:https://celebratefairfax.org/wp-content/uploads/2025/06/arts-in-the-parks.avif
END:VEVENT
BEGIN:VEVENT
DTSTART;TZID=UTC:20250712T100000
DTEND;TZID=UTC:20250712T104500
DTSTAMP:20260421T203255
CREATED:20250619T155136Z
LAST-MODIFIED:20250619T185429Z
UID:10002952-1752314400-1752317100@celebratefairfax.org
SUMMARY:Arts in the Parks – E.C. Lawrence Park
DESCRIPTION:Arts in the Park – a free children’s entertainment series \nJun 14–Aug 16 \nSaturdays 10 am
URL:https://celebratefairfax.org/event/arts-in-the-parks-e-c-lawrence-park/2025-07-12/
LOCATION:E.C. Lawrence Park\, 5040 Walney Road\, Chantilly\, VA\, 20151\, United States
CATEGORIES:Summer Concert Series Guide 2025
ATTACH;FMTTYPE=image/avif:https://celebratefairfax.org/wp-content/uploads/2025/06/arts-in-the-parks.avif
END:VEVENT
BEGIN:VEVENT
DTSTART;TZID=UTC:20250712T100000
DTEND;TZID=UTC:20250712T104500
DTSTAMP:20260421T203255
CREATED:20250619T155601Z
LAST-MODIFIED:20250619T185106Z
UID:10003221-1752314400-1752317100@celebratefairfax.org
SUMMARY:Arts in the Parks – Burke Lake Park
DESCRIPTION:Arts in the Park – a free children’s entertainment series \nJun 14–Aug 16 \nSaturdays 10 am \n 
URL:https://celebratefairfax.org/event/arts-in-the-parks-burke-lake-park/2025-07-12/
LOCATION:Burke Lake Park\, 7315 Ox Road\, Fairfax Station\, VA\, 22039\, United States
ATTACH;FMTTYPE=image/avif:https://celebratefairfax.org/wp-content/uploads/2025/06/arts-in-the-parks.avif
END:VEVENT
BEGIN:VEVENT
DTSTART;TZID=UTC:20250712T120000
DTEND;TZID=UTC:20250712T160000
DTSTAMP:20260421T203255
CREATED:20250429T142938Z
LAST-MODIFIED:20250605T151940Z
UID:10001156-1752321600-1752336000@celebratefairfax.org
SUMMARY:Burke Market
DESCRIPTION:  \n\n  \n\n\n\n\n\n\n\n\n\n\n\n\n\n\n\n 
URL:https://celebratefairfax.org/event/burke-market-2/2025-07-12/
LOCATION:United States
CATEGORIES:Farmer's Markets Guide
ATTACH;FMTTYPE=image/avif:https://celebratefairfax.org/wp-content/uploads/2025/04/fresh-produce-display.avif
END:VEVENT
BEGIN:VEVENT
DTSTART;TZID=UTC:20250712T120000
DTEND;TZID=UTC:20250712T160000
DTSTAMP:20260421T203255
CREATED:20250429T143108Z
LAST-MODIFIED:20250429T143108Z
UID:10001187-1752321600-1752336000@celebratefairfax.org
SUMMARY:Reston Market
DESCRIPTION:
URL:https://celebratefairfax.org/event/reston-market-3/2025-07-12/
LOCATION:United States
CATEGORIES:Farmer's Markets Guide
ATTACH;FMTTYPE=image/avif:https://celebratefairfax.org/wp-content/uploads/2025/04/fresh-produce-display.avif
END:VEVENT
BEGIN:VEVENT
DTSTART;TZID=UTC:20250712T120000
DTEND;TZID=UTC:20250712T160000
DTSTAMP:20260421T203255
CREATED:20250429T195402Z
LAST-MODIFIED:20250521T202427Z
UID:10000449-1752321600-1752336000@celebratefairfax.org
SUMMARY:Vienna Farmers Market
DESCRIPTION:  \n\n\n\n\n\n\n\n\n\n\n\n\n\n\n\n 
URL:https://celebratefairfax.org/event/vienna-farmers-market/2025-07-12/
LOCATION:United States
CATEGORIES:Farmer's Markets Guide
ATTACH;FMTTYPE=image/avif:https://celebratefairfax.org/wp-content/uploads/2025/04/fresh-produce-display.avif
END:VEVENT
BEGIN:VEVENT
DTSTART;TZID=UTC:20250712T150000
DTEND;TZID=UTC:20250712T180000
DTSTAMP:20260421T203255
CREATED:20250702T152219Z
LAST-MODIFIED:20250707T162239Z
UID:10008117-1752332400-1752343200@celebratefairfax.org
SUMMARY:NCOA Photography Award Contest Exhibition Opening Reception
DESCRIPTION:Join Celebrate Fairfax and mosaicARTs on Saturday\, July 12\, from 3–6 PM for the Opening Reception of the NCOA Photography Award Contest Exhibition: This is 75 – Aging Well for All at The PARC at Tysons. This powerful exhibition features the nationally awarded 2025 NCOA photographers alongside creative expressions from talented local DMV artists. \nDuring the reception\, you will have the opportunity to interact with the artists\, hear them talk about their work and creative process\, and enjoy live music by Harmonic Solidarity.   \nIn celebration of its 75 years of service to older adults\, the National Council on Aging (NCOA) is hosting a photography contest to redefine aging as a period of vitality\, purpose\, and connections. NCOA’s goal is to break down stereotypes of aging in America by showing older adults who are engaged in life—interacting with others across generations\, volunteering and working in their communities\, and being physically and mentally active. NCOA invites photographers to submit images\, and the personal stories of the subjects depicted in the photos as they reflect on what aging well means to them. 
URL:https://celebratefairfax.org/event/ncoa-photography-award-contest-exhibition-opening-reception/
LOCATION:The PARC\, 8508 Leesburg Pike\, Tysons\, VA\, 22182\, United States
CATEGORIES:CF Hosted,NCOA Art Exhibition,The PARC
ATTACH;FMTTYPE=image/png:https://celebratefairfax.org/wp-content/uploads/2025/07/elderly-woman-driving-vintage-red-truck.avif
END:VEVENT
BEGIN:VEVENT
DTSTART;TZID=UTC:20250712T183000
DTEND;TZID=UTC:20250712T210000
DTSTAMP:20260421T203255
CREATED:20250617T162617Z
LAST-MODIFIED:20250617T162617Z
UID:10002092-1752345000-1752354000@celebratefairfax.org
SUMMARY:Reston Station's Summerbration | National Treasure
DESCRIPTION:
URL:https://celebratefairfax.org/event/reston-stations-summerbration-national-treasure/
LOCATION:Reston Station\, 1800 Reston Row Plz\, Reston\, VA\, 20190\, United States
CATEGORIES:Outdoor Movie Guide 2025
ATTACH;FMTTYPE=image/png:https://celebratefairfax.org/wp-content/uploads/2025/06/couple-watching-outdoor-movie.avif
END:VEVENT
BEGIN:VEVENT
DTSTART;TZID=UTC:20250712T193000
DTEND;TZID=UTC:20250712T203000
DTSTAMP:20260421T203255
CREATED:20250619T153608Z
LAST-MODIFIED:20250619T185245Z
UID:10002684-1752348600-1752352200@celebratefairfax.org
SUMMARY:Spotlight by Starlight – Ossian Hall Park
DESCRIPTION:Mason District is thrilled to invite you to Fairfax County’s concert series featuring the Spotlight by Starlight concerts. Enjoy entertainment by a diverse range of artists from around the world! \nJun 14–Aug 16 \nSaturdays 7:30 pm
URL:https://celebratefairfax.org/event/spotlight-by-starlight-ossian-hall-park/2025-07-12/
LOCATION:Ossian Hall Park\, 7900 Heritage Dr\, Annandale\, VA\, 22003\, United States
CATEGORIES:Summer Concert Series Guide 2025
ATTACH;FMTTYPE=image/avif:https://celebratefairfax.org/wp-content/uploads/2025/06/mason-district-supervisor-andres-jimenez-invites-you-to-spotlight-by-starlight.avif
END:VEVENT
BEGIN:VEVENT
DTSTART;TZID=UTC:20250712T193000
DTEND;TZID=UTC:20250712T203000
DTSTAMP:20260421T203255
CREATED:20250619T164427Z
LAST-MODIFIED:20250619T190821Z
UID:10004845-1752348600-1752352200@celebratefairfax.org
SUMMARY:Mount Vernon Nights – Workhouse Arts Center
DESCRIPTION:Welcome to Mount Vernon Nights Summer Concert Series!  These free\, public concerts at Grist Mill Park and the Workhouse Arts Center feature a variety of musical performances reflecting Fairfax County’s diversity\, culture and community spirit.  Bring a picnic dinner\, chair or blanket and enjoy one of Fairfax County’s special summer traditions. \nJun 7–Aug 30 \nSaturdays 7:30 pm
URL:https://celebratefairfax.org/event/mount-vernon-nights-workhouse-arts-center/2025-07-12/
CATEGORIES:Summer Concert Series Guide 2025
ATTACH;FMTTYPE=image/avif:https://celebratefairfax.org/wp-content/uploads/2025/06/mount-vernon-nights-summer-concert-series.avif
END:VEVENT
BEGIN:VEVENT
DTSTART;TZID=UTC:20250712T193000
DTEND;TZID=UTC:20250712T203000
DTSTAMP:20260421T203255
CREATED:20250619T173952Z
LAST-MODIFIED:20250619T190604Z
UID:10006170-1752348600-1752352200@celebratefairfax.org
SUMMARY:Music at Arrowbrook – Arrowbrook Centre
DESCRIPTION:Welcome to the Concerts at Arrowbrook Centre Park in Herndon!  This free concert series has been a major catalyst for our community with musical acts that vary from folk to fun and everything in between. \nJul 12–Aug 30 \nSaturdays 7:30 pm
URL:https://celebratefairfax.org/event/music-at-arrowbrook-arrowbrook-centre/2025-07-12/
CATEGORIES:Summer Concert Series Guide 2025
ATTACH;FMTTYPE=image/avif:https://celebratefairfax.org/wp-content/uploads/2025/06/music-at-arrowbrook-centre-park.avif
END:VEVENT
BEGIN:VEVENT
DTSTART;TZID=UTC:20250712T200000
DTEND;TZID=UTC:20250712T220000
DTSTAMP:20260421T203255
CREATED:20250807T162548Z
LAST-MODIFIED:20250807T162548Z
UID:10008386-1752350400-1752357600@celebratefairfax.org
SUMMARY:Summer Movie Night - The Princess Bride (1987)
DESCRIPTION:Prepare for Adventure and True Love Under the Stars!\nJoin us for an unforgettable outdoor movie night featuring the beloved classic\, “The Princess Bride”! \nGet ready to quote your favorite lines and cheer for Westley and Buttercup as we transform the Springfield Overlook into an open-air cinema. It’s the perfect way to spend a summer evening with family and friends in the heart of Springfield. \nDate: Saturday\, July 12thTime: 8:00 PM (Come a little early to snag a good spot!) Location: Springfield Overlook\, Springfield Commuter Garage\, 7039 Old Keene Mill Rd\, 6th Floor \n“As you wish!” Pack your blankets\, lawn chairs\, and maybe even a picnic (though no open flames\, please!) for a magical evening. \nThis is a FREE community event\, so bring your friends\, family\, and anyone who appreciates a tale of fencing\, fighting\, torture\, revenge\, giants\, monsters\, chases\, escapes\, true love\, and miracles! \nDon’t miss out on this “inconceivable” night of fun!
URL:https://celebratefairfax.org/event/summer-movie-night-the-princess-bride-1987/
LOCATION:Springfield Overlook\, 7039 Old Keene Mill Road\, Springfield\, 22150\, United States
ATTACH;FMTTYPE=image/png:https://celebratefairfax.org/wp-content/uploads/2025/07/movie-night-flyer-springfield-overlook.avif
END:VEVENT
BEGIN:VEVENT
DTSTART;TZID=UTC:20250713T130000
DTEND;TZID=UTC:20250713T180000
DTSTAMP:20260421T203255
CREATED:20250429T195858Z
LAST-MODIFIED:20250429T195858Z
UID:10001430-1752411600-1752429600@celebratefairfax.org
SUMMARY:Mosaic District Market
DESCRIPTION:
URL:https://celebratefairfax.org/event/mosaic-district-market-2/2025-07-13/
LOCATION:United States
CATEGORIES:Farmer's Markets Guide
ATTACH;FMTTYPE=image/avif:https://celebratefairfax.org/wp-content/uploads/2025/04/fresh-produce-display.avif
END:VEVENT
BEGIN:VEVENT
DTSTART;TZID=UTC:20250715T100000
DTEND;TZID=UTC:20250715T170000
DTSTAMP:20260421T203255
CREATED:20250702T152940Z
LAST-MODIFIED:20250708T134000Z
UID:10008388-1752573600-1752598800@celebratefairfax.org
SUMMARY:NCOA Photography Award Contest Exhibition
DESCRIPTION:In celebration of its 75 years of service to older adults\, the National Council on Aging (NCOA) is hosting a photography contest to redefine aging as a period of vitality\, purpose\, and connections. NCOA’s goal is to break down stereotypes of aging in America by showing older adults who are engaged in life—interacting with others across generations\, volunteering and working in their communities\, and being physically and mentally active. NCOA invites photographers to submit images\, and the personal stories of the subjects depicted in the photos as they reflect on what aging well means to them. This powerful exhibition features the nationally awarded 2025 NCOA photographers alongside creative expressions from talented local DMV artists. \nTuesday\, Wednesday\, Friday: 10 am – 5 pm\nThursday: 11 am – 7 pm
URL:https://celebratefairfax.org/event/ncoa-photography-award-contest-exhibition/2025-07-15/
LOCATION:The PARC\, 8508 Leesburg Pike\, Tysons\, VA\, 22182\, United States
CATEGORIES:CF Hosted,NCOA Art Exhibition,The PARC
ATTACH;FMTTYPE=image/png:https://celebratefairfax.org/wp-content/uploads/2025/07/elderly-woman-driving-vintage-red-truck.avif
END:VEVENT
BEGIN:VEVENT
DTSTART;TZID=UTC:20250716T100000
DTEND;TZID=UTC:20250716T170000
DTSTAMP:20260421T203255
CREATED:20250618T143428Z
LAST-MODIFIED:20250707T161250Z
UID:10002100-1752660000-1752685200@celebratefairfax.org
SUMMARY:Where We Belong Art Gallery
DESCRIPTION:Students across Fairfax County were invited to celebrate Immigrant Heritage Month by participating in Fairfax County’s art contest! Stop by The PARC to see all of the incredible artwork by all of the selected winners! \nJuly 16-18: \n\n7/16: 10am – 5pm\n7/17: 10am – 5pm\n7/18: 11am – 7pm
URL:https://celebratefairfax.org/event/where-we-belong-art-gallery-3/2025-07-16/
LOCATION:The PARC\, 8508 Leesburg Pike\, Tysons\, VA\, 22182\, United States
CATEGORIES:Immigrant Heritage Month Guide,The PARC
ATTACH;FMTTYPE=image/png:https://celebratefairfax.org/wp-content/uploads/2025/06/artistic-tools.avif
END:VEVENT
BEGIN:VEVENT
DTSTART;TZID=UTC:20250716T180000
DTEND;TZID=UTC:20250716T220000
DTSTAMP:20260421T203255
CREATED:20250429T194625Z
LAST-MODIFIED:20250429T194625Z
UID:10001380-1752688800-1752703200@celebratefairfax.org
SUMMARY:Wakefield Market
DESCRIPTION:
URL:https://celebratefairfax.org/event/wakefield-market-2/2025-07-16/
LOCATION:United States
CATEGORIES:Farmer's Markets Guide
ATTACH;FMTTYPE=image/avif:https://celebratefairfax.org/wp-content/uploads/2025/04/fresh-produce-display.avif
END:VEVENT
BEGIN:VEVENT
DTSTART;TZID=UTC:20250716T190000
DTEND;TZID=UTC:20250716T230000
DTSTAMP:20260421T203255
CREATED:20250429T200140Z
LAST-MODIFIED:20250429T200140Z
UID:10001697-1752692400-1752706800@celebratefairfax.org
SUMMARY:Reston Market
DESCRIPTION:
URL:https://celebratefairfax.org/event/reston-market-2-2/2025-07-16/
LOCATION:United States
CATEGORIES:Farmer's Markets Guide
ATTACH;FMTTYPE=image/avif:https://celebratefairfax.org/wp-content/uploads/2025/04/fresh-produce-display.avif
END:VEVENT
END:VCALENDAR