BEGIN:VCALENDAR
VERSION:2.0
PRODID:-//Celebrate Fairfax - ECPv6.15.20//NONSGML v1.0//EN
CALSCALE:GREGORIAN
METHOD:PUBLISH
X-WR-CALNAME:Celebrate Fairfax
X-ORIGINAL-URL:https://celebratefairfax.org
X-WR-CALDESC:Events for Celebrate Fairfax
REFRESH-INTERVAL;VALUE=DURATION:PT1H
X-Robots-Tag:noindex
X-PUBLISHED-TTL:PT1H
BEGIN:VTIMEZONE
TZID:UTC
BEGIN:STANDARD
TZOFFSETFROM:+0000
TZOFFSETTO:+0000
TZNAME:UTC
DTSTART:20240101T000000
END:STANDARD
END:VTIMEZONE
BEGIN:VEVENT
DTSTART;TZID=UTC:20250903T180000
DTEND;TZID=UTC:20250903T220000
DTSTAMP:20260420T133912
CREATED:20250429T194625Z
LAST-MODIFIED:20250429T194625Z
UID:10001387-1756922400-1756936800@celebratefairfax.org
SUMMARY:Wakefield Market
DESCRIPTION:
URL:https://celebratefairfax.org/event/wakefield-market-2/2025-09-03/
LOCATION:United States
CATEGORIES:Farmer's Markets Guide
ATTACH;FMTTYPE=image/avif:https://celebratefairfax.org/wp-content/uploads/2025/04/fresh-produce-display.avif
END:VEVENT
BEGIN:VEVENT
DTSTART;TZID=UTC:20250903T120000
DTEND;TZID=UTC:20250903T160000
DTSTAMP:20260420T133912
CREATED:20250429T194413Z
LAST-MODIFIED:20250521T202323Z
UID:10000168-1756900800-1756915200@celebratefairfax.org
SUMMARY:Oakton Market
DESCRIPTION:  \n\n\n\n\n\n\n\n\n\n\n\n\n\n\n\n 
URL:https://celebratefairfax.org/event/oakton-market/2025-09-03/
LOCATION:United States
CATEGORIES:Farmer's Markets Guide
ATTACH;FMTTYPE=image/avif:https://celebratefairfax.org/wp-content/uploads/2025/04/fresh-produce-display.avif
END:VEVENT
BEGIN:VEVENT
DTSTART;TZID=UTC:20250903T120000
DTEND;TZID=UTC:20250903T160000
DTSTAMP:20260420T133912
CREATED:20250429T135845Z
LAST-MODIFIED:20250608T223332Z
UID:10001131-1756900800-1756915200@celebratefairfax.org
SUMMARY:The McCutcheon/Mount Vernon market
DESCRIPTION:  \n\n\n\n\n\n\n\n\n\n\n\n\n\n\n\n 
URL:https://celebratefairfax.org/event/the-mccutcheon-mount-vernon-market-2/2025-09-03/
LOCATION:United States
CATEGORIES:Farmer's Markets Guide
ATTACH;FMTTYPE=image/avif:https://celebratefairfax.org/wp-content/uploads/2025/04/fresh-produce-display.avif
END:VEVENT
BEGIN:VEVENT
DTSTART;TZID=UTC:20250831T130000
DTEND;TZID=UTC:20250831T180000
DTSTAMP:20260420T133912
CREATED:20250429T195858Z
LAST-MODIFIED:20250429T195858Z
UID:10001437-1756645200-1756663200@celebratefairfax.org
SUMMARY:Mosaic District Market
DESCRIPTION:
URL:https://celebratefairfax.org/event/mosaic-district-market-2/2025-08-31/
LOCATION:United States
CATEGORIES:Farmer's Markets Guide
ATTACH;FMTTYPE=image/avif:https://celebratefairfax.org/wp-content/uploads/2025/04/fresh-produce-display.avif
END:VEVENT
BEGIN:VEVENT
DTSTART;TZID=UTC:20250830T193000
DTEND;TZID=UTC:20250830T203000
DTSTAMP:20260420T133912
CREATED:20250619T173952Z
LAST-MODIFIED:20250619T190604Z
UID:10006177-1756582200-1756585800@celebratefairfax.org
SUMMARY:Music at Arrowbrook – Arrowbrook Centre
DESCRIPTION:Welcome to the Concerts at Arrowbrook Centre Park in Herndon!  This free concert series has been a major catalyst for our community with musical acts that vary from folk to fun and everything in between. \nJul 12–Aug 30 \nSaturdays 7:30 pm
URL:https://celebratefairfax.org/event/music-at-arrowbrook-arrowbrook-centre/2025-08-30/
CATEGORIES:Summer Concert Series Guide 2025
ATTACH;FMTTYPE=image/avif:https://celebratefairfax.org/wp-content/uploads/2025/06/music-at-arrowbrook-centre-park.avif
END:VEVENT
BEGIN:VEVENT
DTSTART;TZID=UTC:20250830T193000
DTEND;TZID=UTC:20250830T203000
DTSTAMP:20260420T133912
CREATED:20250619T164427Z
LAST-MODIFIED:20250619T190821Z
UID:10004852-1756582200-1756585800@celebratefairfax.org
SUMMARY:Mount Vernon Nights – Workhouse Arts Center
DESCRIPTION:Welcome to Mount Vernon Nights Summer Concert Series!  These free\, public concerts at Grist Mill Park and the Workhouse Arts Center feature a variety of musical performances reflecting Fairfax County’s diversity\, culture and community spirit.  Bring a picnic dinner\, chair or blanket and enjoy one of Fairfax County’s special summer traditions. \nJun 7–Aug 30 \nSaturdays 7:30 pm
URL:https://celebratefairfax.org/event/mount-vernon-nights-workhouse-arts-center/2025-08-30/
CATEGORIES:Summer Concert Series Guide 2025
ATTACH;FMTTYPE=image/avif:https://celebratefairfax.org/wp-content/uploads/2025/06/mount-vernon-nights-summer-concert-series.avif
END:VEVENT
BEGIN:VEVENT
DTSTART;TZID=UTC:20250830T183000
DTEND;TZID=UTC:20250830T210000
DTSTAMP:20260420T133912
CREATED:20250617T163514Z
LAST-MODIFIED:20250617T163514Z
UID:10002099-1756578600-1756587600@celebratefairfax.org
SUMMARY:Reston Station's Summerbration | Sing 2
DESCRIPTION:
URL:https://celebratefairfax.org/event/reston-stations-summerbration-sing-2/
LOCATION:Reston Station\, 1800 Reston Row Plz\, Reston\, VA\, 20190\, United States
CATEGORIES:Outdoor Movie Guide 2025
ATTACH;FMTTYPE=image/png:https://celebratefairfax.org/wp-content/uploads/2025/06/couple-watching-outdoor-movie.avif
END:VEVENT
BEGIN:VEVENT
DTSTART;TZID=UTC:20250830T120000
DTEND;TZID=UTC:20250830T160000
DTSTAMP:20260420T133912
CREATED:20250429T143108Z
LAST-MODIFIED:20250429T143108Z
UID:10001194-1756555200-1756569600@celebratefairfax.org
SUMMARY:Reston Market
DESCRIPTION:
URL:https://celebratefairfax.org/event/reston-market-3/2025-08-30/
LOCATION:United States
CATEGORIES:Farmer's Markets Guide
ATTACH;FMTTYPE=image/avif:https://celebratefairfax.org/wp-content/uploads/2025/04/fresh-produce-display.avif
END:VEVENT
BEGIN:VEVENT
DTSTART;TZID=UTC:20250829T193000
DTEND;TZID=UTC:20250829T203000
DTSTAMP:20260420T133912
CREATED:20250619T164043Z
LAST-MODIFIED:20250619T190725Z
UID:10004581-1756495800-1756499400@celebratefairfax.org
SUMMARY:Mount Vernon Nights – Grist Mill Park
DESCRIPTION:Welcome to Mount Vernon Nights Summer Concert Series!  These free\, public concerts at Grist Mill Park and the Workhouse Arts Center feature a variety of musical performances reflecting Fairfax County’s diversity\, culture and community spirit.  Bring a picnic dinner\, chair or blanket and enjoy one of Fairfax County’s special summer traditions. \nJun 6–Aug 29 \nFridays 7:30 pm
URL:https://celebratefairfax.org/event/mount-vernon-nights-grist-mill-park/2025-08-29/
LOCATION:Grist Mill Park\, 4710 Mt. Vernon Memorial Hwy\, Alexandria\, VA\, 22309\, United States
CATEGORIES:Summer Concert Series Guide 2025
ATTACH;FMTTYPE=image/avif:https://celebratefairfax.org/wp-content/uploads/2025/06/mount-vernon-nights-summer-concert-series.avif
END:VEVENT
BEGIN:VEVENT
DTSTART;TZID=UTC:20250829T120000
DTEND;TZID=UTC:20250829T160000
DTSTAMP:20260420T133912
CREATED:20250429T184030Z
LAST-MODIFIED:20250429T184030Z
UID:10001278-1756468800-1756483200@celebratefairfax.org
SUMMARY:McLean Market
DESCRIPTION:
URL:https://celebratefairfax.org/event/mclean-market-2/2025-08-29/
LOCATION:United States
CATEGORIES:Farmer's Markets Guide
ATTACH;FMTTYPE=image/avif:https://celebratefairfax.org/wp-content/uploads/2025/04/fresh-produce-display.avif
END:VEVENT
BEGIN:VEVENT
DTSTART;TZID=UTC:20250828T120000
DTEND;TZID=UTC:20250828T160000
DTSTAMP:20260420T133912
CREATED:20250429T145126Z
LAST-MODIFIED:20250429T145126Z
UID:10001224-1756382400-1756396800@celebratefairfax.org
SUMMARY:Annandale Market
DESCRIPTION:
URL:https://celebratefairfax.org/event/annandale-market-2/2025-08-28/
LOCATION:United States
CATEGORIES:Farmer's Markets Guide
ATTACH;FMTTYPE=image/avif:https://celebratefairfax.org/wp-content/uploads/2025/04/fresh-produce-display.avif
END:VEVENT
BEGIN:VEVENT
DTSTART;TZID=UTC:20250827T190000
DTEND;TZID=UTC:20250827T230000
DTSTAMP:20260420T133912
CREATED:20250429T200140Z
LAST-MODIFIED:20250429T200140Z
UID:10001703-1756321200-1756335600@celebratefairfax.org
SUMMARY:Reston Market
DESCRIPTION:
URL:https://celebratefairfax.org/event/reston-market-2-2/2025-08-27/
LOCATION:United States
CATEGORIES:Farmer's Markets Guide
ATTACH;FMTTYPE=image/avif:https://celebratefairfax.org/wp-content/uploads/2025/04/fresh-produce-display.avif
END:VEVENT
BEGIN:VEVENT
DTSTART;TZID=UTC:20250827T180000
DTEND;TZID=UTC:20250827T220000
DTSTAMP:20260420T133912
CREATED:20250429T194625Z
LAST-MODIFIED:20250429T194625Z
UID:10001386-1756317600-1756332000@celebratefairfax.org
SUMMARY:Wakefield Market
DESCRIPTION:
URL:https://celebratefairfax.org/event/wakefield-market-2/2025-08-27/
LOCATION:United States
CATEGORIES:Farmer's Markets Guide
ATTACH;FMTTYPE=image/avif:https://celebratefairfax.org/wp-content/uploads/2025/04/fresh-produce-display.avif
END:VEVENT
BEGIN:VEVENT
DTSTART;TZID=UTC:20250824T130000
DTEND;TZID=UTC:20250824T180000
DTSTAMP:20260420T133912
CREATED:20250429T195858Z
LAST-MODIFIED:20250429T195858Z
UID:10001436-1756040400-1756058400@celebratefairfax.org
SUMMARY:Mosaic District Market
DESCRIPTION:
URL:https://celebratefairfax.org/event/mosaic-district-market-2/2025-08-24/
LOCATION:United States
CATEGORIES:Farmer's Markets Guide
ATTACH;FMTTYPE=image/avif:https://celebratefairfax.org/wp-content/uploads/2025/04/fresh-produce-display.avif
END:VEVENT
BEGIN:VEVENT
DTSTART;TZID=UTC:20250823T200000
DTEND;TZID=UTC:20250823T220000
DTSTAMP:20260420T133912
CREATED:20250617T153908Z
LAST-MODIFIED:20250617T153908Z
UID:10002074-1755979200-1755986400@celebratefairfax.org
SUMMARY:Starlight Cinema | Ratatouille
DESCRIPTION:111 minutes | Animation| Disney Pixar | 2007 | Rated G | A rat who dreams of becoming a gourmet chef teams up with an inexperienced kitchen worker at one of Paris’ finest restaurants. \nGates open at 6:00 p.m.; movie at dark \nStyle: Drive-in Cinema \nFREE \nContact: Rain Cancellation HOTLINE \nFor last-minute performance cancellations due to inclement weather\, call 571-202-SHOW (7469) one hour before the program start time.
URL:https://celebratefairfax.org/event/starlight-cinema-ratatouille/
LOCATION:Sully Historic Site\, 3650 Historic Sully Way\, Chantilly\, VA\, 20151\, United States
CATEGORIES:Outdoor Movie Guide 2025
ATTACH;FMTTYPE=image/avif:https://celebratefairfax.org/wp-content/uploads/2025/06/ratatouille-movie-poster-analysis.avif
END:VEVENT
BEGIN:VEVENT
DTSTART;TZID=UTC:20250823T190000
DTEND;TZID=UTC:20250823T210000
DTSTAMP:20260420T133912
CREATED:20250619T164917Z
LAST-MODIFIED:20250619T190942Z
UID:10005116-1755975600-1755982800@celebratefairfax.org
SUMMARY:Starlight Cinema (Drive-In) – Sully Site
DESCRIPTION:Welcome to another exciting season of Starlight Drive-In Cinema.  Our 2025 season provides children’s shows before each of the four movies\, free for the public to enjoy.  The atmosphere is relaxed and informal\, so feel free to bring a picnic\, blankets\, and chairs\, and enjoy the movies. \nAug 2–23 \nSaturdays\, pre-show 7 pm
URL:https://celebratefairfax.org/event/starlight-cinema-drive-in-sully-site/2025-08-23/
CATEGORIES:Summer Concert Series Guide 2025
ATTACH;FMTTYPE=image/avif:https://celebratefairfax.org/wp-content/uploads/2025/06/starlight-cinema.avif
END:VEVENT
BEGIN:VEVENT
DTSTART;TZID=UTC:20250823T183000
DTEND;TZID=UTC:20250823T210000
DTSTAMP:20260420T133912
CREATED:20250617T163427Z
LAST-MODIFIED:20250617T163427Z
UID:10002098-1755973800-1755982800@celebratefairfax.org
SUMMARY:Reston Station's Summerbration | Lilo & Stitch
DESCRIPTION:Hawaiian Dance Lessons\n6:00 pm – 8:00 pm\nBe greeted with a lei and learn how to Hula dance just like Lilo & Stitch!
URL:https://celebratefairfax.org/event/reston-stations-summerbration-lilo-stitch/
LOCATION:Reston Station\, 1800 Reston Row Plz\, Reston\, VA\, 20190\, United States
CATEGORIES:Outdoor Movie Guide 2025
ATTACH;FMTTYPE=image/png:https://celebratefairfax.org/wp-content/uploads/2025/06/couple-watching-outdoor-movie.avif
END:VEVENT
BEGIN:VEVENT
DTSTART;TZID=UTC:20250823T120000
DTEND;TZID=UTC:20250823T160000
DTSTAMP:20260420T133912
CREATED:20250429T143108Z
LAST-MODIFIED:20250429T143108Z
UID:10001193-1755950400-1755964800@celebratefairfax.org
SUMMARY:Reston Market
DESCRIPTION:
URL:https://celebratefairfax.org/event/reston-market-3/2025-08-23/
LOCATION:United States
CATEGORIES:Farmer's Markets Guide
ATTACH;FMTTYPE=image/avif:https://celebratefairfax.org/wp-content/uploads/2025/04/fresh-produce-display.avif
END:VEVENT
BEGIN:VEVENT
DTSTART;TZID=UTC:20250822T183000
DTEND;TZID=UTC:20250822T213000
DTSTAMP:20260420T133912
CREATED:20250721T134105Z
LAST-MODIFIED:20250721T134107Z
UID:10008435-1755887400-1755898200@celebratefairfax.org
SUMMARY:Rock the Block – Old Town Square
DESCRIPTION:Come enjoy live music\, beer garden\, food vendors\, and more!\nPlease bring chairs and or blankets to sit on!\nNo pets allowed except service animals. \nFourth Fridays 6:30 pm \nMay–Oct
URL:https://celebratefairfax.org/event/rock-the-block-old-town-square-2/2025-08-22/
LOCATION:Old Town Square\, 10415 North Street\, Fairfax\, VA\, 22030\, United States
CATEGORIES:Summer Concert Series Guide 2025
ATTACH;FMTTYPE=image/png:https://celebratefairfax.org/wp-content/uploads/2025/06/fairfax-city-rock-the-block.avif
END:VEVENT
BEGIN:VEVENT
DTSTART;TZID=UTC:20250822T120000
DTEND;TZID=UTC:20250822T160000
DTSTAMP:20260420T133912
CREATED:20250429T184030Z
LAST-MODIFIED:20250429T184030Z
UID:10001277-1755864000-1755878400@celebratefairfax.org
SUMMARY:McLean Market
DESCRIPTION:
URL:https://celebratefairfax.org/event/mclean-market-2/2025-08-22/
LOCATION:United States
CATEGORIES:Farmer's Markets Guide
ATTACH;FMTTYPE=image/avif:https://celebratefairfax.org/wp-content/uploads/2025/04/fresh-produce-display.avif
END:VEVENT
BEGIN:VEVENT
DTSTART;TZID=UTC:20250821T120000
DTEND;TZID=UTC:20250821T160000
DTSTAMP:20260420T133912
CREATED:20250429T145126Z
LAST-MODIFIED:20250429T145126Z
UID:10001223-1755777600-1755792000@celebratefairfax.org
SUMMARY:Annandale Market
DESCRIPTION:
URL:https://celebratefairfax.org/event/annandale-market-2/2025-08-21/
LOCATION:United States
CATEGORIES:Farmer's Markets Guide
ATTACH;FMTTYPE=image/avif:https://celebratefairfax.org/wp-content/uploads/2025/04/fresh-produce-display.avif
END:VEVENT
BEGIN:VEVENT
DTSTART;TZID=UTC:20250820T193000
DTEND;TZID=UTC:20250820T203000
DTSTAMP:20260420T133912
CREATED:20250619T175811Z
LAST-MODIFIED:20250619T190125Z
UID:10007243-1755718200-1755721800@celebratefairfax.org
SUMMARY:Franconia Nights – Leonardus K. Plenty Amphitheater
DESCRIPTION:Welcome to Franconia District Nights!  This series of free public concerts features a wide variety of musical acts from jazz and go-go\, to ska and rock ‘n’ roll.  Bring a picnic dinner and a blanket and sit back and enjoy the show. \nJul 2–Aug 20 \nWednesdays 7:30 pm
URL:https://celebratefairfax.org/event/franconia-nights-leonardus-k-plenty-amphitheater/2025-08-20/
LOCATION:Leonardus K. Plenty Amphitheater\, 6601 Telegraph Road\, Alexandria\, VA\, 22310\, United States
CATEGORIES:Summer Concert Series Guide 2025
ATTACH;FMTTYPE=image/avif:https://celebratefairfax.org/wp-content/uploads/2025/06/franconia-nights.avif
END:VEVENT
BEGIN:VEVENT
DTSTART;TZID=UTC:20250820T190000
DTEND;TZID=UTC:20250820T230000
DTSTAMP:20260420T133912
CREATED:20250429T200140Z
LAST-MODIFIED:20250429T200140Z
UID:10001702-1755716400-1755730800@celebratefairfax.org
SUMMARY:Reston Market
DESCRIPTION:
URL:https://celebratefairfax.org/event/reston-market-2-2/2025-08-20/
LOCATION:United States
CATEGORIES:Farmer's Markets Guide
ATTACH;FMTTYPE=image/avif:https://celebratefairfax.org/wp-content/uploads/2025/04/fresh-produce-display.avif
END:VEVENT
BEGIN:VEVENT
DTSTART;TZID=UTC:20250820T190000
DTEND;TZID=UTC:20250820T200000
DTSTAMP:20260420T133912
CREATED:20250619T160320Z
LAST-MODIFIED:20250619T185537Z
UID:10003764-1755716400-1755720000@celebratefairfax.org
SUMMARY:Springfield Nights – Burke Lake Park
DESCRIPTION:Welcome to the seventh season of free concerts in the park!  The setting is beautiful Burke Lake Park.  The atmosphere is informal so bring a picnic dinner\, blankets and lawn chairs\, and relax with family and friends.  We will also have food trucks\, 2 Silos beer and Kona Ice for sale. \nJun 25 – Aug 20 \nWednesdays 7 pm \n 
URL:https://celebratefairfax.org/event/springfield-nights-burke-lake-park/2025-08-20/
LOCATION:Burke Lake Park\, 7315 Ox Road\, Fairfax Station\, VA\, 22039\, United States
CATEGORIES:Summer Concert Series Guide 2025
ATTACH;FMTTYPE=image/avif:https://celebratefairfax.org/wp-content/uploads/2025/06/springfield-nights.avif
END:VEVENT
BEGIN:VEVENT
DTSTART;TZID=UTC:20250820T180000
DTEND;TZID=UTC:20250820T220000
DTSTAMP:20260420T133912
CREATED:20250429T194625Z
LAST-MODIFIED:20250429T194625Z
UID:10001385-1755712800-1755727200@celebratefairfax.org
SUMMARY:Wakefield Market
DESCRIPTION:
URL:https://celebratefairfax.org/event/wakefield-market-2/2025-08-20/
LOCATION:United States
CATEGORIES:Farmer's Markets Guide
ATTACH;FMTTYPE=image/avif:https://celebratefairfax.org/wp-content/uploads/2025/04/fresh-produce-display.avif
END:VEVENT
BEGIN:VEVENT
DTSTART;TZID=UTC:20250820T110000
DTEND;TZID=UTC:20250820T160000
DTSTAMP:20260420T133912
CREATED:20250819T151705Z
LAST-MODIFIED:20250819T151705Z
UID:10008442-1755687600-1755705600@celebratefairfax.org
SUMMARY:Mosquitoes Don't Deserve a Drop - Orkin and Red Cross Blood Drive
DESCRIPTION:People need blood\, not mosquitoes. Since 2020\, Orkin has supported the American Red Cross through its “Mosquitoes Don’t Deserve a Drop” campaign. \nMosquitoes are one of the world’s deadliest creatures\, and the need for blood donations in the U.S. is critical. Orkin’s partnership with the Red Cross is rooted in a shared mission to protect public health and save lives. Together\, they’re helping ensure every drop of blood goes where it matters most — to patients in need\, not pests. \nJoin  by donating blood! \nAttendees will receive a free\, limited-edition Mosquitoes Don’t Deserve a Drop t-shirt. \nSign up to donate at https://www.redcrossblood.org/give.html/drive-results?order=DATE&range=10&zipSponsor=OrkinFairfaxVA
URL:https://celebratefairfax.org/event/mosquitoes-dont-deserve-a-drop-orkin-and-red-cross-blood-drive/
LOCATION:Red Cross Fairfax Blood Donation Center\, 8550 Arlington Blvd.\, Fairfax\, VA\, 22031\, United States
CATEGORIES:City of Fairfax
ATTACH;FMTTYPE=image/png:https://celebratefairfax.org/wp-content/uploads/2025/08/mosquitoes-dont-deserve-a-drop.avif
ORGANIZER;CN="Orkin Pest Control":MAILTO:vleeboulton@jacksonspalding.com
END:VEVENT
BEGIN:VEVENT
DTSTART;TZID=UTC:20250817T193000
DTEND;TZID=UTC:20250817T203000
DTSTAMP:20260420T133912
CREATED:20250619T141625Z
LAST-MODIFIED:20250619T185938Z
UID:10002124-1755459000-1755462600@celebratefairfax.org
SUMMARY:Spotlight by Starlight – Mason District Park
DESCRIPTION:Mason District is thrilled to invite you to Fairfax County’s concert series featuring the Spotlight by Starlight concerts. Enjoy entertainment by a diverse range of artists from around the world! \nJun 20–Aug 17\nFridays & Sundays 7:30 pm\nSaturdays 10 am
URL:https://celebratefairfax.org/event/spotlight-by-starlight-mason-district-park/2025-08-17/
LOCATION:Mason District Park\, 6621 Columbia Pike\, Annandale\, VA\, 22003\, United States
CATEGORIES:Summer Concert Series Guide 2025
ATTACH;FMTTYPE=image/avif:https://celebratefairfax.org/wp-content/uploads/2025/06/spotlight-by-starlight-mason-district-summer-entertainment-series.avif
END:VEVENT
BEGIN:VEVENT
DTSTART;TZID=UTC:20250817T130000
DTEND;TZID=UTC:20250817T180000
DTSTAMP:20260420T133912
CREATED:20250429T195858Z
LAST-MODIFIED:20250429T195858Z
UID:10001435-1755435600-1755453600@celebratefairfax.org
SUMMARY:Mosaic District Market
DESCRIPTION:
URL:https://celebratefairfax.org/event/mosaic-district-market-2/2025-08-17/
LOCATION:United States
CATEGORIES:Farmer's Markets Guide
ATTACH;FMTTYPE=image/avif:https://celebratefairfax.org/wp-content/uploads/2025/04/fresh-produce-display.avif
END:VEVENT
BEGIN:VEVENT
DTSTART;TZID=UTC:20250817T090000
DTEND;TZID=UTC:20250817T163000
DTSTAMP:20260420T133912
CREATED:20250619T182659Z
LAST-MODIFIED:20250619T182659Z
UID:10008093-1755421200-1755448200@celebratefairfax.org
SUMMARY:Potomac Valley Watercolorists Show at Green Spring Gardens
DESCRIPTION:Potomac Valley Watercolorists \n“The Painted Garden” 2025 Art Exhibition and Sale \nHeld at the Green Spring Gardens Horticultural Center\, 4603 Green Spring Road\, Alexandria\, VA 22312 \nDates: June 29-August 17 \nShow Hours: \nMon-Sat 9 am – 4:30 pm; Sun 12 noon – 4:30 pm \nExhibit space may close on occasion for program use. \nPlease call ahead to check availability – 703-642-5173 \nSpecial Event: \nArtists Reception – Sunday\, July 13 from 1-3 pm \nFree and open to the public
URL:https://celebratefairfax.org/event/potomac-valley-watercolorists-show-at-green-spring-gardens/2025-08-17/
LOCATION:Green Spring Gardens Horticultural Center\, 4603 Green Spring Road\, Alexandria\, VA\, 22312\, United States
ATTACH;FMTTYPE=image/png:https://celebratefairfax.org/wp-content/uploads/2025/06/potomac-valley-watercolorists-the-painted-garden-2025-art-exhibition-sale.avif
END:VEVENT
BEGIN:VEVENT
DTSTART;TZID=UTC:20250816T200000
DTEND;TZID=UTC:20250816T220000
DTSTAMP:20260420T133912
CREATED:20250617T153745Z
LAST-MODIFIED:20250617T153745Z
UID:10002073-1755374400-1755381600@celebratefairfax.org
SUMMARY:Starlight Cinema | Wild Robot
DESCRIPTION:101 minutes | Animation| Universal Pictures | 2024 | Rated PG |After a shipwreck\, an intelligent robot called Roz is stranded on an uninhabited island. To survive the harsh environment\, Roz bonds with the island’s animals and cares for an orphaned baby goose. \nGates open at 6:00 p.m.; movie at dusk \nStyle: Drive-in Cinema \nFREE \nContact: Rain Cancellation HOTLINE \nFor last-minute performance cancellations due to inclement weather\, call 571-202-SHOW (7469) one hour before the program start time.
URL:https://celebratefairfax.org/event/starlight-cinema-wild-robot/
LOCATION:Sully Historic Site\, 3650 Historic Sully Way\, Chantilly\, VA\, 20151\, United States
CATEGORIES:Outdoor Movie Guide 2025
ATTACH;FMTTYPE=image/avif:https://celebratefairfax.org/wp-content/uploads/2025/06/thewildrobot.avif
END:VEVENT
END:VCALENDAR