BEGIN:VCALENDAR
VERSION:2.0
PRODID:-//Celebrate Fairfax - ECPv6.15.20//NONSGML v1.0//EN
CALSCALE:GREGORIAN
METHOD:PUBLISH
X-WR-CALNAME:Celebrate Fairfax
X-ORIGINAL-URL:https://celebratefairfax.org
X-WR-CALDESC:Events for Celebrate Fairfax
REFRESH-INTERVAL;VALUE=DURATION:PT1H
X-Robots-Tag:noindex
X-PUBLISHED-TTL:PT1H
BEGIN:VTIMEZONE
TZID:UTC
BEGIN:STANDARD
TZOFFSETFROM:+0000
TZOFFSETTO:+0000
TZNAME:UTC
DTSTART:20250101T000000
END:STANDARD
END:VTIMEZONE
BEGIN:VEVENT
DTSTART;TZID=UTC:20260425T120000
DTEND;TZID=UTC:20261121T170000
DTSTAMP:20260421T002541
CREATED:20260406T160618Z
LAST-MODIFIED:20260406T160620Z
UID:10009282-1777118400-1795280400@celebratefairfax.org
SUMMARY:Reston Market
DESCRIPTION:  \n\n\n\n\n\n\n\n\n\n\n\n\n\n\n\n 
URL:https://celebratefairfax.org/event/reston-market-2-2-2/2026-04-25/
LOCATION:United States
CATEGORIES:Farmer's Markets Guide
ATTACH;FMTTYPE=image/png:https://celebratefairfax.org/wp-content/uploads/2026/04/watermelon-at-farmers-market.png
END:VEVENT
BEGIN:VEVENT
DTSTART;TZID=UTC:20260509T100000
DTEND;TZID=UTC:20260509T160000
DTSTAMP:20260421T002541
CREATED:20260415T204541Z
LAST-MODIFIED:20260415T204708Z
UID:10009578-1778320800-1778342400@celebratefairfax.org
SUMMARY:OLLI ideas festival
DESCRIPTION:Join us for our first‑ever Ideas Festival\, a two‑day celebration designed to spark curiosity and inspire lifelong learning for adults. \nThe Ideas Festival on the OLLI campus located at George Mason’s Fairfax campus introduces adults to our rich educational\, social\, and cultural programs. The festival includes a panel discussion\, 20 classes\, demonstrations\, and interactive activities.
URL:https://celebratefairfax.org/event/olli-ideas-festival/2026-05-09/
LOCATION:OLLI Campus\, 4210 Roberts Rd\, Fairfax\, 22032\, United States
ATTACH;FMTTYPE=image/jpeg:https://celebratefairfax.org/wp-content/uploads/2026/04/olli-ideas-festival.jpg
END:VEVENT
BEGIN:VEVENT
DTSTART;TZID=UTC:20260509T110000
DTEND;TZID=UTC:20260509T140000
DTSTAMP:20260421T002541
CREATED:20260417T135203Z
LAST-MODIFIED:20260417T135203Z
UID:10009580-1778324400-1778335200@celebratefairfax.org
SUMMARY:Mom’s Day Out at The Boro 2026
DESCRIPTION:Celebrate Mother’s Day at The Boro with a festive day filled with thoughtful experiences\, family-friendly fun and plenty of ways to treat Mom. With a lively atmosphere and something for everyone\, it’s a day designed for making memories together. \n\nWHEN: Saturday\, May 9 from 11am-2pm\n*Rain date: Sunday\, May 10 from 11am-2pm\nWHERE: Boro Park: 8350 Broad Street\, Tysons\, VA 22102
URL:https://celebratefairfax.org/event/moms-day-out-at-the-boro-2026/
LOCATION:The Boro\, 8350 Broad Street\, Tysons\, VA\, 22102\, United States
ATTACH;FMTTYPE=image/png:https://celebratefairfax.org/wp-content/uploads/2026/04/moms-day-out.png
END:VEVENT
BEGIN:VEVENT
DTSTART;TZID=UTC:20260509T110000
DTEND;TZID=UTC:20260509T150000
DTSTAMP:20260421T002541
CREATED:20260417T145654Z
LAST-MODIFIED:20260417T145654Z
UID:10009730-1778324400-1778338800@celebratefairfax.org
SUMMARY:Park and Bark
DESCRIPTION:It’s time for Park & Bark! 🐾 Enjoy a fun-filled day at Ellanor C. Lawrence Park with your four-legged best friend\, featuring local vendors\, activities\, and plenty of wag-worthy moments. 🐕✨
URL:https://celebratefairfax.org/event/park-and-bark/
CATEGORIES:Sully District
ATTACH;FMTTYPE=image/jpeg:https://celebratefairfax.org/wp-content/uploads/2026/04/park-and-bark-event-flyer-analysis.jpg
END:VEVENT
BEGIN:VEVENT
DTSTART;TZID=UTC:20260509T140000
DTEND;TZID=UTC:20260509T163000
DTSTAMP:20260421T002542
CREATED:20260417T192429Z
LAST-MODIFIED:20260417T192429Z
UID:10009744-1778335200-1778344200@celebratefairfax.org
SUMMARY:A Funny Thing Happened on the Way to the Forum
DESCRIPTION:A Funny Thing Happened on the Way to the Forum is a riotous musical comedy that takes you on a whirlwind adventure through ancient Rome. With clever wordplay\, slapstick humor\, and unforgettable characters\, this show follows the misadventures of Pseudolus\, a wily slave who schemes to win his freedom. Delight in the catchy tunes and outrageous antics as love and chaos collide in this timeless tale of mistaken identities comedic twists. Prepare for an evening filled with laughter and entertainment!
URL:https://celebratefairfax.org/event/a-funny-thing-happened-on-the-way-to-the-forum-2/2026-05-09/1/
LOCATION:266 Sunset Business Park\, Herndon\, VA 20170
ATTACH;FMTTYPE=image/jpeg:https://celebratefairfax.org/wp-content/uploads/2026/04/afunnythinghappenedonthewaytotheforum.jpg
END:VEVENT
BEGIN:VEVENT
DTSTART;TZID=UTC:20260510T100000
DTEND;TZID=UTC:20260510T160000
DTSTAMP:20260421T002542
CREATED:20260417T135316Z
LAST-MODIFIED:20260417T135316Z
UID:10009582-1778407200-1778428800@celebratefairfax.org
SUMMARY:Mason Neck State Park - 27th Annual Eagle Festival
DESCRIPTION:Join us for a full day of live animal shows\, hands on educational opportunities\, and outdoor recreation clinics that all aim to highlight the rich natural history of Northern Virginia and foster stewardship of our environment. \n\nSee live wildlife up close\nLearn about our resident bald eagles and see them fly overhead\nVisit exhibits from our many conservation partners\nEnjoy live music\, food\, and more\n\nAll events for the festival are free for everyone to enjoy! \nSpecial thanks to the Friends of Mason Neck State Park for their continued support of the park and this event\, and thanks to all our Peninsula partners and sponsors that make this event possible. \nParking for this event will be located off site and free shuttles provided to the festival. 
URL:https://celebratefairfax.org/event/mason-neck-state-park-27th-annual-eagle-festival/
LOCATION:Mason Neck State Park\, 7301 High Point Rd\, Lorton\, VA\, 22079\, United States
ATTACH;FMTTYPE=image/jpeg:https://celebratefairfax.org/wp-content/uploads/2026/04/eagle-in-flight.jpg
END:VEVENT
BEGIN:VEVENT
DTSTART;TZID=UTC:20260510T130000
DTEND;TZID=UTC:20260510T180000
DTSTAMP:20260421T002542
CREATED:20250429T195858Z
LAST-MODIFIED:20250429T195858Z
UID:10001473-1778418000-1778436000@celebratefairfax.org
SUMMARY:Mosaic District Market
DESCRIPTION:
URL:https://celebratefairfax.org/event/mosaic-district-market-2/2026-05-10/
LOCATION:United States
CATEGORIES:Farmer's Markets Guide
ATTACH;FMTTYPE=image/avif:https://celebratefairfax.org/wp-content/uploads/2025/04/fresh-produce-display.avif
END:VEVENT
BEGIN:VEVENT
DTSTART;TZID=UTC:20260512T173000
DTEND;TZID=UTC:20260512T190000
DTSTAMP:20260421T002542
CREATED:20260417T135242Z
LAST-MODIFIED:20260417T135242Z
UID:10009581-1778607000-1778612400@celebratefairfax.org
SUMMARY:Fairfax County Board of Supervisor Chairman McKay's Spring Reception
DESCRIPTION:Chairman Jeff McKay invites you to celebrate spring at the Fairfax County Government Center! Join us for an evening filled with light refreshments\, exciting raffles\, and the opportunity to connect with neighbors and friends.
URL:https://celebratefairfax.org/event/fairfax-county-board-of-supervisor-chairman-mckays-spring-reception/
LOCATION:Fairfax County Government Center\, 12000 Government Center Parkway\, Fairfax\, VA\, 22035\, United States
ATTACH;FMTTYPE=image/png:https://celebratefairfax.org/wp-content/uploads/2026/04/chairman-jeffrey-c-mckays-spring-social.png
END:VEVENT
BEGIN:VEVENT
DTSTART;TZID=UTC:20260513T080000
DTEND;TZID=UTC:20260513T120000
DTSTAMP:20260421T002542
CREATED:20260417T145411Z
LAST-MODIFIED:20260417T145415Z
UID:10009649-1778659200-1778673600@celebratefairfax.org
SUMMARY:Fairfax County Park Authority's Farmers Market - Mount Vernon
DESCRIPTION:
URL:https://celebratefairfax.org/event/fairfax-county-park-authoritys-farmers-market-mount-vernon/2026-05-13/
LOCATION:2501 Sherwood Hall Lane\, 2501 Sherwood Hall Lane\, Alexandria\, VA\, 22306\, United States
CATEGORIES:Farmer's Markets Guide,Mount Vernon District
ATTACH;FMTTYPE=image/png:https://celebratefairfax.org/wp-content/uploads/2026/04/mount-vernon-farmers-market.png
END:VEVENT
BEGIN:VEVENT
DTSTART;TZID=UTC:20260515T000000
DTEND;TZID=UTC:20260516T000000
DTSTAMP:20260421T002542
CREATED:20260417T150322Z
LAST-MODIFIED:20260417T153348Z
UID:10009731-1778803200-1778889600@celebratefairfax.org
SUMMARY:McLean Day
DESCRIPTION:Get ready for McLean Day!  A day packed with rides\, entertainment\, food\, and community fun for all ages. See you there!
URL:https://celebratefairfax.org/event/mclean-day/
LOCATION:Lewinsville Park\, 1659 Chain Bridge Rd.
ATTACH;FMTTYPE=image/jpeg:https://celebratefairfax.org/wp-content/uploads/2026/04/mclean-day.jpg
END:VEVENT
BEGIN:VEVENT
DTSTART;TZID=UTC:20260516T080000
DTEND;TZID=UTC:20260516T120000
DTSTAMP:20260421T002542
CREATED:20260112T223025Z
LAST-MODIFIED:20260417T152342Z
UID:10009243-1778918400-1778932800@celebratefairfax.org
SUMMARY:Polar Heat on Lynn Street
DESCRIPTION:Saturday\, May 16\, 2026 | Downtown Herndon on Lynn Street \nAbout the Event\nHerndon is heating up (and cooling down) in a whole new way. Polar Heat on Lynn Street is where creativity\, community\, and connection come together for an unforgettable experience in the heart of downtown Herndon. \nThis NEW signature Herndon event celebrates everything that makes our town unique. You’ll find fiery energy\, cool creativity\, and a welcoming atmosphere that’s as vibrant and diverse as Herndon itself. From interactive activities and local vendors to entertainment and community engagement\, Polar Heat on Lynn Street is where all degrees of Herndon unite. \nWhether you’ve been here for years or are just discovering what makes this town special\, you’ll want to be part of the excitement as we bring Lynn Street to life. \nGet Involved\nThere Are So Many Ways to Be Part of the Heat \nPolar Heat on Lynn Street is powered by the people of Herndon—our residents\, volunteers\, businesses\, and performers who make this event come alive. There are many ways to get involved\, and we want you there. \nJoin us as a vendor\, entertainer\, sponsor\, or volunteer\, and help shape this exciting new chapter for our community. \nClick here for more information!
URL:https://celebratefairfax.org/event/polar-heat-on-lynn-street/
ATTACH;FMTTYPE=image/jpeg:https://celebratefairfax.org/wp-content/uploads/2026/01/root-beer-float.jpg
END:VEVENT
BEGIN:VEVENT
DTSTART;TZID=UTC:20260517T130000
DTEND;TZID=UTC:20260517T180000
DTSTAMP:20260421T002542
CREATED:20250429T195858Z
LAST-MODIFIED:20250429T195858Z
UID:10001474-1779022800-1779040800@celebratefairfax.org
SUMMARY:Mosaic District Market
DESCRIPTION:
URL:https://celebratefairfax.org/event/mosaic-district-market-2/2026-05-17/
LOCATION:United States
CATEGORIES:Farmer's Markets Guide
ATTACH;FMTTYPE=image/avif:https://celebratefairfax.org/wp-content/uploads/2025/04/fresh-produce-display.avif
END:VEVENT
BEGIN:VEVENT
DTSTART;VALUE=DATE:20260523
DTEND;VALUE=DATE:20260526
DTSTAMP:20260421T002542
CREATED:20260417T150700Z
LAST-MODIFIED:20260417T152908Z
UID:10009732-1779494400-1779753599@celebratefairfax.org
SUMMARY:ViVA Vienna
DESCRIPTION:Get ready for ViVa! Vienna! A Memorial Day weekend tradition filled with rides\, entertainment\, food\, and local vendors in the heart of Vienna.
URL:https://celebratefairfax.org/event/viva-vienna/
LOCATION:124 Church St NE Vienna\, VA 22180
ATTACH;FMTTYPE=image/jpeg:https://celebratefairfax.org/wp-content/uploads/2026/04/memorial-day-weekend-in-vienna-virginia.jpg
END:VEVENT
BEGIN:VEVENT
DTSTART;TZID=UTC:20260523T140000
DTEND;TZID=UTC:20260523T180000
DTSTAMP:20260421T002542
CREATED:20260417T135117Z
LAST-MODIFIED:20260417T135117Z
UID:10009571-1779544800-1779559200@celebratefairfax.org
SUMMARY:Asian American & Pacific Islander Heritage Month Celebration
DESCRIPTION:Join us to celebrate Asian American & Pacific Islander Heritage Month with food\, music\, dancing\, arts and crafts\, and fun! Free and open to the public. Everyone is welcome!
URL:https://celebratefairfax.org/event/asian-american-pacific-islander-heritage-month-celebration/
LOCATION:Eileen Garnett Civic Space\, 7200 Columbia Pike\, Annandale\, VA\, 22003\, United States
CATEGORIES:Asian American and Pacific Islander Heritage Month Guide,Mason District
ATTACH;FMTTYPE=image/png:https://celebratefairfax.org/wp-content/uploads/2026/04/asian-american-pacific-islander-heritage-month.png
END:VEVENT
BEGIN:VEVENT
DTSTART;TZID=UTC:20260524T130000
DTEND;TZID=UTC:20260524T180000
DTSTAMP:20260421T002542
CREATED:20250429T195858Z
LAST-MODIFIED:20250429T195858Z
UID:10001475-1779627600-1779645600@celebratefairfax.org
SUMMARY:Mosaic District Market
DESCRIPTION:
URL:https://celebratefairfax.org/event/mosaic-district-market-2/2026-05-24/
LOCATION:United States
CATEGORIES:Farmer's Markets Guide
ATTACH;FMTTYPE=image/avif:https://celebratefairfax.org/wp-content/uploads/2025/04/fresh-produce-display.avif
END:VEVENT
BEGIN:VEVENT
DTSTART;VALUE=DATE:20260530
DTEND;VALUE=DATE:20260601
DTSTAMP:20260421T002542
CREATED:20260417T151241Z
LAST-MODIFIED:20260417T153552Z
UID:10009733-1780099200-1780271999@celebratefairfax.org
SUMMARY:Bull Run Wine Festival
DESCRIPTION:Sip\, savor\, and celebrate at the Bull Run Wine Festival! Enjoy tastings from Virginia wineries\, delicious eats\, live music\, and local vendors all weekend long.
URL:https://celebratefairfax.org/event/bull-run-wine-festival/
LOCATION:15950 Lee Hwy\, Centreville\, VA 20120
ATTACH;FMTTYPE=image/png:https://celebratefairfax.org/wp-content/uploads/2026/04/bull-run-wine-festival.png
END:VEVENT
BEGIN:VEVENT
DTSTART;TZID=UTC:20260530T130000
DTEND;TZID=UTC:20260530T160000
DTSTAMP:20260421T002542
CREATED:20260406T152815Z
LAST-MODIFIED:20260406T152842Z
UID:10009281-1780146000-1780156800@celebratefairfax.org
SUMMARY:Braddock Bark
DESCRIPTION:Don’t miss the 5th Annual Braddock Bark!\nThis free event offers fun for the whole family and friends. This event is a great opportunity to come together as a community and celebrate the love we have for our pets.
URL:https://celebratefairfax.org/event/braddock-bark-2/
LOCATION:McLaren Sargent Pavilion at Lake Accotink\, 5660 Heming Ave\, Springfield\, VA\, 22151\, United States
CATEGORIES:Braddock District
ATTACH;FMTTYPE=image/png:https://celebratefairfax.org/wp-content/uploads/2026/04/braddock-bark-2026.png
END:VEVENT
BEGIN:VEVENT
DTSTART;TZID=UTC:20260531T130000
DTEND;TZID=UTC:20260531T180000
DTSTAMP:20260421T002542
CREATED:20250429T195858Z
LAST-MODIFIED:20250429T195858Z
UID:10001476-1780232400-1780250400@celebratefairfax.org
SUMMARY:Mosaic District Market
DESCRIPTION:
URL:https://celebratefairfax.org/event/mosaic-district-market-2/2026-05-31/
LOCATION:United States
CATEGORIES:Farmer's Markets Guide
ATTACH;FMTTYPE=image/avif:https://celebratefairfax.org/wp-content/uploads/2025/04/fresh-produce-display.avif
END:VEVENT
BEGIN:VEVENT
DTSTART;TZID=UTC:20260607T130000
DTEND;TZID=UTC:20260607T180000
DTSTAMP:20260421T002542
CREATED:20250429T195858Z
LAST-MODIFIED:20250429T195858Z
UID:10001477-1780837200-1780855200@celebratefairfax.org
SUMMARY:Mosaic District Market
DESCRIPTION:
URL:https://celebratefairfax.org/event/mosaic-district-market-2/2026-06-07/
LOCATION:United States
CATEGORIES:Farmer's Markets Guide
ATTACH;FMTTYPE=image/avif:https://celebratefairfax.org/wp-content/uploads/2025/04/fresh-produce-display.avif
END:VEVENT
BEGIN:VEVENT
DTSTART;TZID=UTC:20260614T130000
DTEND;TZID=UTC:20260614T180000
DTSTAMP:20260421T002542
CREATED:20250429T195858Z
LAST-MODIFIED:20250429T195858Z
UID:10001478-1781442000-1781460000@celebratefairfax.org
SUMMARY:Mosaic District Market
DESCRIPTION:
URL:https://celebratefairfax.org/event/mosaic-district-market-2/2026-06-14/
LOCATION:United States
CATEGORIES:Farmer's Markets Guide
ATTACH;FMTTYPE=image/avif:https://celebratefairfax.org/wp-content/uploads/2025/04/fresh-produce-display.avif
END:VEVENT
BEGIN:VEVENT
DTSTART;TZID=UTC:20260621T130000
DTEND;TZID=UTC:20260621T180000
DTSTAMP:20260421T002542
CREATED:20250429T195858Z
LAST-MODIFIED:20250429T195858Z
UID:10001479-1782046800-1782064800@celebratefairfax.org
SUMMARY:Mosaic District Market
DESCRIPTION:
URL:https://celebratefairfax.org/event/mosaic-district-market-2/2026-06-21/
LOCATION:United States
CATEGORIES:Farmer's Markets Guide
ATTACH;FMTTYPE=image/avif:https://celebratefairfax.org/wp-content/uploads/2025/04/fresh-produce-display.avif
END:VEVENT
BEGIN:VEVENT
DTSTART;TZID=UTC:20260624T170000
DTEND;TZID=UTC:20260624T190000
DTSTAMP:20260421T002542
CREATED:20260417T144652Z
LAST-MODIFIED:20260417T144652Z
UID:10009584-1782320400-1782327600@celebratefairfax.org
SUMMARY:Summer Concert Series - Springfield Nights at Burke Lake Park
DESCRIPTION:Springfield Nights Summer Concert Series in Burke Lake Park is returning this summer on Wednesdays from June 24 to August 19 – nine great bands like The Randy Thompson Band\, The Road Ducks\, The Skip Castro Band\, The English Channel among others will be performing in a family and dog friendly environment. Bring a lawn chair or blanket\, the dog and the kids. We will have food trucks\, 2 Silos beer\, ice cream and so much more.
URL:https://celebratefairfax.org/event/summer-concert-series-springfield-nights-at-burke-lake-park/2026-06-24/
LOCATION:Burke Lake Park\, 7315 Ox Road\, Fairfax Station\, VA\, 22039\, United States
CATEGORIES:Springfield District,Summer Concert Series Guide 2025
ATTACH;FMTTYPE=image/jpeg:https://celebratefairfax.org/wp-content/uploads/2026/04/summer-concert-in-the-park.jpg
END:VEVENT
BEGIN:VEVENT
DTSTART;TZID=UTC:20260628T130000
DTEND;TZID=UTC:20260628T180000
DTSTAMP:20260421T002542
CREATED:20250429T195858Z
LAST-MODIFIED:20250429T195858Z
UID:10001480-1782651600-1782669600@celebratefairfax.org
SUMMARY:Mosaic District Market
DESCRIPTION:
URL:https://celebratefairfax.org/event/mosaic-district-market-2/2026-06-28/
LOCATION:United States
CATEGORIES:Farmer's Markets Guide
ATTACH;FMTTYPE=image/avif:https://celebratefairfax.org/wp-content/uploads/2025/04/fresh-produce-display.avif
END:VEVENT
BEGIN:VEVENT
DTSTART;TZID=UTC:20260705T130000
DTEND;TZID=UTC:20260705T180000
DTSTAMP:20260421T002542
CREATED:20250429T195858Z
LAST-MODIFIED:20250429T195858Z
UID:10001481-1783256400-1783274400@celebratefairfax.org
SUMMARY:Mosaic District Market
DESCRIPTION:
URL:https://celebratefairfax.org/event/mosaic-district-market-2/2026-07-05/
LOCATION:United States
CATEGORIES:Farmer's Markets Guide
ATTACH;FMTTYPE=image/avif:https://celebratefairfax.org/wp-content/uploads/2025/04/fresh-produce-display.avif
END:VEVENT
BEGIN:VEVENT
DTSTART;TZID=UTC:20260712T130000
DTEND;TZID=UTC:20260712T180000
DTSTAMP:20260421T002542
CREATED:20250429T195858Z
LAST-MODIFIED:20250429T195858Z
UID:10001482-1783861200-1783879200@celebratefairfax.org
SUMMARY:Mosaic District Market
DESCRIPTION:
URL:https://celebratefairfax.org/event/mosaic-district-market-2/2026-07-12/
LOCATION:United States
CATEGORIES:Farmer's Markets Guide
ATTACH;FMTTYPE=image/avif:https://celebratefairfax.org/wp-content/uploads/2025/04/fresh-produce-display.avif
END:VEVENT
BEGIN:VEVENT
DTSTART;TZID=UTC:20260719T130000
DTEND;TZID=UTC:20260719T180000
DTSTAMP:20260421T002542
CREATED:20250429T195858Z
LAST-MODIFIED:20250429T195858Z
UID:10001483-1784466000-1784484000@celebratefairfax.org
SUMMARY:Mosaic District Market
DESCRIPTION:
URL:https://celebratefairfax.org/event/mosaic-district-market-2/2026-07-19/
LOCATION:United States
CATEGORIES:Farmer's Markets Guide
ATTACH;FMTTYPE=image/avif:https://celebratefairfax.org/wp-content/uploads/2025/04/fresh-produce-display.avif
END:VEVENT
BEGIN:VEVENT
DTSTART;TZID=UTC:20260726T130000
DTEND;TZID=UTC:20260726T180000
DTSTAMP:20260421T002542
CREATED:20250429T195858Z
LAST-MODIFIED:20250429T195858Z
UID:10001484-1785070800-1785088800@celebratefairfax.org
SUMMARY:Mosaic District Market
DESCRIPTION:
URL:https://celebratefairfax.org/event/mosaic-district-market-2/2026-07-26/
LOCATION:United States
CATEGORIES:Farmer's Markets Guide
ATTACH;FMTTYPE=image/avif:https://celebratefairfax.org/wp-content/uploads/2025/04/fresh-produce-display.avif
END:VEVENT
BEGIN:VEVENT
DTSTART;TZID=UTC:20260802T130000
DTEND;TZID=UTC:20260802T180000
DTSTAMP:20260421T002542
CREATED:20250429T195858Z
LAST-MODIFIED:20250429T195858Z
UID:10001485-1785675600-1785693600@celebratefairfax.org
SUMMARY:Mosaic District Market
DESCRIPTION:
URL:https://celebratefairfax.org/event/mosaic-district-market-2/2026-08-02/
LOCATION:United States
CATEGORIES:Farmer's Markets Guide
ATTACH;FMTTYPE=image/avif:https://celebratefairfax.org/wp-content/uploads/2025/04/fresh-produce-display.avif
END:VEVENT
BEGIN:VEVENT
DTSTART;TZID=UTC:20260809T130000
DTEND;TZID=UTC:20260809T180000
DTSTAMP:20260421T002542
CREATED:20250429T195858Z
LAST-MODIFIED:20250429T195858Z
UID:10001486-1786280400-1786298400@celebratefairfax.org
SUMMARY:Mosaic District Market
DESCRIPTION:
URL:https://celebratefairfax.org/event/mosaic-district-market-2/2026-08-09/
LOCATION:United States
CATEGORIES:Farmer's Markets Guide
ATTACH;FMTTYPE=image/avif:https://celebratefairfax.org/wp-content/uploads/2025/04/fresh-produce-display.avif
END:VEVENT
BEGIN:VEVENT
DTSTART;TZID=UTC:20260816T130000
DTEND;TZID=UTC:20260816T180000
DTSTAMP:20260421T002542
CREATED:20250429T195858Z
LAST-MODIFIED:20250429T195858Z
UID:10001487-1786885200-1786903200@celebratefairfax.org
SUMMARY:Mosaic District Market
DESCRIPTION:
URL:https://celebratefairfax.org/event/mosaic-district-market-2/2026-08-16/
LOCATION:United States
CATEGORIES:Farmer's Markets Guide
ATTACH;FMTTYPE=image/avif:https://celebratefairfax.org/wp-content/uploads/2025/04/fresh-produce-display.avif
END:VEVENT
END:VCALENDAR