BEGIN:VCALENDAR
VERSION:2.0
PRODID:-//Celebrate Fairfax - ECPv6.15.20//NONSGML v1.0//EN
CALSCALE:GREGORIAN
METHOD:PUBLISH
X-WR-CALNAME:Celebrate Fairfax
X-ORIGINAL-URL:https://celebratefairfax.org
X-WR-CALDESC:Events for Celebrate Fairfax
REFRESH-INTERVAL;VALUE=DURATION:PT1H
X-Robots-Tag:noindex
X-PUBLISHED-TTL:PT1H
BEGIN:VTIMEZONE
TZID:UTC
BEGIN:STANDARD
TZOFFSETFROM:+0000
TZOFFSETTO:+0000
TZNAME:UTC
DTSTART:20240101T000000
END:STANDARD
END:VTIMEZONE
BEGIN:VEVENT
DTSTART;TZID=UTC:20250702T120000
DTEND;TZID=UTC:20250702T160000
DTSTAMP:20260420T175833
CREATED:20250429T135845Z
LAST-MODIFIED:20250608T223332Z
UID:10001122-1751457600-1751472000@celebratefairfax.org
SUMMARY:The McCutcheon/Mount Vernon market
DESCRIPTION:  \n\n\n\n\n\n\n\n\n\n\n\n\n\n\n\n 
URL:https://celebratefairfax.org/event/the-mccutcheon-mount-vernon-market-2/2025-07-02/
LOCATION:VA\, United States
CATEGORIES:Farmer's Markets Guide
ATTACH;FMTTYPE=image/avif:https://celebratefairfax.org/wp-content/uploads/2025/04/fresh-produce-display.avif
END:VEVENT
BEGIN:VEVENT
DTSTART;TZID=UTC:20250702T120000
DTEND;TZID=UTC:20250702T160000
DTSTAMP:20260420T175833
CREATED:20250429T194413Z
LAST-MODIFIED:20250521T202323Z
UID:10000159-1751457600-1751472000@celebratefairfax.org
SUMMARY:Oakton Market
DESCRIPTION:  \n\n\n\n\n\n\n\n\n\n\n\n\n\n\n\n 
URL:https://celebratefairfax.org/event/oakton-market/2025-07-02/
LOCATION:VA\, United States
CATEGORIES:Farmer's Markets Guide
ATTACH;FMTTYPE=image/avif:https://celebratefairfax.org/wp-content/uploads/2025/04/fresh-produce-display.avif
END:VEVENT
BEGIN:VEVENT
DTSTART;TZID=UTC:20250702T180000
DTEND;TZID=UTC:20250702T220000
DTSTAMP:20260420T175833
CREATED:20250429T194625Z
LAST-MODIFIED:20250429T194625Z
UID:10001378-1751479200-1751493600@celebratefairfax.org
SUMMARY:Wakefield Market
DESCRIPTION:
URL:https://celebratefairfax.org/event/wakefield-market-2/2025-07-02/
LOCATION:VA\, United States
CATEGORIES:Farmer's Markets Guide
ATTACH;FMTTYPE=image/avif:https://celebratefairfax.org/wp-content/uploads/2025/04/fresh-produce-display.avif
END:VEVENT
BEGIN:VEVENT
DTSTART;TZID=UTC:20250702T190000
DTEND;TZID=UTC:20250702T230000
DTSTAMP:20260420T175833
CREATED:20250429T200140Z
LAST-MODIFIED:20250429T200140Z
UID:10001695-1751482800-1751497200@celebratefairfax.org
SUMMARY:Reston Market
DESCRIPTION:
URL:https://celebratefairfax.org/event/reston-market-2-2/2025-07-02/
LOCATION:VA\, United States
CATEGORIES:Farmer's Markets Guide
ATTACH;FMTTYPE=image/avif:https://celebratefairfax.org/wp-content/uploads/2025/04/fresh-produce-display.avif
END:VEVENT
BEGIN:VEVENT
DTSTART;TZID=UTC:20250703T120000
DTEND;TZID=UTC:20250703T160000
DTSTAMP:20260420T175833
CREATED:20250429T145126Z
LAST-MODIFIED:20250429T145126Z
UID:10001216-1751544000-1751558400@celebratefairfax.org
SUMMARY:Annandale Market
DESCRIPTION:
URL:https://celebratefairfax.org/event/annandale-market-2/2025-07-03/
LOCATION:VA\, United States
CATEGORIES:Farmer's Markets Guide
ATTACH;FMTTYPE=image/avif:https://celebratefairfax.org/wp-content/uploads/2025/04/fresh-produce-display.avif
END:VEVENT
BEGIN:VEVENT
DTSTART;TZID=UTC:20250703T120000
DTEND;TZID=UTC:20250703T160000
DTSTAMP:20260420T175833
CREATED:20250429T145430Z
LAST-MODIFIED:20250521T202530Z
UID:10000522-1751544000-1751558400@celebratefairfax.org
SUMMARY:Herndon Market
DESCRIPTION:  \n\n\n\n\n\n\n\n\n\n\n\n\n\n\n\n 
URL:https://celebratefairfax.org/event/herndon-market/2025-07-03/
LOCATION:VA\, United States
CATEGORIES:Farmer's Markets Guide
ATTACH;FMTTYPE=image/avif:https://celebratefairfax.org/wp-content/uploads/2025/04/fresh-produce-display.avif
END:VEVENT
BEGIN:VEVENT
DTSTART;TZID=UTC:20250704T120000
DTEND;TZID=UTC:20250704T160000
DTSTAMP:20260420T175833
CREATED:20250429T184030Z
LAST-MODIFIED:20250429T184030Z
UID:10001270-1751630400-1751644800@celebratefairfax.org
SUMMARY:McLean Market
DESCRIPTION:
URL:https://celebratefairfax.org/event/mclean-market-2/2025-07-04/
LOCATION:VA\, United States
CATEGORIES:Farmer's Markets Guide
ATTACH;FMTTYPE=image/avif:https://celebratefairfax.org/wp-content/uploads/2025/04/fresh-produce-display.avif
END:VEVENT
BEGIN:VEVENT
DTSTART;TZID=UTC:20250704T190000
DTEND;TZID=UTC:20250704T230000
DTSTAMP:20260420T175833
CREATED:20250429T184321Z
LAST-MODIFIED:20250521T202450Z
UID:10000471-1751655600-1751670000@celebratefairfax.org
SUMMARY:Kingstowne Market
DESCRIPTION:  \n\n\n\n\n\n\n\n\n\n\n\n\n\n\n\n 
URL:https://celebratefairfax.org/event/kingstowne-market/2025-07-04/
LOCATION:VA\, United States
CATEGORIES:Farmer's Markets Guide
ATTACH;FMTTYPE=image/avif:https://celebratefairfax.org/wp-content/uploads/2025/04/fresh-produce-display.avif
END:VEVENT
BEGIN:VEVENT
DTSTART;TZID=UTC:20250705T120000
DTEND;TZID=UTC:20250705T160000
DTSTAMP:20260420T175833
CREATED:20250429T142938Z
LAST-MODIFIED:20250605T151940Z
UID:10001155-1751716800-1751731200@celebratefairfax.org
SUMMARY:Burke Market
DESCRIPTION:  \n\n  \n\n\n\n\n\n\n\n\n\n\n\n\n\n\n\n 
URL:https://celebratefairfax.org/event/burke-market-2/2025-07-05/
LOCATION:VA\, United States
CATEGORIES:Farmer's Markets Guide
ATTACH;FMTTYPE=image/avif:https://celebratefairfax.org/wp-content/uploads/2025/04/fresh-produce-display.avif
END:VEVENT
BEGIN:VEVENT
DTSTART;TZID=UTC:20250705T120000
DTEND;TZID=UTC:20250705T160000
DTSTAMP:20260420T175833
CREATED:20250429T143108Z
LAST-MODIFIED:20250429T143108Z
UID:10001186-1751716800-1751731200@celebratefairfax.org
SUMMARY:Reston Market
DESCRIPTION:
URL:https://celebratefairfax.org/event/reston-market-3/2025-07-05/
LOCATION:VA\, United States
CATEGORIES:Farmer's Markets Guide
ATTACH;FMTTYPE=image/avif:https://celebratefairfax.org/wp-content/uploads/2025/04/fresh-produce-display.avif
END:VEVENT
BEGIN:VEVENT
DTSTART;TZID=UTC:20250705T120000
DTEND;TZID=UTC:20250705T160000
DTSTAMP:20260420T175833
CREATED:20250429T195402Z
LAST-MODIFIED:20250521T202427Z
UID:10000448-1751716800-1751731200@celebratefairfax.org
SUMMARY:Vienna Farmers Market
DESCRIPTION:  \n\n\n\n\n\n\n\n\n\n\n\n\n\n\n\n 
URL:https://celebratefairfax.org/event/vienna-farmers-market/2025-07-05/
LOCATION:VA\, United States
CATEGORIES:Farmer's Markets Guide
ATTACH;FMTTYPE=image/avif:https://celebratefairfax.org/wp-content/uploads/2025/04/fresh-produce-display.avif
END:VEVENT
BEGIN:VEVENT
DTSTART;TZID=UTC:20250706T130000
DTEND;TZID=UTC:20250706T180000
DTSTAMP:20260420T175833
CREATED:20250429T195858Z
LAST-MODIFIED:20250429T195858Z
UID:10001429-1751806800-1751824800@celebratefairfax.org
SUMMARY:Mosaic District Market
DESCRIPTION:
URL:https://celebratefairfax.org/event/mosaic-district-market-2/2025-07-06/
LOCATION:VA\, United States
CATEGORIES:Farmer's Markets Guide
ATTACH;FMTTYPE=image/avif:https://celebratefairfax.org/wp-content/uploads/2025/04/fresh-produce-display.avif
END:VEVENT
BEGIN:VEVENT
DTSTART;TZID=UTC:20250709T120000
DTEND;TZID=UTC:20250709T160000
DTSTAMP:20260420T175833
CREATED:20250429T135845Z
LAST-MODIFIED:20250608T223332Z
UID:10001123-1752062400-1752076800@celebratefairfax.org
SUMMARY:The McCutcheon/Mount Vernon market
DESCRIPTION:  \n\n\n\n\n\n\n\n\n\n\n\n\n\n\n\n 
URL:https://celebratefairfax.org/event/the-mccutcheon-mount-vernon-market-2/2025-07-09/
LOCATION:VA\, United States
CATEGORIES:Farmer's Markets Guide
ATTACH;FMTTYPE=image/avif:https://celebratefairfax.org/wp-content/uploads/2025/04/fresh-produce-display.avif
END:VEVENT
BEGIN:VEVENT
DTSTART;TZID=UTC:20250709T120000
DTEND;TZID=UTC:20250709T160000
DTSTAMP:20260420T175833
CREATED:20250429T194413Z
LAST-MODIFIED:20250521T202323Z
UID:10000160-1752062400-1752076800@celebratefairfax.org
SUMMARY:Oakton Market
DESCRIPTION:  \n\n\n\n\n\n\n\n\n\n\n\n\n\n\n\n 
URL:https://celebratefairfax.org/event/oakton-market/2025-07-09/
LOCATION:VA\, United States
CATEGORIES:Farmer's Markets Guide
ATTACH;FMTTYPE=image/avif:https://celebratefairfax.org/wp-content/uploads/2025/04/fresh-produce-display.avif
END:VEVENT
BEGIN:VEVENT
DTSTART;TZID=UTC:20250709T180000
DTEND;TZID=UTC:20250709T220000
DTSTAMP:20260420T175833
CREATED:20250429T194625Z
LAST-MODIFIED:20250429T194625Z
UID:10001379-1752084000-1752098400@celebratefairfax.org
SUMMARY:Wakefield Market
DESCRIPTION:
URL:https://celebratefairfax.org/event/wakefield-market-2/2025-07-09/
LOCATION:VA\, United States
CATEGORIES:Farmer's Markets Guide
ATTACH;FMTTYPE=image/avif:https://celebratefairfax.org/wp-content/uploads/2025/04/fresh-produce-display.avif
END:VEVENT
BEGIN:VEVENT
DTSTART;TZID=UTC:20250709T190000
DTEND;TZID=UTC:20250709T230000
DTSTAMP:20260420T175833
CREATED:20250429T200140Z
LAST-MODIFIED:20250429T200140Z
UID:10001696-1752087600-1752102000@celebratefairfax.org
SUMMARY:Reston Market
DESCRIPTION:
URL:https://celebratefairfax.org/event/reston-market-2-2/2025-07-09/
LOCATION:VA\, United States
CATEGORIES:Farmer's Markets Guide
ATTACH;FMTTYPE=image/avif:https://celebratefairfax.org/wp-content/uploads/2025/04/fresh-produce-display.avif
END:VEVENT
BEGIN:VEVENT
DTSTART;TZID=UTC:20250710T120000
DTEND;TZID=UTC:20250710T160000
DTSTAMP:20260420T175833
CREATED:20250429T145126Z
LAST-MODIFIED:20250429T145126Z
UID:10001217-1752148800-1752163200@celebratefairfax.org
SUMMARY:Annandale Market
DESCRIPTION:
URL:https://celebratefairfax.org/event/annandale-market-2/2025-07-10/
LOCATION:VA\, United States
CATEGORIES:Farmer's Markets Guide
ATTACH;FMTTYPE=image/avif:https://celebratefairfax.org/wp-content/uploads/2025/04/fresh-produce-display.avif
END:VEVENT
BEGIN:VEVENT
DTSTART;TZID=UTC:20250710T120000
DTEND;TZID=UTC:20250710T160000
DTSTAMP:20260420T175833
CREATED:20250429T145430Z
LAST-MODIFIED:20250521T202530Z
UID:10000523-1752148800-1752163200@celebratefairfax.org
SUMMARY:Herndon Market
DESCRIPTION:  \n\n\n\n\n\n\n\n\n\n\n\n\n\n\n\n 
URL:https://celebratefairfax.org/event/herndon-market/2025-07-10/
LOCATION:VA\, United States
CATEGORIES:Farmer's Markets Guide
ATTACH;FMTTYPE=image/avif:https://celebratefairfax.org/wp-content/uploads/2025/04/fresh-produce-display.avif
END:VEVENT
BEGIN:VEVENT
DTSTART;TZID=UTC:20250711T120000
DTEND;TZID=UTC:20250711T160000
DTSTAMP:20260420T175833
CREATED:20250429T184030Z
LAST-MODIFIED:20250429T184030Z
UID:10001271-1752235200-1752249600@celebratefairfax.org
SUMMARY:McLean Market
DESCRIPTION:
URL:https://celebratefairfax.org/event/mclean-market-2/2025-07-11/
LOCATION:VA\, United States
CATEGORIES:Farmer's Markets Guide
ATTACH;FMTTYPE=image/avif:https://celebratefairfax.org/wp-content/uploads/2025/04/fresh-produce-display.avif
END:VEVENT
BEGIN:VEVENT
DTSTART;TZID=UTC:20250711T190000
DTEND;TZID=UTC:20250711T230000
DTSTAMP:20260420T175833
CREATED:20250429T184321Z
LAST-MODIFIED:20250521T202450Z
UID:10000472-1752260400-1752274800@celebratefairfax.org
SUMMARY:Kingstowne Market
DESCRIPTION:  \n\n\n\n\n\n\n\n\n\n\n\n\n\n\n\n 
URL:https://celebratefairfax.org/event/kingstowne-market/2025-07-11/
LOCATION:VA\, United States
CATEGORIES:Farmer's Markets Guide
ATTACH;FMTTYPE=image/avif:https://celebratefairfax.org/wp-content/uploads/2025/04/fresh-produce-display.avif
END:VEVENT
BEGIN:VEVENT
DTSTART;TZID=UTC:20250712T120000
DTEND;TZID=UTC:20250712T160000
DTSTAMP:20260420T175833
CREATED:20250429T142938Z
LAST-MODIFIED:20250605T151940Z
UID:10001156-1752321600-1752336000@celebratefairfax.org
SUMMARY:Burke Market
DESCRIPTION:  \n\n  \n\n\n\n\n\n\n\n\n\n\n\n\n\n\n\n 
URL:https://celebratefairfax.org/event/burke-market-2/2025-07-12/
LOCATION:VA\, United States
CATEGORIES:Farmer's Markets Guide
ATTACH;FMTTYPE=image/avif:https://celebratefairfax.org/wp-content/uploads/2025/04/fresh-produce-display.avif
END:VEVENT
BEGIN:VEVENT
DTSTART;TZID=UTC:20250712T120000
DTEND;TZID=UTC:20250712T160000
DTSTAMP:20260420T175833
CREATED:20250429T143108Z
LAST-MODIFIED:20250429T143108Z
UID:10001187-1752321600-1752336000@celebratefairfax.org
SUMMARY:Reston Market
DESCRIPTION:
URL:https://celebratefairfax.org/event/reston-market-3/2025-07-12/
LOCATION:VA\, United States
CATEGORIES:Farmer's Markets Guide
ATTACH;FMTTYPE=image/avif:https://celebratefairfax.org/wp-content/uploads/2025/04/fresh-produce-display.avif
END:VEVENT
BEGIN:VEVENT
DTSTART;TZID=UTC:20250712T120000
DTEND;TZID=UTC:20250712T160000
DTSTAMP:20260420T175833
CREATED:20250429T195402Z
LAST-MODIFIED:20250521T202427Z
UID:10000449-1752321600-1752336000@celebratefairfax.org
SUMMARY:Vienna Farmers Market
DESCRIPTION:  \n\n\n\n\n\n\n\n\n\n\n\n\n\n\n\n 
URL:https://celebratefairfax.org/event/vienna-farmers-market/2025-07-12/
LOCATION:VA\, United States
CATEGORIES:Farmer's Markets Guide
ATTACH;FMTTYPE=image/avif:https://celebratefairfax.org/wp-content/uploads/2025/04/fresh-produce-display.avif
END:VEVENT
BEGIN:VEVENT
DTSTART;TZID=UTC:20250713T130000
DTEND;TZID=UTC:20250713T180000
DTSTAMP:20260420T175833
CREATED:20250429T195858Z
LAST-MODIFIED:20250429T195858Z
UID:10001430-1752411600-1752429600@celebratefairfax.org
SUMMARY:Mosaic District Market
DESCRIPTION:
URL:https://celebratefairfax.org/event/mosaic-district-market-2/2025-07-13/
LOCATION:VA\, United States
CATEGORIES:Farmer's Markets Guide
ATTACH;FMTTYPE=image/avif:https://celebratefairfax.org/wp-content/uploads/2025/04/fresh-produce-display.avif
END:VEVENT
BEGIN:VEVENT
DTSTART;TZID=UTC:20250716T120000
DTEND;TZID=UTC:20250716T160000
DTSTAMP:20260420T175833
CREATED:20250429T135845Z
LAST-MODIFIED:20250608T223332Z
UID:10001124-1752667200-1752681600@celebratefairfax.org
SUMMARY:The McCutcheon/Mount Vernon market
DESCRIPTION:  \n\n\n\n\n\n\n\n\n\n\n\n\n\n\n\n 
URL:https://celebratefairfax.org/event/the-mccutcheon-mount-vernon-market-2/2025-07-16/
LOCATION:VA\, United States
CATEGORIES:Farmer's Markets Guide
ATTACH;FMTTYPE=image/avif:https://celebratefairfax.org/wp-content/uploads/2025/04/fresh-produce-display.avif
END:VEVENT
BEGIN:VEVENT
DTSTART;TZID=UTC:20250716T120000
DTEND;TZID=UTC:20250716T160000
DTSTAMP:20260420T175833
CREATED:20250429T194413Z
LAST-MODIFIED:20250521T202323Z
UID:10000161-1752667200-1752681600@celebratefairfax.org
SUMMARY:Oakton Market
DESCRIPTION:  \n\n\n\n\n\n\n\n\n\n\n\n\n\n\n\n 
URL:https://celebratefairfax.org/event/oakton-market/2025-07-16/
LOCATION:VA\, United States
CATEGORIES:Farmer's Markets Guide
ATTACH;FMTTYPE=image/avif:https://celebratefairfax.org/wp-content/uploads/2025/04/fresh-produce-display.avif
END:VEVENT
BEGIN:VEVENT
DTSTART;TZID=UTC:20250716T180000
DTEND;TZID=UTC:20250716T220000
DTSTAMP:20260420T175833
CREATED:20250429T194625Z
LAST-MODIFIED:20250429T194625Z
UID:10001380-1752688800-1752703200@celebratefairfax.org
SUMMARY:Wakefield Market
DESCRIPTION:
URL:https://celebratefairfax.org/event/wakefield-market-2/2025-07-16/
LOCATION:VA\, United States
CATEGORIES:Farmer's Markets Guide
ATTACH;FMTTYPE=image/avif:https://celebratefairfax.org/wp-content/uploads/2025/04/fresh-produce-display.avif
END:VEVENT
BEGIN:VEVENT
DTSTART;TZID=UTC:20250716T190000
DTEND;TZID=UTC:20250716T230000
DTSTAMP:20260420T175833
CREATED:20250429T200140Z
LAST-MODIFIED:20250429T200140Z
UID:10001697-1752692400-1752706800@celebratefairfax.org
SUMMARY:Reston Market
DESCRIPTION:
URL:https://celebratefairfax.org/event/reston-market-2-2/2025-07-16/
LOCATION:VA\, United States
CATEGORIES:Farmer's Markets Guide
ATTACH;FMTTYPE=image/avif:https://celebratefairfax.org/wp-content/uploads/2025/04/fresh-produce-display.avif
END:VEVENT
BEGIN:VEVENT
DTSTART;TZID=UTC:20250717T120000
DTEND;TZID=UTC:20250717T160000
DTSTAMP:20260420T175833
CREATED:20250429T145126Z
LAST-MODIFIED:20250429T145126Z
UID:10001218-1752753600-1752768000@celebratefairfax.org
SUMMARY:Annandale Market
DESCRIPTION:
URL:https://celebratefairfax.org/event/annandale-market-2/2025-07-17/
LOCATION:VA\, United States
CATEGORIES:Farmer's Markets Guide
ATTACH;FMTTYPE=image/avif:https://celebratefairfax.org/wp-content/uploads/2025/04/fresh-produce-display.avif
END:VEVENT
BEGIN:VEVENT
DTSTART;TZID=UTC:20250717T120000
DTEND;TZID=UTC:20250717T160000
DTSTAMP:20260420T175833
CREATED:20250429T145430Z
LAST-MODIFIED:20250521T202530Z
UID:10000524-1752753600-1752768000@celebratefairfax.org
SUMMARY:Herndon Market
DESCRIPTION:  \n\n\n\n\n\n\n\n\n\n\n\n\n\n\n\n 
URL:https://celebratefairfax.org/event/herndon-market/2025-07-17/
LOCATION:VA\, United States
CATEGORIES:Farmer's Markets Guide
ATTACH;FMTTYPE=image/avif:https://celebratefairfax.org/wp-content/uploads/2025/04/fresh-produce-display.avif
END:VEVENT
END:VCALENDAR