BEGIN:VCALENDAR
VERSION:2.0
PRODID:-//Celebrate Fairfax - ECPv6.15.20//NONSGML v1.0//EN
CALSCALE:GREGORIAN
METHOD:PUBLISH
X-WR-CALNAME:Celebrate Fairfax
X-ORIGINAL-URL:https://celebratefairfax.org
X-WR-CALDESC:Events for Celebrate Fairfax
REFRESH-INTERVAL;VALUE=DURATION:PT1H
X-Robots-Tag:noindex
X-PUBLISHED-TTL:PT1H
BEGIN:VTIMEZONE
TZID:UTC
BEGIN:STANDARD
TZOFFSETFROM:+0000
TZOFFSETTO:+0000
TZNAME:UTC
DTSTART:20240101T000000
END:STANDARD
END:VTIMEZONE
BEGIN:VEVENT
DTSTART;TZID=UTC:20250416T120000
DTEND;TZID=UTC:20250416T160000
DTSTAMP:20260421T163637
CREATED:20250429T135845Z
LAST-MODIFIED:20250608T223332Z
UID:10001111-1744804800-1744819200@celebratefairfax.org
SUMMARY:The McCutcheon/Mount Vernon market
DESCRIPTION:  \n\n\n\n\n\n\n\n\n\n\n\n\n\n\n\n 
URL:https://celebratefairfax.org/event/the-mccutcheon-mount-vernon-market-2/2025-04-16/
LOCATION:VA\, United States
CATEGORIES:Farmer's Markets Guide
ATTACH;FMTTYPE=image/avif:https://celebratefairfax.org/wp-content/uploads/2025/04/fresh-produce-display.avif
END:VEVENT
BEGIN:VEVENT
DTSTART;TZID=UTC:20250419T120000
DTEND;TZID=UTC:20250419T160000
DTSTAMP:20260421T163637
CREATED:20250429T142938Z
LAST-MODIFIED:20250605T151940Z
UID:10001144-1745064000-1745078400@celebratefairfax.org
SUMMARY:Burke Market
DESCRIPTION:  \n\n  \n\n\n\n\n\n\n\n\n\n\n\n\n\n\n\n 
URL:https://celebratefairfax.org/event/burke-market-2/2025-04-19/
LOCATION:VA\, United States
CATEGORIES:Farmer's Markets Guide
ATTACH;FMTTYPE=image/avif:https://celebratefairfax.org/wp-content/uploads/2025/04/fresh-produce-display.avif
END:VEVENT
BEGIN:VEVENT
DTSTART;TZID=UTC:20250423T120000
DTEND;TZID=UTC:20250423T160000
DTSTAMP:20260421T163637
CREATED:20250429T135845Z
LAST-MODIFIED:20250608T223332Z
UID:10001112-1745409600-1745424000@celebratefairfax.org
SUMMARY:The McCutcheon/Mount Vernon market
DESCRIPTION:  \n\n\n\n\n\n\n\n\n\n\n\n\n\n\n\n 
URL:https://celebratefairfax.org/event/the-mccutcheon-mount-vernon-market-2/2025-04-23/
LOCATION:VA\, United States
CATEGORIES:Farmer's Markets Guide
ATTACH;FMTTYPE=image/avif:https://celebratefairfax.org/wp-content/uploads/2025/04/fresh-produce-display.avif
END:VEVENT
BEGIN:VEVENT
DTSTART;TZID=UTC:20250426T120000
DTEND;TZID=UTC:20250426T160000
DTSTAMP:20260421T163637
CREATED:20250429T142938Z
LAST-MODIFIED:20250605T151940Z
UID:10001145-1745668800-1745683200@celebratefairfax.org
SUMMARY:Burke Market
DESCRIPTION:  \n\n  \n\n\n\n\n\n\n\n\n\n\n\n\n\n\n\n 
URL:https://celebratefairfax.org/event/burke-market-2/2025-04-26/
LOCATION:VA\, United States
CATEGORIES:Farmer's Markets Guide
ATTACH;FMTTYPE=image/avif:https://celebratefairfax.org/wp-content/uploads/2025/04/fresh-produce-display.avif
END:VEVENT
BEGIN:VEVENT
DTSTART;TZID=UTC:20250426T120000
DTEND;TZID=UTC:20250426T160000
DTSTAMP:20260421T163637
CREATED:20250429T143108Z
LAST-MODIFIED:20250429T143108Z
UID:10001176-1745668800-1745683200@celebratefairfax.org
SUMMARY:Reston Market
DESCRIPTION:
URL:https://celebratefairfax.org/event/reston-market-3/2025-04-26/
LOCATION:VA\, United States
CATEGORIES:Farmer's Markets Guide
ATTACH;FMTTYPE=image/avif:https://celebratefairfax.org/wp-content/uploads/2025/04/fresh-produce-display.avif
END:VEVENT
BEGIN:VEVENT
DTSTART;TZID=UTC:20250430T120000
DTEND;TZID=UTC:20250430T160000
DTSTAMP:20260421T163637
CREATED:20250429T135845Z
LAST-MODIFIED:20250608T223332Z
UID:10001113-1746014400-1746028800@celebratefairfax.org
SUMMARY:The McCutcheon/Mount Vernon market
DESCRIPTION:  \n\n\n\n\n\n\n\n\n\n\n\n\n\n\n\n 
URL:https://celebratefairfax.org/event/the-mccutcheon-mount-vernon-market-2/2025-04-30/
LOCATION:VA\, United States
CATEGORIES:Farmer's Markets Guide
ATTACH;FMTTYPE=image/avif:https://celebratefairfax.org/wp-content/uploads/2025/04/fresh-produce-display.avif
END:VEVENT
BEGIN:VEVENT
DTSTART;TZID=UTC:20250430T190000
DTEND;TZID=UTC:20250430T230000
DTSTAMP:20260421T163637
CREATED:20250429T200140Z
LAST-MODIFIED:20250429T200140Z
UID:10001686-1746039600-1746054000@celebratefairfax.org
SUMMARY:Reston Market
DESCRIPTION:
URL:https://celebratefairfax.org/event/reston-market-2-2/2025-04-30/
LOCATION:VA\, United States
CATEGORIES:Farmer's Markets Guide
ATTACH;FMTTYPE=image/avif:https://celebratefairfax.org/wp-content/uploads/2025/04/fresh-produce-display.avif
END:VEVENT
END:VCALENDAR