BEGIN:VCALENDAR
VERSION:2.0
PRODID:-//Celebrate Fairfax - ECPv6.15.20//NONSGML v1.0//EN
CALSCALE:GREGORIAN
METHOD:PUBLISH
X-ORIGINAL-URL:https://celebratefairfax.org
X-WR-CALDESC:Events for Celebrate Fairfax
REFRESH-INTERVAL;VALUE=DURATION:PT1H
X-Robots-Tag:noindex
X-PUBLISHED-TTL:PT1H
BEGIN:VTIMEZONE
TZID:UTC
BEGIN:STANDARD
TZOFFSETFROM:+0000
TZOFFSETTO:+0000
TZNAME:UTC
DTSTART:20250101T000000
END:STANDARD
END:VTIMEZONE
BEGIN:VEVENT
DTSTART;TZID=UTC:20260902T170000
DTEND;TZID=UTC:20260902T190000
DTSTAMP:20260420T175910
CREATED:20260417T144652Z
LAST-MODIFIED:20260417T144652Z
UID:10009594-1788368400-1788375600@celebratefairfax.org
SUMMARY:Summer Concert Series - Springfield Nights at Burke Lake Park
DESCRIPTION:Springfield Nights Summer Concert Series in Burke Lake Park is returning this summer on Wednesdays from June 24 to August 19 – nine great bands like The Randy Thompson Band\, The Road Ducks\, The Skip Castro Band\, The English Channel among others will be performing in a family and dog friendly environment. Bring a lawn chair or blanket\, the dog and the kids. We will have food trucks\, 2 Silos beer\, ice cream and so much more.
URL:https://celebratefairfax.org/event/summer-concert-series-springfield-nights-at-burke-lake-park/2026-09-02/
LOCATION:Burke Lake Park\, 7315 Ox Road\, Fairfax Station\, VA\, 22039\, United States
CATEGORIES:Springfield District,Summer Concert Series Guide 2025
ATTACH;FMTTYPE=image/jpeg:https://celebratefairfax.org/wp-content/uploads/2026/04/summer-concert-in-the-park.jpg
END:VEVENT
BEGIN:VEVENT
DTSTART;TZID=UTC:20260909T170000
DTEND;TZID=UTC:20260909T190000
DTSTAMP:20260420T175910
CREATED:20260417T144652Z
LAST-MODIFIED:20260417T144652Z
UID:10009595-1788973200-1788980400@celebratefairfax.org
SUMMARY:Summer Concert Series - Springfield Nights at Burke Lake Park
DESCRIPTION:Springfield Nights Summer Concert Series in Burke Lake Park is returning this summer on Wednesdays from June 24 to August 19 – nine great bands like The Randy Thompson Band\, The Road Ducks\, The Skip Castro Band\, The English Channel among others will be performing in a family and dog friendly environment. Bring a lawn chair or blanket\, the dog and the kids. We will have food trucks\, 2 Silos beer\, ice cream and so much more.
URL:https://celebratefairfax.org/event/summer-concert-series-springfield-nights-at-burke-lake-park/2026-09-09/
LOCATION:Burke Lake Park\, 7315 Ox Road\, Fairfax Station\, VA\, 22039\, United States
CATEGORIES:Springfield District,Summer Concert Series Guide 2025
ATTACH;FMTTYPE=image/jpeg:https://celebratefairfax.org/wp-content/uploads/2026/04/summer-concert-in-the-park.jpg
END:VEVENT
BEGIN:VEVENT
DTSTART;TZID=UTC:20260916T170000
DTEND;TZID=UTC:20260916T190000
DTSTAMP:20260420T175910
CREATED:20260417T144652Z
LAST-MODIFIED:20260417T144652Z
UID:10009596-1789578000-1789585200@celebratefairfax.org
SUMMARY:Summer Concert Series - Springfield Nights at Burke Lake Park
DESCRIPTION:Springfield Nights Summer Concert Series in Burke Lake Park is returning this summer on Wednesdays from June 24 to August 19 – nine great bands like The Randy Thompson Band\, The Road Ducks\, The Skip Castro Band\, The English Channel among others will be performing in a family and dog friendly environment. Bring a lawn chair or blanket\, the dog and the kids. We will have food trucks\, 2 Silos beer\, ice cream and so much more.
URL:https://celebratefairfax.org/event/summer-concert-series-springfield-nights-at-burke-lake-park/2026-09-16/
LOCATION:Burke Lake Park\, 7315 Ox Road\, Fairfax Station\, VA\, 22039\, United States
CATEGORIES:Springfield District,Summer Concert Series Guide 2025
ATTACH;FMTTYPE=image/jpeg:https://celebratefairfax.org/wp-content/uploads/2026/04/summer-concert-in-the-park.jpg
END:VEVENT
BEGIN:VEVENT
DTSTART;TZID=UTC:20260923T170000
DTEND;TZID=UTC:20260923T190000
DTSTAMP:20260420T175910
CREATED:20260417T144652Z
LAST-MODIFIED:20260417T144652Z
UID:10009597-1790182800-1790190000@celebratefairfax.org
SUMMARY:Summer Concert Series - Springfield Nights at Burke Lake Park
DESCRIPTION:Springfield Nights Summer Concert Series in Burke Lake Park is returning this summer on Wednesdays from June 24 to August 19 – nine great bands like The Randy Thompson Band\, The Road Ducks\, The Skip Castro Band\, The English Channel among others will be performing in a family and dog friendly environment. Bring a lawn chair or blanket\, the dog and the kids. We will have food trucks\, 2 Silos beer\, ice cream and so much more.
URL:https://celebratefairfax.org/event/summer-concert-series-springfield-nights-at-burke-lake-park/2026-09-23/
LOCATION:Burke Lake Park\, 7315 Ox Road\, Fairfax Station\, VA\, 22039\, United States
CATEGORIES:Springfield District,Summer Concert Series Guide 2025
ATTACH;FMTTYPE=image/jpeg:https://celebratefairfax.org/wp-content/uploads/2026/04/summer-concert-in-the-park.jpg
END:VEVENT
BEGIN:VEVENT
DTSTART;TZID=UTC:20260930T170000
DTEND;TZID=UTC:20260930T190000
DTSTAMP:20260420T175910
CREATED:20260417T144652Z
LAST-MODIFIED:20260417T144652Z
UID:10009598-1790787600-1790794800@celebratefairfax.org
SUMMARY:Summer Concert Series - Springfield Nights at Burke Lake Park
DESCRIPTION:Springfield Nights Summer Concert Series in Burke Lake Park is returning this summer on Wednesdays from June 24 to August 19 – nine great bands like The Randy Thompson Band\, The Road Ducks\, The Skip Castro Band\, The English Channel among others will be performing in a family and dog friendly environment. Bring a lawn chair or blanket\, the dog and the kids. We will have food trucks\, 2 Silos beer\, ice cream and so much more.
URL:https://celebratefairfax.org/event/summer-concert-series-springfield-nights-at-burke-lake-park/2026-09-30/
LOCATION:Burke Lake Park\, 7315 Ox Road\, Fairfax Station\, VA\, 22039\, United States
CATEGORIES:Springfield District,Summer Concert Series Guide 2025
ATTACH;FMTTYPE=image/jpeg:https://celebratefairfax.org/wp-content/uploads/2026/04/summer-concert-in-the-park.jpg
END:VEVENT
END:VCALENDAR