BEGIN:VCALENDAR
VERSION:2.0
PRODID:-//Celebrate Fairfax - ECPv6.15.20//NONSGML v1.0//EN
CALSCALE:GREGORIAN
METHOD:PUBLISH
X-WR-CALNAME:Celebrate Fairfax
X-ORIGINAL-URL:https://celebratefairfax.org
X-WR-CALDESC:Events for Celebrate Fairfax
REFRESH-INTERVAL;VALUE=DURATION:PT1H
X-Robots-Tag:noindex
X-PUBLISHED-TTL:PT1H
BEGIN:VTIMEZONE
TZID:UTC
BEGIN:STANDARD
TZOFFSETFROM:+0000
TZOFFSETTO:+0000
TZNAME:UTC
DTSTART:20250101T000000
END:STANDARD
END:VTIMEZONE
BEGIN:VEVENT
DTSTART;TZID=UTC:20260805T170000
DTEND;TZID=UTC:20260805T190000
DTSTAMP:20260420T162101
CREATED:20260417T144652Z
LAST-MODIFIED:20260417T144652Z
UID:10009590-1785949200-1785956400@celebratefairfax.org
SUMMARY:Summer Concert Series - Springfield Nights at Burke Lake Park
DESCRIPTION:Springfield Nights Summer Concert Series in Burke Lake Park is returning this summer on Wednesdays from June 24 to August 19 – nine great bands like The Randy Thompson Band\, The Road Ducks\, The Skip Castro Band\, The English Channel among others will be performing in a family and dog friendly environment. Bring a lawn chair or blanket\, the dog and the kids. We will have food trucks\, 2 Silos beer\, ice cream and so much more.
URL:https://celebratefairfax.org/event/summer-concert-series-springfield-nights-at-burke-lake-park/2026-08-05/
LOCATION:Burke Lake Park\, 7315 Ox Road\, Fairfax Station\, VA\, 22039\, United States
CATEGORIES:Springfield District,Summer Concert Series Guide 2025
ATTACH;FMTTYPE=image/jpeg:https://celebratefairfax.org/wp-content/uploads/2026/04/summer-concert-in-the-park.jpg
END:VEVENT
BEGIN:VEVENT
DTSTART;TZID=UTC:20260812T170000
DTEND;TZID=UTC:20260812T190000
DTSTAMP:20260420T162101
CREATED:20260417T144652Z
LAST-MODIFIED:20260417T144652Z
UID:10009591-1786554000-1786561200@celebratefairfax.org
SUMMARY:Summer Concert Series - Springfield Nights at Burke Lake Park
DESCRIPTION:Springfield Nights Summer Concert Series in Burke Lake Park is returning this summer on Wednesdays from June 24 to August 19 – nine great bands like The Randy Thompson Band\, The Road Ducks\, The Skip Castro Band\, The English Channel among others will be performing in a family and dog friendly environment. Bring a lawn chair or blanket\, the dog and the kids. We will have food trucks\, 2 Silos beer\, ice cream and so much more.
URL:https://celebratefairfax.org/event/summer-concert-series-springfield-nights-at-burke-lake-park/2026-08-12/
LOCATION:Burke Lake Park\, 7315 Ox Road\, Fairfax Station\, VA\, 22039\, United States
CATEGORIES:Springfield District,Summer Concert Series Guide 2025
ATTACH;FMTTYPE=image/jpeg:https://celebratefairfax.org/wp-content/uploads/2026/04/summer-concert-in-the-park.jpg
END:VEVENT
BEGIN:VEVENT
DTSTART;TZID=UTC:20260819T170000
DTEND;TZID=UTC:20260819T190000
DTSTAMP:20260420T162101
CREATED:20260417T144652Z
LAST-MODIFIED:20260417T144652Z
UID:10009592-1787158800-1787166000@celebratefairfax.org
SUMMARY:Summer Concert Series - Springfield Nights at Burke Lake Park
DESCRIPTION:Springfield Nights Summer Concert Series in Burke Lake Park is returning this summer on Wednesdays from June 24 to August 19 – nine great bands like The Randy Thompson Band\, The Road Ducks\, The Skip Castro Band\, The English Channel among others will be performing in a family and dog friendly environment. Bring a lawn chair or blanket\, the dog and the kids. We will have food trucks\, 2 Silos beer\, ice cream and so much more.
URL:https://celebratefairfax.org/event/summer-concert-series-springfield-nights-at-burke-lake-park/2026-08-19/
LOCATION:Burke Lake Park\, 7315 Ox Road\, Fairfax Station\, VA\, 22039\, United States
CATEGORIES:Springfield District,Summer Concert Series Guide 2025
ATTACH;FMTTYPE=image/jpeg:https://celebratefairfax.org/wp-content/uploads/2026/04/summer-concert-in-the-park.jpg
END:VEVENT
BEGIN:VEVENT
DTSTART;TZID=UTC:20260826T170000
DTEND;TZID=UTC:20260826T190000
DTSTAMP:20260420T162101
CREATED:20260417T144652Z
LAST-MODIFIED:20260417T144652Z
UID:10009593-1787763600-1787770800@celebratefairfax.org
SUMMARY:Summer Concert Series - Springfield Nights at Burke Lake Park
DESCRIPTION:Springfield Nights Summer Concert Series in Burke Lake Park is returning this summer on Wednesdays from June 24 to August 19 – nine great bands like The Randy Thompson Band\, The Road Ducks\, The Skip Castro Band\, The English Channel among others will be performing in a family and dog friendly environment. Bring a lawn chair or blanket\, the dog and the kids. We will have food trucks\, 2 Silos beer\, ice cream and so much more.
URL:https://celebratefairfax.org/event/summer-concert-series-springfield-nights-at-burke-lake-park/2026-08-26/
LOCATION:Burke Lake Park\, 7315 Ox Road\, Fairfax Station\, VA\, 22039\, United States
CATEGORIES:Springfield District,Summer Concert Series Guide 2025
ATTACH;FMTTYPE=image/jpeg:https://celebratefairfax.org/wp-content/uploads/2026/04/summer-concert-in-the-park.jpg
END:VEVENT
END:VCALENDAR