BEGIN:VCALENDAR
VERSION:2.0
PRODID:-//Celebrate Fairfax - ECPv6.15.20//NONSGML v1.0//EN
CALSCALE:GREGORIAN
METHOD:PUBLISH
X-ORIGINAL-URL:https://celebratefairfax.org
X-WR-CALDESC:Events for Celebrate Fairfax
REFRESH-INTERVAL;VALUE=DURATION:PT1H
X-Robots-Tag:noindex
X-PUBLISHED-TTL:PT1H
BEGIN:VTIMEZONE
TZID:UTC
BEGIN:STANDARD
TZOFFSETFROM:+0000
TZOFFSETTO:+0000
TZNAME:UTC
DTSTART:20240101T000000
END:STANDARD
END:VTIMEZONE
BEGIN:VEVENT
DTSTART;TZID=UTC:20260227T123000
DTEND;TZID=UTC:20260227T130000
DTSTAMP:20260424T200755
CREATED:20260127T131437Z
LAST-MODIFIED:20260127T131437Z
UID:10009255-1772195400-1772197200@celebratefairfax.org
SUMMARY:HRC Foundation’s Welcoming Schools National Day of Reading!
DESCRIPTION:???????? Join us for the HRC Foundation’s Welcoming Schools National Day of Reading! \nSponsored by Fairfax County Public Library and FCPS Pride\, this special event features guest reader Fairfax Mayor Catherine Read. Families will enjoy make-and-take crafts and inclusive storytime with Marley’s Pride and Chloe and the Fireflies—celebrating empathy\, representation\, and belonging for kids ages 3–8. ????✨
URL:https://celebratefairfax.org/event/hrc-foundations-welcoming-schools-national-day-of-reading/
LOCATION:Fairfax Regional Library\, 10360 North St\, Fairfax\, VA\, 22030\, United States
CATEGORIES:City of Fairfax
ATTACH;FMTTYPE=image/png:https://celebratefairfax.org/wp-content/uploads/2026/01/national-day-of-reading-event-at-fairfax-county-public-library.avif
ORGANIZER;CN="FCPS Pride":MAILTO:fcpspride@gmail.com
END:VEVENT
BEGIN:VEVENT
DTSTART;TZID=UTC:20260222T150000
DTEND;TZID=UTC:20260222T170000
DTSTAMP:20260424T200755
CREATED:20260126T134119Z
LAST-MODIFIED:20260126T134119Z
UID:10009254-1771772400-1771779600@celebratefairfax.org
SUMMARY:CFTC Presents Once On This Island
DESCRIPTION:Once on This Island is a powerful\, Caribbean-inspired musical about the unbreakable human spirit and the transformative power of love. Told through dynamic storytelling\, vibrant music\, and electrifying dance. This is a tale of love and legacy. Of risk and resilience. Of the ways we remember — and are remembered.
URL:https://celebratefairfax.org/event/cftc-presents-once-on-this-island/2026-02-22/
LOCATION:Katherine Johnson Middle School\, 3801 Jermantown Rd\, Fairfax\, VA\, 22030\, United States
CATEGORIES:City of Fairfax
ATTACH;FMTTYPE=image/avif:https://celebratefairfax.org/wp-content/uploads/2026/01/once-on-this-island.avif
ORGANIZER;CN="City of Fairfax Theatre Company":MAILTO:info@fairfaxcitytheatre.org
END:VEVENT
BEGIN:VEVENT
DTSTART;TZID=UTC:20251115T100000
DTEND;TZID=UTC:20251115T140000
DTSTAMP:20260424T200755
CREATED:20251113T190139Z
LAST-MODIFIED:20251113T190139Z
UID:10009224-1763200800-1763215200@celebratefairfax.org
SUMMARY:Mount Vernon Rec Center "Welcome Back" Celebration
DESCRIPTION:FREE Grand Reopening Event on Saturday\, November 15 from 10 a.m. – 2 p.m. \nMount Vernon Rec Center is officially back and better than ever! Join us to celebrate the new\, fully reopened facility at this grand reopening event. Explore and enjoy this brand-new facility for FREE! \nSave the date for this exciting event and check back to this website for a full outline of the festivities! \n\nTest Out the Cool New Amenities\nSample Classes and Demos\nGames\, Giveaways\, and Good Vibes!\nFamily-Friendly Fun (Everyone’s invited!)\nHoliday Food Drive*
URL:https://celebratefairfax.org/event/mount-vernon-rec-center-welcome-back-celebration/
LOCATION:Mount Vernon RECenter\, 2017 Belle View Blvd\, Alexandria\, VA\, 22307\, United States
CATEGORIES:City of Fairfax
ATTACH;FMTTYPE=image/avif:https://celebratefairfax.org/wp-content/uploads/2025/11/fairfax-county-seal.avif
END:VEVENT
BEGIN:VEVENT
DTSTART;TZID=UTC:20251108T084500
DTEND;TZID=UTC:20251108T120000
DTSTAMP:20260424T200755
CREATED:20250930T122407Z
LAST-MODIFIED:20250930T122407Z
UID:10008783-1762591500-1762603200@celebratefairfax.org
SUMMARY:Annual TPK Fall Fest & Fun Run
DESCRIPTION:Truro Preschool & Kindergarten’s annual Fall Fest & Fun Run is one of Fairfax’s favorite family traditions! \nKick off the morning with our 1-Mile Fun Run\, a community jog down the street and back\, escorted by local police for safety. Runners\, walkers\, strollers\, and cheer squads are all welcome—it’s a fun\, family-friendly way to start the day. \nAfter the run\, the celebration continues on campus with our Fall Fest. Families can enjoy: \n\n\nMoon bounce and carnival games \n\n\nFace painting and kid-friendly activities \n\n\nA raffle with exciting prizes and gift bundles \n\n\nIt’s the perfect mix of fitness\, fun\, and fellowship—whether you come to run\, cheer\, or just play. Don’t miss this festive fall tradition in the heart of Fairfax County! \n???? Location: Truro Preschool & Kindergarten\, Fairfax\, VA???? Date: Saturday\, November 8\, 2025???? Admission: Free to attend; registration required to participate in the Fun Run (youth = $20/person; adults = $25/person); tickets available to purchase on-site for raffle \nRegister here: https://app.aplos.com/aws/events/2025_fall_fest_and_fun_run_registration?_gl=1%2Axblqnk%2A_gcl_aw%2AR0NMLjE3NTc2MDE4MjQuQ2owS0NRanc1b25HQmhEZUFSSXNBRks2UUpaR3JGWFZNOUc5RF9DVk1FSW5faXhRYlhlV3MzZklaYWFUYktSQW9vRXdod2N0WExjWDFlUWFBdlVWRUFMd193Y0I.%2A_gcl_au%2AMTAxNzc1MzYzNy4xNzU1MDkxNjczLjE3NDI5MTkxNTkuMTc1NzYwMTcwNC4xNzU3NjAyMTIx%2A_ga%2AMTY0NDQwOTM5NS4xNjk2MjY4NDI2%2A_ga_8610K921MT%2AczE3NTc1OTU0MDQkbzEzOCRnMSR0MTc1NzYwMzc3MiRqNTckbDEkaDEyNDY0MTIwODE
URL:https://celebratefairfax.org/event/annual-tpk-fall-fest-fun-run/
LOCATION:Truro Preschool and Kindergarten\, 10520 Main Street\, Fairfax\, VA\, 22030
CATEGORIES:City of Fairfax
ATTACH;FMTTYPE=image/avif:https://celebratefairfax.org/wp-content/uploads/2025/09/children-participating-in-a-fun-run-event.avif
END:VEVENT
BEGIN:VEVENT
DTSTART;TZID=UTC:20251018T100000
DTEND;TZID=UTC:20251018T160000
DTSTAMP:20260424T200755
CREATED:20250929T162223Z
LAST-MODIFIED:20250929T162223Z
UID:10008781-1760781600-1760803200@celebratefairfax.org
SUMMARY:Nova Labs Open House
DESCRIPTION:The Nova Labs makerspace and maker community is where ideas turn into reality. This is your chance to explore our workshops\, meet our makers\, and see how we’re shaping the future of creativity\, learning\, and innovation in Northern Virginia. \n  \nWe’re opening our doors for three big reasons: \n  \n\nFueling the Future – Nova Labs is in the middle of a Capital Campaign to expand programs for youth\, workforce development\, and curious creators of all ages. New members and supporters help us unlock more opportunities for hands-on learning and innovation.\nExperience the Space – Considering membership? This is the perfect time to tour our workshops\, see the amazing tools and technology available\, and learn about the classes and programs that bring creative ideas to life.\nGet to Know Us – Whether you’re a maker\, parent\, student\, entrepreneur\, or simply curious\, the Open House is a fun way to explore how Nova Labs empowers the community. Bring your family\, meet our members\, and experience the excitement of making.
URL:https://celebratefairfax.org/event/nova-labs-open-house/
LOCATION:Nova Labs\, 3850 Jermantown Rd\, Fairfax\, VA\, 22030\, United States
CATEGORIES:City of Fairfax
ATTACH;FMTTYPE=image/avif:https://celebratefairfax.org/wp-content/uploads/2025/09/nova-labs-open-house.avif
ORGANIZER;CN="Nova Labs":MAILTO:amanda.jarvis@nova-labs.org
END:VEVENT
BEGIN:VEVENT
DTSTART;TZID=UTC:20251004T100000
DTEND;TZID=UTC:20251004T140000
DTSTAMP:20260424T200755
CREATED:20250911T191613Z
LAST-MODIFIED:20250911T191613Z
UID:10008772-1759572000-1759586400@celebratefairfax.org
SUMMARY:Public Safety Day
DESCRIPTION:Join the McConnell Public Safety and Transportation Operations Center for a fun and informative day all about keeping our community safe at PUBLIC SAFETY DAY 2025! \nCelebrate Fairfax is a proud participant in this event. 
URL:https://celebratefairfax.org/event/public-safety-day/
LOCATION:McConnell Public Safety and Transportation Operations Center\, 4890 Alliance Drive\, Fairfax\, VA\, 22030\, United States
CATEGORIES:City of Fairfax
ATTACH;FMTTYPE=image/png:https://celebratefairfax.org/wp-content/uploads/2025/09/mpstoc-public-safety-day.avif
END:VEVENT
BEGIN:VEVENT
DTSTART;TZID=UTC:20250921T130000
DTEND;TZID=UTC:20250921T160000
DTSTAMP:20260424T200755
CREATED:20250911T184501Z
LAST-MODIFIED:20250911T184501Z
UID:10008764-1758459600-1758470400@celebratefairfax.org
SUMMARY:VA250 Commemoration
DESCRIPTION:On Sunday\, September 21\, from 1:00 pm to 4:00 pm\, there will be a joint event held at the Historic Fairfax Courthouse with the Fairfax Resolves Chapter\, Virginia Society Sons of the American Revolution (VASSAR)\, and the Fairfax County 250 Commission. \nAt 1:00 pm inside the Historic Courthouse\, The Fairfax Resolves VASSAR will conduct a Commemoration of the 251st Anniversary of the Establishment of the Fairfax Independent Company of Volunteers. \nAt 2:00 pm\, a ceremony honoring the 47 Fairfax County Patriots who served and died advancing the cause of American Independence will take place at the Veterans Monument on the lawn of the Historic Courthouse. \nThere will be a booklet available for attendees that provides a brief biography about each Patriot on the Memorial. After the ceremony\, documents from the Circuit Court Historic Records Center will be on display in the Historic Courthouse. \nThe Historic Fairfax Courthouse is located at 4110 Chain Bridge Road\, Fairfax\, at the intersection of Routes 123 and 236 (Main Street). Parking is available in the lot behind the Historic Courthouse.
URL:https://celebratefairfax.org/event/va250-commemoration/
LOCATION:Historic Fairfax Courthouse\, 4110 Chain Bridge Rd\, Fairfax\, VA\, 22030\, United States
CATEGORIES:City of Fairfax
ATTACH;FMTTYPE=image/png:https://celebratefairfax.org/wp-content/uploads/2025/09/man-playing-trumpet-in-military-band.avif
END:VEVENT
BEGIN:VEVENT
DTSTART;TZID=UTC:20250820T110000
DTEND;TZID=UTC:20250820T160000
DTSTAMP:20260424T200755
CREATED:20250819T151705Z
LAST-MODIFIED:20250819T151705Z
UID:10008442-1755687600-1755705600@celebratefairfax.org
SUMMARY:Mosquitoes Don't Deserve a Drop - Orkin and Red Cross Blood Drive
DESCRIPTION:People need blood\, not mosquitoes. Since 2020\, Orkin has supported the American Red Cross through its “Mosquitoes Don’t Deserve a Drop” campaign. \nMosquitoes are one of the world’s deadliest creatures\, and the need for blood donations in the U.S. is critical. Orkin’s partnership with the Red Cross is rooted in a shared mission to protect public health and save lives. Together\, they’re helping ensure every drop of blood goes where it matters most — to patients in need\, not pests. \nJoin  by donating blood! \nAttendees will receive a free\, limited-edition Mosquitoes Don’t Deserve a Drop t-shirt. \nSign up to donate at https://www.redcrossblood.org/give.html/drive-results?order=DATE&range=10&zipSponsor=OrkinFairfaxVA
URL:https://celebratefairfax.org/event/mosquitoes-dont-deserve-a-drop-orkin-and-red-cross-blood-drive/
LOCATION:Red Cross Fairfax Blood Donation Center\, 8550 Arlington Blvd.\, Fairfax\, VA\, 22031\, United States
CATEGORIES:City of Fairfax
ATTACH;FMTTYPE=image/png:https://celebratefairfax.org/wp-content/uploads/2025/08/mosquitoes-dont-deserve-a-drop.avif
ORGANIZER;CN="Orkin Pest Control":MAILTO:vleeboulton@jacksonspalding.com
END:VEVENT
BEGIN:VEVENT
DTSTART;TZID=UTC:20250625T180000
DTEND;TZID=UTC:20250625T200000
DTSTAMP:20260424T200755
CREATED:20250807T162307Z
LAST-MODIFIED:20250807T162307Z
UID:10002067-1750874400-1750881600@celebratefairfax.org
SUMMARY:Fairfax Regional Artist Survey Community Engagement Event
DESCRIPTION:Are you an artist\, arts administrator\, or an arts enthusiast? Join ArtsFairfax as we uncover survey results from our Fairfax Regional Artist Survey\, designed for individual artists of all disciplines to identify the needs and obstacles they face in living and working in Fairfax County\, the City of Fairfax\, and the City of Falls Church. \nArtsFairfax and research partners AMS Analytics will present what we learned about individual artists\, including their artistic practices\, priorities\, challenges\, and what they need to thrive. \nGather in the Community Room of Reston Community Center for a briefing of the results followed by an opportunity to ask questions. Prepare to engage with your neighbors for a community discussion and let your voice be heard by ArtsFairfax\, your local arts agency. \nRegistration is encouraged; participants can check in upon arrival. Doors open around 5:45 pm\, and the event ends at 8.
URL:https://celebratefairfax.org/event/fairfax-regional-artist-survey-community-engagement-event/
LOCATION:Reston Community Center\, 2310 Colts Neck Road\, Reston\, VA\, 20191\, United States
CATEGORIES:Braddock District,City of Fairfax,Dranesville District,Franconia District,Hunter Mill District,Mason District,Mount Vernon District,Providence District,Sully District,Town of Vienna
ATTACH;FMTTYPE=image/png:https://celebratefairfax.org/wp-content/uploads/2025/06/Artist-Survey-Event-Image-1.avif
ORGANIZER;CN="ArtsFairfax":MAILTO:info@artsfairfax.org
END:VEVENT
END:VCALENDAR