BEGIN:VCALENDAR
VERSION:2.0
PRODID:-//Celebrate Fairfax - ECPv6.15.20//NONSGML v1.0//EN
CALSCALE:GREGORIAN
METHOD:PUBLISH
X-ORIGINAL-URL:https://celebratefairfax.org
X-WR-CALDESC:Events for Celebrate Fairfax
REFRESH-INTERVAL;VALUE=DURATION:PT1H
X-Robots-Tag:noindex
X-PUBLISHED-TTL:PT1H
BEGIN:VTIMEZONE
TZID:UTC
BEGIN:STANDARD
TZOFFSETFROM:+0000
TZOFFSETTO:+0000
TZNAME:UTC
DTSTART:20240101T000000
END:STANDARD
END:VTIMEZONE
BEGIN:VEVENT
DTSTART;TZID=UTC:20250801T100000
DTEND;TZID=UTC:20250801T170000
DTSTAMP:20260424T090118
CREATED:20250702T152940Z
LAST-MODIFIED:20250708T134000Z
UID:10008404-1754042400-1754067600@celebratefairfax.org
SUMMARY:NCOA Photography Award Contest Exhibition
DESCRIPTION:In celebration of its 75 years of service to older adults\, the National Council on Aging (NCOA) is hosting a photography contest to redefine aging as a period of vitality\, purpose\, and connections. NCOA’s goal is to break down stereotypes of aging in America by showing older adults who are engaged in life—interacting with others across generations\, volunteering and working in their communities\, and being physically and mentally active. NCOA invites photographers to submit images\, and the personal stories of the subjects depicted in the photos as they reflect on what aging well means to them. This powerful exhibition features the nationally awarded 2025 NCOA photographers alongside creative expressions from talented local DMV artists. \nTuesday\, Wednesday\, Friday: 10 am – 5 pm\nThursday: 11 am – 7 pm
URL:https://celebratefairfax.org/event/ncoa-photography-award-contest-exhibition/2025-08-01/
LOCATION:The PARC\, 8508 Leesburg Pike\, Tysons\, VA\, 22182\, United States
CATEGORIES:CF Hosted,NCOA Art Exhibition,The PARC
ATTACH;FMTTYPE=image/png:https://celebratefairfax.org/wp-content/uploads/2025/07/elderly-woman-driving-vintage-red-truck.avif
END:VEVENT
BEGIN:VEVENT
DTSTART;TZID=UTC:20250805T100000
DTEND;TZID=UTC:20250805T170000
DTSTAMP:20260424T090118
CREATED:20250702T152940Z
LAST-MODIFIED:20250708T134000Z
UID:10008405-1754388000-1754413200@celebratefairfax.org
SUMMARY:NCOA Photography Award Contest Exhibition
DESCRIPTION:In celebration of its 75 years of service to older adults\, the National Council on Aging (NCOA) is hosting a photography contest to redefine aging as a period of vitality\, purpose\, and connections. NCOA’s goal is to break down stereotypes of aging in America by showing older adults who are engaged in life—interacting with others across generations\, volunteering and working in their communities\, and being physically and mentally active. NCOA invites photographers to submit images\, and the personal stories of the subjects depicted in the photos as they reflect on what aging well means to them. This powerful exhibition features the nationally awarded 2025 NCOA photographers alongside creative expressions from talented local DMV artists. \nTuesday\, Wednesday\, Friday: 10 am – 5 pm\nThursday: 11 am – 7 pm
URL:https://celebratefairfax.org/event/ncoa-photography-award-contest-exhibition/2025-08-05/
LOCATION:The PARC\, 8508 Leesburg Pike\, Tysons\, VA\, 22182\, United States
CATEGORIES:CF Hosted,NCOA Art Exhibition,The PARC
ATTACH;FMTTYPE=image/png:https://celebratefairfax.org/wp-content/uploads/2025/07/elderly-woman-driving-vintage-red-truck.avif
END:VEVENT
BEGIN:VEVENT
DTSTART;TZID=UTC:20250806T100000
DTEND;TZID=UTC:20250806T170000
DTSTAMP:20260424T090118
CREATED:20250702T152940Z
LAST-MODIFIED:20250708T134000Z
UID:10008406-1754474400-1754499600@celebratefairfax.org
SUMMARY:NCOA Photography Award Contest Exhibition
DESCRIPTION:In celebration of its 75 years of service to older adults\, the National Council on Aging (NCOA) is hosting a photography contest to redefine aging as a period of vitality\, purpose\, and connections. NCOA’s goal is to break down stereotypes of aging in America by showing older adults who are engaged in life—interacting with others across generations\, volunteering and working in their communities\, and being physically and mentally active. NCOA invites photographers to submit images\, and the personal stories of the subjects depicted in the photos as they reflect on what aging well means to them. This powerful exhibition features the nationally awarded 2025 NCOA photographers alongside creative expressions from talented local DMV artists. \nTuesday\, Wednesday\, Friday: 10 am – 5 pm\nThursday: 11 am – 7 pm
URL:https://celebratefairfax.org/event/ncoa-photography-award-contest-exhibition/2025-08-06/
LOCATION:The PARC\, 8508 Leesburg Pike\, Tysons\, VA\, 22182\, United States
CATEGORIES:CF Hosted,NCOA Art Exhibition,The PARC
ATTACH;FMTTYPE=image/png:https://celebratefairfax.org/wp-content/uploads/2025/07/elderly-woman-driving-vintage-red-truck.avif
END:VEVENT
BEGIN:VEVENT
DTSTART;TZID=UTC:20250807T110000
DTEND;TZID=UTC:20250807T190000
DTSTAMP:20260424T090118
CREATED:20250708T134306Z
LAST-MODIFIED:20250717T152602Z
UID:10008429-1754564400-1754593200@celebratefairfax.org
SUMMARY:NCOA Photography Award Contest Exhibition
DESCRIPTION:In celebration of its 75 years of service to older adults\, the National Council on Aging (NCOA) is hosting a photography contest to redefine aging as a period of vitality\, purpose\, and connections. NCOA’s goal is to break down stereotypes of aging in America by showing older adults who are engaged in life—interacting with others across generations\, volunteering and working in their communities\, and being physically and mentally active. NCOA invites photographers to submit images\, and the personal stories of the subjects depicted in the photos as they reflect on what aging well means to them. This powerful exhibition features the nationally awarded 2025 NCOA photographers alongside creative expressions from talented local DMV artists. \nTuesday\, Wednesday\, Friday: 10 am – 5 pm\nThursday: 11 am – 7 pm
URL:https://celebratefairfax.org/event/ncoa-photography-award-contest-exhibition-3/2025-08-07/
LOCATION:The PARC\, 8508 Leesburg Pike\, Tysons\, VA\, 22182\, United States
CATEGORIES:CF Hosted,NCOA Art Exhibition,The PARC
ATTACH;FMTTYPE=image/png:https://celebratefairfax.org/wp-content/uploads/2025/07/elderly-woman-driving-vintage-red-truck.avif
END:VEVENT
BEGIN:VEVENT
DTSTART;TZID=UTC:20250808T100000
DTEND;TZID=UTC:20250808T170000
DTSTAMP:20260424T090118
CREATED:20250702T152940Z
LAST-MODIFIED:20250708T134000Z
UID:10008407-1754647200-1754672400@celebratefairfax.org
SUMMARY:NCOA Photography Award Contest Exhibition
DESCRIPTION:In celebration of its 75 years of service to older adults\, the National Council on Aging (NCOA) is hosting a photography contest to redefine aging as a period of vitality\, purpose\, and connections. NCOA’s goal is to break down stereotypes of aging in America by showing older adults who are engaged in life—interacting with others across generations\, volunteering and working in their communities\, and being physically and mentally active. NCOA invites photographers to submit images\, and the personal stories of the subjects depicted in the photos as they reflect on what aging well means to them. This powerful exhibition features the nationally awarded 2025 NCOA photographers alongside creative expressions from talented local DMV artists. \nTuesday\, Wednesday\, Friday: 10 am – 5 pm\nThursday: 11 am – 7 pm
URL:https://celebratefairfax.org/event/ncoa-photography-award-contest-exhibition/2025-08-08/
LOCATION:The PARC\, 8508 Leesburg Pike\, Tysons\, VA\, 22182\, United States
CATEGORIES:CF Hosted,NCOA Art Exhibition,The PARC
ATTACH;FMTTYPE=image/png:https://celebratefairfax.org/wp-content/uploads/2025/07/elderly-woman-driving-vintage-red-truck.avif
END:VEVENT
BEGIN:VEVENT
DTSTART;TZID=UTC:20250812T100000
DTEND;TZID=UTC:20250812T170000
DTSTAMP:20260424T090118
CREATED:20250702T152940Z
LAST-MODIFIED:20250708T134000Z
UID:10008408-1754992800-1755018000@celebratefairfax.org
SUMMARY:NCOA Photography Award Contest Exhibition
DESCRIPTION:In celebration of its 75 years of service to older adults\, the National Council on Aging (NCOA) is hosting a photography contest to redefine aging as a period of vitality\, purpose\, and connections. NCOA’s goal is to break down stereotypes of aging in America by showing older adults who are engaged in life—interacting with others across generations\, volunteering and working in their communities\, and being physically and mentally active. NCOA invites photographers to submit images\, and the personal stories of the subjects depicted in the photos as they reflect on what aging well means to them. This powerful exhibition features the nationally awarded 2025 NCOA photographers alongside creative expressions from talented local DMV artists. \nTuesday\, Wednesday\, Friday: 10 am – 5 pm\nThursday: 11 am – 7 pm
URL:https://celebratefairfax.org/event/ncoa-photography-award-contest-exhibition/2025-08-12/
LOCATION:The PARC\, 8508 Leesburg Pike\, Tysons\, VA\, 22182\, United States
CATEGORIES:CF Hosted,NCOA Art Exhibition,The PARC
ATTACH;FMTTYPE=image/png:https://celebratefairfax.org/wp-content/uploads/2025/07/elderly-woman-driving-vintage-red-truck.avif
END:VEVENT
BEGIN:VEVENT
DTSTART;TZID=UTC:20250813T100000
DTEND;TZID=UTC:20250813T170000
DTSTAMP:20260424T090118
CREATED:20250702T152940Z
LAST-MODIFIED:20250708T134000Z
UID:10008409-1755079200-1755104400@celebratefairfax.org
SUMMARY:NCOA Photography Award Contest Exhibition
DESCRIPTION:In celebration of its 75 years of service to older adults\, the National Council on Aging (NCOA) is hosting a photography contest to redefine aging as a period of vitality\, purpose\, and connections. NCOA’s goal is to break down stereotypes of aging in America by showing older adults who are engaged in life—interacting with others across generations\, volunteering and working in their communities\, and being physically and mentally active. NCOA invites photographers to submit images\, and the personal stories of the subjects depicted in the photos as they reflect on what aging well means to them. This powerful exhibition features the nationally awarded 2025 NCOA photographers alongside creative expressions from talented local DMV artists. \nTuesday\, Wednesday\, Friday: 10 am – 5 pm\nThursday: 11 am – 7 pm
URL:https://celebratefairfax.org/event/ncoa-photography-award-contest-exhibition/2025-08-13/
LOCATION:The PARC\, 8508 Leesburg Pike\, Tysons\, VA\, 22182\, United States
CATEGORIES:CF Hosted,NCOA Art Exhibition,The PARC
ATTACH;FMTTYPE=image/png:https://celebratefairfax.org/wp-content/uploads/2025/07/elderly-woman-driving-vintage-red-truck.avif
END:VEVENT
BEGIN:VEVENT
DTSTART;TZID=UTC:20250814T110000
DTEND;TZID=UTC:20250814T190000
DTSTAMP:20260424T090118
CREATED:20250708T134306Z
LAST-MODIFIED:20250717T152602Z
UID:10008430-1755169200-1755198000@celebratefairfax.org
SUMMARY:NCOA Photography Award Contest Exhibition
DESCRIPTION:In celebration of its 75 years of service to older adults\, the National Council on Aging (NCOA) is hosting a photography contest to redefine aging as a period of vitality\, purpose\, and connections. NCOA’s goal is to break down stereotypes of aging in America by showing older adults who are engaged in life—interacting with others across generations\, volunteering and working in their communities\, and being physically and mentally active. NCOA invites photographers to submit images\, and the personal stories of the subjects depicted in the photos as they reflect on what aging well means to them. This powerful exhibition features the nationally awarded 2025 NCOA photographers alongside creative expressions from talented local DMV artists. \nTuesday\, Wednesday\, Friday: 10 am – 5 pm\nThursday: 11 am – 7 pm
URL:https://celebratefairfax.org/event/ncoa-photography-award-contest-exhibition-3/2025-08-14/
LOCATION:The PARC\, 8508 Leesburg Pike\, Tysons\, VA\, 22182\, United States
CATEGORIES:CF Hosted,NCOA Art Exhibition,The PARC
ATTACH;FMTTYPE=image/png:https://celebratefairfax.org/wp-content/uploads/2025/07/elderly-woman-driving-vintage-red-truck.avif
END:VEVENT
BEGIN:VEVENT
DTSTART;TZID=UTC:20250815T100000
DTEND;TZID=UTC:20250815T170000
DTSTAMP:20260424T090118
CREATED:20250702T152940Z
LAST-MODIFIED:20250708T134000Z
UID:10008410-1755252000-1755277200@celebratefairfax.org
SUMMARY:NCOA Photography Award Contest Exhibition
DESCRIPTION:In celebration of its 75 years of service to older adults\, the National Council on Aging (NCOA) is hosting a photography contest to redefine aging as a period of vitality\, purpose\, and connections. NCOA’s goal is to break down stereotypes of aging in America by showing older adults who are engaged in life—interacting with others across generations\, volunteering and working in their communities\, and being physically and mentally active. NCOA invites photographers to submit images\, and the personal stories of the subjects depicted in the photos as they reflect on what aging well means to them. This powerful exhibition features the nationally awarded 2025 NCOA photographers alongside creative expressions from talented local DMV artists. \nTuesday\, Wednesday\, Friday: 10 am – 5 pm\nThursday: 11 am – 7 pm
URL:https://celebratefairfax.org/event/ncoa-photography-award-contest-exhibition/2025-08-15/
LOCATION:The PARC\, 8508 Leesburg Pike\, Tysons\, VA\, 22182\, United States
CATEGORIES:CF Hosted,NCOA Art Exhibition,The PARC
ATTACH;FMTTYPE=image/png:https://celebratefairfax.org/wp-content/uploads/2025/07/elderly-woman-driving-vintage-red-truck.avif
END:VEVENT
BEGIN:VEVENT
DTSTART;TZID=UTC:20250816T120000
DTEND;TZID=UTC:20250816T180000
DTSTAMP:20260424T090118
CREATED:20250707T160406Z
LAST-MODIFIED:20250707T162212Z
UID:10008387-1755345600-1755367200@celebratefairfax.org
SUMMARY:NCOA Photography Award Contest Exhibition Closing Reception
DESCRIPTION:Join Celebrate Fairfax and mosaicARTs on August 16\, from 12–6 PM\, for the Closing Reception of the NCOA Photography Award Contest Exhibition: This is 75 – Aging Well for All at The PARC at Tysons. This powerful exhibition features the nationally awarded 2025 NCOA photographers alongside creative expressions from talented local DMV artists.
URL:https://celebratefairfax.org/event/ncoa-photography-award-contest-exhibition-closing-reception/
LOCATION:The PARC\, 8508 Leesburg Pike\, Tysons\, VA\, 22182\, United States
CATEGORIES:CF Hosted,NCOA Art Exhibition,The PARC
ATTACH;FMTTYPE=image/png:https://celebratefairfax.org/wp-content/uploads/2025/07/elderly-woman-driving-vintage-red-truck.avif
END:VEVENT
END:VCALENDAR