BEGIN:VCALENDAR
VERSION:2.0
PRODID:-//Celebrate Fairfax - ECPv6.15.20//NONSGML v1.0//EN
CALSCALE:GREGORIAN
METHOD:PUBLISH
X-ORIGINAL-URL:https://celebratefairfax.org
X-WR-CALDESC:Events for Celebrate Fairfax
REFRESH-INTERVAL;VALUE=DURATION:PT1H
X-Robots-Tag:noindex
X-PUBLISHED-TTL:PT1H
BEGIN:VTIMEZONE
TZID:UTC
BEGIN:STANDARD
TZOFFSETFROM:+0000
TZOFFSETTO:+0000
TZNAME:UTC
DTSTART:20240101T000000
END:STANDARD
END:VTIMEZONE
BEGIN:VEVENT
DTSTART;TZID=UTC:20250401T130000
DTEND;TZID=UTC:20250401T210000
DTSTAMP:20260424T090133
CREATED:20250303T120341Z
LAST-MODIFIED:20250303T120341Z
UID:10000071-1743512400-1743541200@celebratefairfax.org
SUMMARY:PARC in Bloom
DESCRIPTION:Join us at The PARC at Tysons for a delightful cherry blossom-themed outdoor lounge where you can enjoy your lunch and bask in the sunshine. With complimentary wifi available\, you can even catch up on some work while embracing the beauty of spring. Don’t miss out – check out the map featuring all participating businesses for more details here.
URL:https://celebratefairfax.org/event/parc-in-bloom-2/2025-04-01/
LOCATION:VA\, United States
CATEGORIES:CF Hosted,The PARC
ATTACH;FMTTYPE=image/avif:https://celebratefairfax.org/wp-content/uploads/2025/03/outdoor-seating-area-with-white-adirondack-chairs.avif
END:VEVENT
BEGIN:VEVENT
DTSTART;TZID=UTC:20250401T130000
DTEND;TZID=UTC:20250401T210000
DTSTAMP:20260424T090133
CREATED:20250303T120341Z
LAST-MODIFIED:20250303T120341Z
UID:10001072-1743512400-1743541200@celebratefairfax.org
SUMMARY:PARC in Bloom
DESCRIPTION:Join us at The PARC at Tysons for a delightful cherry blossom-themed outdoor lounge where you can enjoy your lunch and bask in the sunshine. With complimentary wifi available\, you can even catch up on some work while embracing the beauty of spring. Don’t miss out – check out the map featuring all participating businesses for more details here.
URL:https://celebratefairfax.org/event/parc-in-bloom-2-2/2025-04-01/
LOCATION:VA\, United States
CATEGORIES:CF Hosted,The PARC
ATTACH;FMTTYPE=image/avif:https://celebratefairfax.org/wp-content/uploads/2025/03/outdoor-seating-area-with-white-adirondack-chairs.avif
END:VEVENT
BEGIN:VEVENT
DTSTART;TZID=UTC:20250402T130000
DTEND;TZID=UTC:20250402T210000
DTSTAMP:20260424T090133
CREATED:20250303T120341Z
LAST-MODIFIED:20250303T120341Z
UID:10001073-1743598800-1743627600@celebratefairfax.org
SUMMARY:PARC in Bloom
DESCRIPTION:Join us at The PARC at Tysons for a delightful cherry blossom-themed outdoor lounge where you can enjoy your lunch and bask in the sunshine. With complimentary wifi available\, you can even catch up on some work while embracing the beauty of spring. Don’t miss out – check out the map featuring all participating businesses for more details here.
URL:https://celebratefairfax.org/event/parc-in-bloom-2-2/2025-04-02/
LOCATION:VA\, United States
CATEGORIES:CF Hosted,The PARC
ATTACH;FMTTYPE=image/avif:https://celebratefairfax.org/wp-content/uploads/2025/03/outdoor-seating-area-with-white-adirondack-chairs.avif
END:VEVENT
BEGIN:VEVENT
DTSTART;TZID=UTC:20250403T130000
DTEND;TZID=UTC:20250403T210000
DTSTAMP:20260424T090133
CREATED:20250303T120341Z
LAST-MODIFIED:20250303T120341Z
UID:10001074-1743685200-1743714000@celebratefairfax.org
SUMMARY:PARC in Bloom
DESCRIPTION:Join us at The PARC at Tysons for a delightful cherry blossom-themed outdoor lounge where you can enjoy your lunch and bask in the sunshine. With complimentary wifi available\, you can even catch up on some work while embracing the beauty of spring. Don’t miss out – check out the map featuring all participating businesses for more details here.
URL:https://celebratefairfax.org/event/parc-in-bloom-2-2/2025-04-03/
LOCATION:VA\, United States
CATEGORIES:CF Hosted,The PARC
ATTACH;FMTTYPE=image/avif:https://celebratefairfax.org/wp-content/uploads/2025/03/outdoor-seating-area-with-white-adirondack-chairs.avif
END:VEVENT
BEGIN:VEVENT
DTSTART;TZID=UTC:20250404T130000
DTEND;TZID=UTC:20250404T210000
DTSTAMP:20260424T090133
CREATED:20250303T120341Z
LAST-MODIFIED:20250303T120341Z
UID:10001075-1743771600-1743800400@celebratefairfax.org
SUMMARY:PARC in Bloom
DESCRIPTION:Join us at The PARC at Tysons for a delightful cherry blossom-themed outdoor lounge where you can enjoy your lunch and bask in the sunshine. With complimentary wifi available\, you can even catch up on some work while embracing the beauty of spring. Don’t miss out – check out the map featuring all participating businesses for more details here.
URL:https://celebratefairfax.org/event/parc-in-bloom-2-2/2025-04-04/
LOCATION:VA\, United States
CATEGORIES:CF Hosted,The PARC
ATTACH;FMTTYPE=image/avif:https://celebratefairfax.org/wp-content/uploads/2025/03/outdoor-seating-area-with-white-adirondack-chairs.avif
END:VEVENT
BEGIN:VEVENT
DTSTART;TZID=UTC:20250407T130000
DTEND;TZID=UTC:20250407T210000
DTSTAMP:20260424T090133
CREATED:20250303T120341Z
LAST-MODIFIED:20250303T120341Z
UID:10001076-1744030800-1744059600@celebratefairfax.org
SUMMARY:PARC in Bloom
DESCRIPTION:Join us at The PARC at Tysons for a delightful cherry blossom-themed outdoor lounge where you can enjoy your lunch and bask in the sunshine. With complimentary wifi available\, you can even catch up on some work while embracing the beauty of spring. Don’t miss out – check out the map featuring all participating businesses for more details here.
URL:https://celebratefairfax.org/event/parc-in-bloom-2-2/2025-04-07/
LOCATION:VA\, United States
CATEGORIES:CF Hosted,The PARC
ATTACH;FMTTYPE=image/avif:https://celebratefairfax.org/wp-content/uploads/2025/03/outdoor-seating-area-with-white-adirondack-chairs.avif
END:VEVENT
BEGIN:VEVENT
DTSTART;TZID=UTC:20250408T130000
DTEND;TZID=UTC:20250408T210000
DTSTAMP:20260424T090133
CREATED:20250303T120341Z
LAST-MODIFIED:20250303T120341Z
UID:10001077-1744117200-1744146000@celebratefairfax.org
SUMMARY:PARC in Bloom
DESCRIPTION:Join us at The PARC at Tysons for a delightful cherry blossom-themed outdoor lounge where you can enjoy your lunch and bask in the sunshine. With complimentary wifi available\, you can even catch up on some work while embracing the beauty of spring. Don’t miss out – check out the map featuring all participating businesses for more details here.
URL:https://celebratefairfax.org/event/parc-in-bloom-2-2/2025-04-08/
LOCATION:VA\, United States
CATEGORIES:CF Hosted,The PARC
ATTACH;FMTTYPE=image/avif:https://celebratefairfax.org/wp-content/uploads/2025/03/outdoor-seating-area-with-white-adirondack-chairs.avif
END:VEVENT
BEGIN:VEVENT
DTSTART;TZID=UTC:20250409T130000
DTEND;TZID=UTC:20250409T210000
DTSTAMP:20260424T090133
CREATED:20250303T120341Z
LAST-MODIFIED:20250303T120341Z
UID:10001078-1744203600-1744232400@celebratefairfax.org
SUMMARY:PARC in Bloom
DESCRIPTION:Join us at The PARC at Tysons for a delightful cherry blossom-themed outdoor lounge where you can enjoy your lunch and bask in the sunshine. With complimentary wifi available\, you can even catch up on some work while embracing the beauty of spring. Don’t miss out – check out the map featuring all participating businesses for more details here.
URL:https://celebratefairfax.org/event/parc-in-bloom-2-2/2025-04-09/
LOCATION:VA\, United States
CATEGORIES:CF Hosted,The PARC
ATTACH;FMTTYPE=image/avif:https://celebratefairfax.org/wp-content/uploads/2025/03/outdoor-seating-area-with-white-adirondack-chairs.avif
END:VEVENT
BEGIN:VEVENT
DTSTART;TZID=UTC:20250410T130000
DTEND;TZID=UTC:20250410T210000
DTSTAMP:20260424T090133
CREATED:20250303T120341Z
LAST-MODIFIED:20250303T120341Z
UID:10001079-1744290000-1744318800@celebratefairfax.org
SUMMARY:PARC in Bloom
DESCRIPTION:Join us at The PARC at Tysons for a delightful cherry blossom-themed outdoor lounge where you can enjoy your lunch and bask in the sunshine. With complimentary wifi available\, you can even catch up on some work while embracing the beauty of spring. Don’t miss out – check out the map featuring all participating businesses for more details here.
URL:https://celebratefairfax.org/event/parc-in-bloom-2-2/2025-04-10/
LOCATION:VA\, United States
CATEGORIES:CF Hosted,The PARC
ATTACH;FMTTYPE=image/avif:https://celebratefairfax.org/wp-content/uploads/2025/03/outdoor-seating-area-with-white-adirondack-chairs.avif
END:VEVENT
BEGIN:VEVENT
DTSTART;TZID=UTC:20250411T130000
DTEND;TZID=UTC:20250411T210000
DTSTAMP:20260424T090133
CREATED:20250303T120341Z
LAST-MODIFIED:20250303T120341Z
UID:10001080-1744376400-1744405200@celebratefairfax.org
SUMMARY:PARC in Bloom
DESCRIPTION:Join us at The PARC at Tysons for a delightful cherry blossom-themed outdoor lounge where you can enjoy your lunch and bask in the sunshine. With complimentary wifi available\, you can even catch up on some work while embracing the beauty of spring. Don’t miss out – check out the map featuring all participating businesses for more details here.
URL:https://celebratefairfax.org/event/parc-in-bloom-2-2/2025-04-11/
LOCATION:VA\, United States
CATEGORIES:CF Hosted,The PARC
ATTACH;FMTTYPE=image/avif:https://celebratefairfax.org/wp-content/uploads/2025/03/outdoor-seating-area-with-white-adirondack-chairs.avif
END:VEVENT
BEGIN:VEVENT
DTSTART;TZID=UTC:20250414T130000
DTEND;TZID=UTC:20250414T210000
DTSTAMP:20260424T090133
CREATED:20250303T120341Z
LAST-MODIFIED:20250303T120341Z
UID:10001081-1744635600-1744664400@celebratefairfax.org
SUMMARY:PARC in Bloom
DESCRIPTION:Join us at The PARC at Tysons for a delightful cherry blossom-themed outdoor lounge where you can enjoy your lunch and bask in the sunshine. With complimentary wifi available\, you can even catch up on some work while embracing the beauty of spring. Don’t miss out – check out the map featuring all participating businesses for more details here.
URL:https://celebratefairfax.org/event/parc-in-bloom-2-2/2025-04-14/
LOCATION:VA\, United States
CATEGORIES:CF Hosted,The PARC
ATTACH;FMTTYPE=image/avif:https://celebratefairfax.org/wp-content/uploads/2025/03/outdoor-seating-area-with-white-adirondack-chairs.avif
END:VEVENT
BEGIN:VEVENT
DTSTART;TZID=UTC:20250415T130000
DTEND;TZID=UTC:20250415T210000
DTSTAMP:20260424T090133
CREATED:20250303T120341Z
LAST-MODIFIED:20250303T120341Z
UID:10001082-1744722000-1744750800@celebratefairfax.org
SUMMARY:PARC in Bloom
DESCRIPTION:Join us at The PARC at Tysons for a delightful cherry blossom-themed outdoor lounge where you can enjoy your lunch and bask in the sunshine. With complimentary wifi available\, you can even catch up on some work while embracing the beauty of spring. Don’t miss out – check out the map featuring all participating businesses for more details here.
URL:https://celebratefairfax.org/event/parc-in-bloom-2-2/2025-04-15/
LOCATION:VA\, United States
CATEGORIES:CF Hosted,The PARC
ATTACH;FMTTYPE=image/avif:https://celebratefairfax.org/wp-content/uploads/2025/03/outdoor-seating-area-with-white-adirondack-chairs.avif
END:VEVENT
BEGIN:VEVENT
DTSTART;TZID=UTC:20250416T130000
DTEND;TZID=UTC:20250416T210000
DTSTAMP:20260424T090133
CREATED:20250303T120341Z
LAST-MODIFIED:20250303T120341Z
UID:10001083-1744808400-1744837200@celebratefairfax.org
SUMMARY:PARC in Bloom
DESCRIPTION:Join us at The PARC at Tysons for a delightful cherry blossom-themed outdoor lounge where you can enjoy your lunch and bask in the sunshine. With complimentary wifi available\, you can even catch up on some work while embracing the beauty of spring. Don’t miss out – check out the map featuring all participating businesses for more details here.
URL:https://celebratefairfax.org/event/parc-in-bloom-2-2/2025-04-16/
LOCATION:VA\, United States
CATEGORIES:CF Hosted,The PARC
ATTACH;FMTTYPE=image/avif:https://celebratefairfax.org/wp-content/uploads/2025/03/outdoor-seating-area-with-white-adirondack-chairs.avif
END:VEVENT
BEGIN:VEVENT
DTSTART;TZID=UTC:20250417T130000
DTEND;TZID=UTC:20250417T210000
DTSTAMP:20260424T090133
CREATED:20250303T120341Z
LAST-MODIFIED:20250303T120341Z
UID:10001084-1744894800-1744923600@celebratefairfax.org
SUMMARY:PARC in Bloom
DESCRIPTION:Join us at The PARC at Tysons for a delightful cherry blossom-themed outdoor lounge where you can enjoy your lunch and bask in the sunshine. With complimentary wifi available\, you can even catch up on some work while embracing the beauty of spring. Don’t miss out – check out the map featuring all participating businesses for more details here.
URL:https://celebratefairfax.org/event/parc-in-bloom-2-2/2025-04-17/
LOCATION:VA\, United States
CATEGORIES:CF Hosted,The PARC
ATTACH;FMTTYPE=image/avif:https://celebratefairfax.org/wp-content/uploads/2025/03/outdoor-seating-area-with-white-adirondack-chairs.avif
END:VEVENT
BEGIN:VEVENT
DTSTART;TZID=UTC:20250418T130000
DTEND;TZID=UTC:20250418T210000
DTSTAMP:20260424T090133
CREATED:20250303T120341Z
LAST-MODIFIED:20250303T120341Z
UID:10001085-1744981200-1745010000@celebratefairfax.org
SUMMARY:PARC in Bloom
DESCRIPTION:Join us at The PARC at Tysons for a delightful cherry blossom-themed outdoor lounge where you can enjoy your lunch and bask in the sunshine. With complimentary wifi available\, you can even catch up on some work while embracing the beauty of spring. Don’t miss out – check out the map featuring all participating businesses for more details here.
URL:https://celebratefairfax.org/event/parc-in-bloom-2-2/2025-04-18/
LOCATION:VA\, United States
CATEGORIES:CF Hosted,The PARC
ATTACH;FMTTYPE=image/avif:https://celebratefairfax.org/wp-content/uploads/2025/03/outdoor-seating-area-with-white-adirondack-chairs.avif
END:VEVENT
BEGIN:VEVENT
DTSTART;TZID=UTC:20250421T130000
DTEND;TZID=UTC:20250421T210000
DTSTAMP:20260424T090133
CREATED:20250303T120341Z
LAST-MODIFIED:20250303T120341Z
UID:10001086-1745240400-1745269200@celebratefairfax.org
SUMMARY:PARC in Bloom
DESCRIPTION:Join us at The PARC at Tysons for a delightful cherry blossom-themed outdoor lounge where you can enjoy your lunch and bask in the sunshine. With complimentary wifi available\, you can even catch up on some work while embracing the beauty of spring. Don’t miss out – check out the map featuring all participating businesses for more details here.
URL:https://celebratefairfax.org/event/parc-in-bloom-2-2/2025-04-21/
LOCATION:VA\, United States
CATEGORIES:CF Hosted,The PARC
ATTACH;FMTTYPE=image/avif:https://celebratefairfax.org/wp-content/uploads/2025/03/outdoor-seating-area-with-white-adirondack-chairs.avif
END:VEVENT
BEGIN:VEVENT
DTSTART;TZID=UTC:20250422T130000
DTEND;TZID=UTC:20250422T210000
DTSTAMP:20260424T090133
CREATED:20250303T120341Z
LAST-MODIFIED:20250303T120341Z
UID:10001087-1745326800-1745355600@celebratefairfax.org
SUMMARY:PARC in Bloom
DESCRIPTION:Join us at The PARC at Tysons for a delightful cherry blossom-themed outdoor lounge where you can enjoy your lunch and bask in the sunshine. With complimentary wifi available\, you can even catch up on some work while embracing the beauty of spring. Don’t miss out – check out the map featuring all participating businesses for more details here.
URL:https://celebratefairfax.org/event/parc-in-bloom-2-2/2025-04-22/
LOCATION:VA\, United States
CATEGORIES:CF Hosted,The PARC
ATTACH;FMTTYPE=image/avif:https://celebratefairfax.org/wp-content/uploads/2025/03/outdoor-seating-area-with-white-adirondack-chairs.avif
END:VEVENT
BEGIN:VEVENT
DTSTART;TZID=UTC:20250423T130000
DTEND;TZID=UTC:20250423T210000
DTSTAMP:20260424T090134
CREATED:20250303T120341Z
LAST-MODIFIED:20250303T120341Z
UID:10001088-1745413200-1745442000@celebratefairfax.org
SUMMARY:PARC in Bloom
DESCRIPTION:Join us at The PARC at Tysons for a delightful cherry blossom-themed outdoor lounge where you can enjoy your lunch and bask in the sunshine. With complimentary wifi available\, you can even catch up on some work while embracing the beauty of spring. Don’t miss out – check out the map featuring all participating businesses for more details here.
URL:https://celebratefairfax.org/event/parc-in-bloom-2-2/2025-04-23/
LOCATION:VA\, United States
CATEGORIES:CF Hosted,The PARC
ATTACH;FMTTYPE=image/avif:https://celebratefairfax.org/wp-content/uploads/2025/03/outdoor-seating-area-with-white-adirondack-chairs.avif
END:VEVENT
BEGIN:VEVENT
DTSTART;TZID=UTC:20250424T130000
DTEND;TZID=UTC:20250424T210000
DTSTAMP:20260424T090134
CREATED:20250303T120341Z
LAST-MODIFIED:20250303T120341Z
UID:10001089-1745499600-1745528400@celebratefairfax.org
SUMMARY:PARC in Bloom
DESCRIPTION:Join us at The PARC at Tysons for a delightful cherry blossom-themed outdoor lounge where you can enjoy your lunch and bask in the sunshine. With complimentary wifi available\, you can even catch up on some work while embracing the beauty of spring. Don’t miss out – check out the map featuring all participating businesses for more details here.
URL:https://celebratefairfax.org/event/parc-in-bloom-2-2/2025-04-24/
LOCATION:VA\, United States
CATEGORIES:CF Hosted,The PARC
ATTACH;FMTTYPE=image/avif:https://celebratefairfax.org/wp-content/uploads/2025/03/outdoor-seating-area-with-white-adirondack-chairs.avif
END:VEVENT
BEGIN:VEVENT
DTSTART;TZID=UTC:20250425T130000
DTEND;TZID=UTC:20250425T210000
DTSTAMP:20260424T090134
CREATED:20250303T120341Z
LAST-MODIFIED:20250303T120341Z
UID:10001090-1745586000-1745614800@celebratefairfax.org
SUMMARY:PARC in Bloom
DESCRIPTION:Join us at The PARC at Tysons for a delightful cherry blossom-themed outdoor lounge where you can enjoy your lunch and bask in the sunshine. With complimentary wifi available\, you can even catch up on some work while embracing the beauty of spring. Don’t miss out – check out the map featuring all participating businesses for more details here.
URL:https://celebratefairfax.org/event/parc-in-bloom-2-2/2025-04-25/
LOCATION:VA\, United States
CATEGORIES:CF Hosted,The PARC
ATTACH;FMTTYPE=image/avif:https://celebratefairfax.org/wp-content/uploads/2025/03/outdoor-seating-area-with-white-adirondack-chairs.avif
END:VEVENT
END:VCALENDAR