BEGIN:VCALENDAR
VERSION:2.0
PRODID:-//Celebrate Fairfax - ECPv6.15.20//NONSGML v1.0//EN
CALSCALE:GREGORIAN
METHOD:PUBLISH
X-ORIGINAL-URL:https://celebratefairfax.org
X-WR-CALDESC:Events for Celebrate Fairfax
REFRESH-INTERVAL;VALUE=DURATION:PT1H
X-Robots-Tag:noindex
X-PUBLISHED-TTL:PT1H
BEGIN:VTIMEZONE
TZID:UTC
BEGIN:STANDARD
TZOFFSETFROM:+0000
TZOFFSETTO:+0000
TZNAME:UTC
DTSTART:20240101T000000
END:STANDARD
END:VTIMEZONE
BEGIN:VEVENT
DTSTART;TZID=UTC:20250513T230000
DTEND;TZID=UTC:20250514T003000
DTSTAMP:20260423T013226
CREATED:20250506T142001Z
LAST-MODIFIED:20250506T142001Z
UID:10000110-1747177200-1747182600@celebratefairfax.org
SUMMARY:A Matcha Made in Heaven
DESCRIPTION:In honor of Asian American Heritage Month\, learn how to make delicious iced matcha. Matcha tea has been savored throughout the centuries. Join us to be whisked away on a journey through storied history and aromatic flavor. \n\n\n\nAll materials and supplies will be included. This program is for adults.
URL:https://celebratefairfax.org/event/a-matcha-made-in-heaven/
LOCATION:VA\, United States
CATEGORIES:Asian American and Pacific Islander Heritage Month Guide
ATTACH;FMTTYPE=image/avif:https://celebratefairfax.org/wp-content/uploads/2025/05/matcha-tea-preparation-tools.avif
END:VEVENT
BEGIN:VEVENT
DTSTART;TZID=UTC:20250513T223000
DTEND;TZID=UTC:20250513T233000
DTSTAMP:20260423T013226
CREATED:20250506T141547Z
LAST-MODIFIED:20250506T141547Z
UID:10001959-1747175400-1747179000@celebratefairfax.org
SUMMARY:Paper Crafting for Jewish American Heritage & AANHPI Heritage Month
DESCRIPTION:Come join us for an evening of Jewish Paper Cutting to celebrate Jewish American Heritage Month and crafting paper flowers for Asian American\, Native Hawaiian\, and Pacific Islander Heritage Month! For adults. \n\n\n\nReasonable accommodations will be made upon request. Call (703) 256-3800 ext. four or TTY (703) 324-8365.
URL:https://celebratefairfax.org/event/paper-crafting-for-jewish-american-heritage-aanhpi-heritage-month-2/
LOCATION:VA\, United States
CATEGORIES:Asian American and Pacific Islander Heritage Month Guide
ATTACH;FMTTYPE=image/png:https://celebratefairfax.org/wp-content/uploads/2025/05/FB-Celebrate-FairFax-Social-1-1.avif
END:VEVENT
BEGIN:VEVENT
DTSTART;TZID=UTC:20250508T150000
DTEND;TZID=UTC:20250508T160000
DTSTAMP:20260423T013226
CREATED:20250506T140929Z
LAST-MODIFIED:20250506T140929Z
UID:10000108-1746716400-1746720000@celebratefairfax.org
SUMMARY:One-on-One Korean Language Practice
DESCRIPTION:Practice your Korean one-on-one with a volunteer tutor. All levels welcome. Adults.
URL:https://celebratefairfax.org/event/one-on-one-korean-language-practice/2025-05-08/
LOCATION:VA\, United States
CATEGORIES:Asian American and Pacific Islander Heritage Month Guide
ATTACH;FMTTYPE=image/png:https://celebratefairfax.org/wp-content/uploads/2025/05/FB-Celebrate-FairFax-Social-2.avif
END:VEVENT
BEGIN:VEVENT
DTSTART;TZID=UTC:20250507T170000
DTEND;TZID=UTC:20250507T190000
DTSTAMP:20260423T013226
CREATED:20250506T134605Z
LAST-MODIFIED:20250506T134605Z
UID:10000107-1746637200-1746644400@celebratefairfax.org
SUMMARY:Advanced Craft: Silk Painting
DESCRIPTION:Come to the library to learn the basics about silk painting! \n\n\n\nYou will be shown how to start your silk painting journey and practice a pre-made design during this program. \n\n\n\nFor Adults. All materials provided. \n\n\n\nRegistration is required due to limited materials.
URL:https://celebratefairfax.org/event/advanced-craft-silk-painting/
LOCATION:VA\, United States
CATEGORIES:Asian American and Pacific Islander Heritage Month Guide
ATTACH;FMTTYPE=image/avif:https://celebratefairfax.org/wp-content/uploads/2025/05/painting-and-art-supplies.avif
END:VEVENT
BEGIN:VEVENT
DTSTART;TZID=UTC:20250507T170000
DTEND;TZID=UTC:20250507T190000
DTSTAMP:20260423T013226
CREATED:20250506T134605Z
LAST-MODIFIED:20250506T134605Z
UID:10001954-1746637200-1746644400@celebratefairfax.org
SUMMARY:Advanced Craft: Silk Painting
DESCRIPTION:Come to the library to learn the basics about silk painting! \n\n\n\nYou will be shown how to start your silk painting journey and practice a pre-made design during this program. \n\n\n\nFor Adults. All materials provided. \n\n\n\nRegistration is required due to limited materials.
URL:https://celebratefairfax.org/event/advanced-craft-silk-painting-2/
LOCATION:VA\, United States
CATEGORIES:Asian American and Pacific Islander Heritage Month Guide
ATTACH;FMTTYPE=image/avif:https://celebratefairfax.org/wp-content/uploads/2025/05/painting-and-art-supplies.avif
END:VEVENT
END:VCALENDAR