BEGIN:VCALENDAR
VERSION:2.0
PRODID:-//Celebrate Fairfax - ECPv6.15.20//NONSGML v1.0//EN
CALSCALE:GREGORIAN
METHOD:PUBLISH
X-ORIGINAL-URL:https://celebratefairfax.org
X-WR-CALDESC:Events for Celebrate Fairfax
REFRESH-INTERVAL;VALUE=DURATION:PT1H
X-Robots-Tag:noindex
X-PUBLISHED-TTL:PT1H
BEGIN:VTIMEZONE
TZID:UTC
BEGIN:STANDARD
TZOFFSETFROM:+0000
TZOFFSETTO:+0000
TZNAME:UTC
DTSTART:20240101T000000
END:STANDARD
END:VTIMEZONE
BEGIN:VEVENT
DTSTART;TZID=UTC:20250531T203000
DTEND;TZID=UTC:20250531T213000
DTSTAMP:20260423T000951
CREATED:20250506T162548Z
LAST-MODIFIED:20250506T162548Z
UID:10000116-1748723400-1748727000@celebratefairfax.org
SUMMARY:Chinese Culture Club
DESCRIPTION:Welcome to Chinese Culture Club! Join us on the last Saturday of the month to explore Chinese history\, art\, music\, and culture through a variety of activities. All activities will be facilitated in both English and Chinese Mandarin. All Chinese language levels are welcome!
URL:https://celebratefairfax.org/event/chinese-culture-club/
LOCATION:VA\, United States
CATEGORIES:Asian American and Pacific Islander Heritage Month Guide
ATTACH;FMTTYPE=image/avif:https://celebratefairfax.org/wp-content/uploads/2025/05/chinese-characters-and-their-meanings.avif
END:VEVENT
BEGIN:VEVENT
DTSTART;TZID=UTC:20250525T180000
DTEND;TZID=UTC:20250525T190000
DTSTAMP:20260423T000951
CREATED:20250506T134241Z
LAST-MODIFIED:20250506T134241Z
UID:10001953-1748196000-1748199600@celebratefairfax.org
SUMMARY:Pellet Drums
DESCRIPTION:Make some noise to celebrate Asian American\, Native Hawaiian\, and Pacific Islander Heritage Month! Learn about the pellet drum\, popular throughout East Asia\, and make one of your own with paper plates and beads. Ages 6 and up. Registration requested\, walk-ins welcome while supplies last.
URL:https://celebratefairfax.org/event/pellet-drums-2/
LOCATION:VA\, United States
CATEGORIES:Asian American and Pacific Islander Heritage Month Guide
ATTACH;FMTTYPE=image/png:https://celebratefairfax.org/wp-content/uploads/2025/05/FB-Celebrate-FairFax-Social-1-2.avif
END:VEVENT
BEGIN:VEVENT
DTSTART;TZID=UTC:20250524T170000
DTEND;TZID=UTC:20250524T200000
DTSTAMP:20260423T000951
CREATED:20250515T094404Z
LAST-MODIFIED:20250515T094404Z
UID:10001976-1748106000-1748116800@celebratefairfax.org
SUMMARY:Asian Pacific American Heritage Month Celebration at the Eileen Garnett Civic Space
DESCRIPTION:Celebrate Asian Pacific American Heritage Month on Saturday\, May 24th\, from 1:00 PM to 4:00 PM! This event will feature a delightful selection of Asian food vendors\, captivating music and dance performances\, and engaging demonstrations of origami and mahjong. Attendees can also enjoy hands-on craft activities. Join us for an afternoon of cultural appreciation and community celebration.
URL:https://celebratefairfax.org/event/asian-pacific-american-heritage-month-celebration-at-the-eileen-garnett-civic-space-2/
LOCATION:VA
CATEGORIES:Asian American and Pacific Islander Heritage Month Guide
ATTACH;FMTTYPE=:
END:VEVENT
BEGIN:VEVENT
DTSTART;TZID=UTC:20250524T143000
DTEND;TZID=UTC:20250524T151500
DTSTAMP:20260423T000951
CREATED:20250506T154225Z
LAST-MODIFIED:20250506T154225Z
UID:10000115-1748097000-1748099700@celebratefairfax.org
SUMMARY:Story Time with Deena Kong
DESCRIPTION:Join us for this special story time to celebrate Asian American and Pacific Islander Heritage Month. Children’s author Deena Kong shares her debut children’s book “Grateful Being Me”\, a story about self-acceptance and inclusion. \n\n\n\nAges 3+
URL:https://celebratefairfax.org/event/story-time-with-deena-kong/
LOCATION:VA\, United States
CATEGORIES:Asian American and Pacific Islander Heritage Month Guide
ATTACH;FMTTYPE=image/avif:https://celebratefairfax.org/wp-content/uploads/2025/05/woman-holding-childrens-book.avif
END:VEVENT
BEGIN:VEVENT
DTSTART;TZID=UTC:20250518T143000
DTEND;TZID=UTC:20250518T160000
DTSTAMP:20260423T000951
CREATED:20250506T133750Z
LAST-MODIFIED:20250506T133750Z
UID:10000105-1747578600-1747584000@celebratefairfax.org
SUMMARY:Intergenerational Japanese Folding Fans
DESCRIPTION:Celebrate a sliver of the diverse cultures\, heritage and traditions that are inspired by Asian American\, Native Hawaiian\, and Pacific Islander Heritage Month. In May’s intergenerational craft program\, we’ll introduce you to the history and art of the Japanese folding fan. You will then make and decorate your own paper folding fan. There will be a limited number of pre-assembled fans to decorate. Age 8 and up.
URL:https://celebratefairfax.org/event/intergenerational-japanese-folding-fans/
LOCATION:VA\, United States
CATEGORIES:Asian American and Pacific Islander Heritage Month Guide
ATTACH;FMTTYPE=image/avif:https://celebratefairfax.org/wp-content/uploads/2025/05/colorful-floral-patterned-fans.avif
END:VEVENT
BEGIN:VEVENT
DTSTART;TZID=UTC:20250518T143000
DTEND;TZID=UTC:20250518T160000
DTSTAMP:20260423T000951
CREATED:20250506T133750Z
LAST-MODIFIED:20250506T133750Z
UID:10001952-1747578600-1747584000@celebratefairfax.org
SUMMARY:Intergenerational Japanese Folding Fans
DESCRIPTION:Celebrate a sliver of the diverse cultures\, heritage and traditions that are inspired by Asian American\, Native Hawaiian\, and Pacific Islander Heritage Month. In May’s intergenerational craft program\, we’ll introduce you to the history and art of the Japanese folding fan. You will then make and decorate your own paper folding fan. There will be a limited number of pre-assembled fans to decorate. Age 8 and up.
URL:https://celebratefairfax.org/event/intergenerational-japanese-folding-fans-2/
LOCATION:VA\, United States
CATEGORIES:Asian American and Pacific Islander Heritage Month Guide
ATTACH;FMTTYPE=image/avif:https://celebratefairfax.org/wp-content/uploads/2025/05/colorful-floral-patterned-fans.avif
END:VEVENT
BEGIN:VEVENT
DTSTART;TZID=UTC:20250517T190000
DTEND;TZID=UTC:20250517T200000
DTSTAMP:20260423T000951
CREATED:20250506T153750Z
LAST-MODIFIED:20250506T153750Z
UID:10001964-1747508400-1747512000@celebratefairfax.org
SUMMARY:Korean and Chinese Music and Dance by the Selahart Institute
DESCRIPTION:Experience the vibrant energy and cultural richness of the Selahart Institute! This dynamic ensemble unites talented performers from across Pennsylvania\, Maryland\, and Virginia. Celebrate the traditions of Korean and Chinese arts through captivating performances\, from Korean drumming—Modeum-buk\, Daego\, Samgomu\, Janggu\, and Nanta—to dynamic K-pop moves\, graceful Chinese dance\, and the enchanting melodies of the traditional Chinese zither. \n\n\n\nNo registration required. Seating is limited. All ages.
URL:https://celebratefairfax.org/event/korean-and-chinese-music-and-dance-by-the-selahart-institute-2/
LOCATION:VA\, United States
CATEGORIES:Asian American and Pacific Islander Heritage Month Guide
ATTACH;FMTTYPE=image/png:https://celebratefairfax.org/wp-content/uploads/2025/05/1742935933.avif
END:VEVENT
BEGIN:VEVENT
DTSTART;TZID=UTC:20250517T170000
DTEND;TZID=UTC:20250517T180000
DTSTAMP:20260423T000951
CREATED:20250506T150947Z
LAST-MODIFIED:20250506T150947Z
UID:10000113-1747501200-1747504800@celebratefairfax.org
SUMMARY:Chinese Serenade: A Musical Journey
DESCRIPTION:Celebrate Chinese heritage with us! Our performance honors the history\, customs\, and music of China\, from classical opera to contemporary folk songs\, accompanied by vibrant dance routines that will leave you breathless. Performed by The Spring Blossom Performing Arts Group.
URL:https://celebratefairfax.org/event/chinese-serenade-a-musical-journey/
LOCATION:VA\, United States
CATEGORIES:Asian American and Pacific Islander Heritage Month Guide
ATTACH;FMTTYPE=image/avif:https://celebratefairfax.org/wp-content/uploads/2025/05/chinese-lantern-cherry-blossom-tree.avif
END:VEVENT
BEGIN:VEVENT
DTSTART;TZID=UTC:20250516T143000
DTEND;TZID=UTC:20250516T153000
DTSTAMP:20260423T000951
CREATED:20250506T150129Z
LAST-MODIFIED:20250506T150129Z
UID:10000112-1747405800-1747409400@celebratefairfax.org
SUMMARY:Karesansui Sensory Bins
DESCRIPTION:Find your groove in these Japanese rock garden-inspired sensory bins! This event celebrates Asian American\, Native Hawaiian\, and Pacific Islander Heritage Month! \n\n\n\nRecommended for ages 0 – 3 years. No registration required.
URL:https://celebratefairfax.org/event/karesansui-sensory-bins/
LOCATION:VA\, United States
CATEGORIES:Asian American and Pacific Islander Heritage Month Guide
ATTACH;FMTTYPE=image/avif:https://celebratefairfax.org/wp-content/uploads/2025/05/zen-garden-with-sand-and-stones.avif
END:VEVENT
BEGIN:VEVENT
DTSTART;TZID=UTC:20250515T151500
DTEND;TZID=UTC:20250515T160000
DTSTAMP:20260423T000951
CREATED:20250506T145439Z
LAST-MODIFIED:20250506T145439Z
UID:10001961-1747322100-1747324800@celebratefairfax.org
SUMMARY:Wee Bilingual Korean-English Storytime
DESCRIPTION:Join us to have fun together with songs\, fingerplays\, dances\, and stories in both Korean and English. For families with children ages 2 to 5 years. \n\n\n\n**Please register each child separately. There is no need to register adults who will be attending.
URL:https://celebratefairfax.org/event/wee-bilingual-korean-english-storytime-2/
LOCATION:VA\, United States
CATEGORIES:Asian American and Pacific Islander Heritage Month Guide
ATTACH;FMTTYPE=image/png:https://celebratefairfax.org/wp-content/uploads/2025/05/1662745205.avif
END:VEVENT
BEGIN:VEVENT
DTSTART;TZID=UTC:20250513T230000
DTEND;TZID=UTC:20250514T003000
DTSTAMP:20260423T000952
CREATED:20250506T142001Z
LAST-MODIFIED:20250506T142001Z
UID:10000110-1747177200-1747182600@celebratefairfax.org
SUMMARY:A Matcha Made in Heaven
DESCRIPTION:In honor of Asian American Heritage Month\, learn how to make delicious iced matcha. Matcha tea has been savored throughout the centuries. Join us to be whisked away on a journey through storied history and aromatic flavor. \n\n\n\nAll materials and supplies will be included. This program is for adults.
URL:https://celebratefairfax.org/event/a-matcha-made-in-heaven/
LOCATION:VA\, United States
CATEGORIES:Asian American and Pacific Islander Heritage Month Guide
ATTACH;FMTTYPE=image/avif:https://celebratefairfax.org/wp-content/uploads/2025/05/matcha-tea-preparation-tools.avif
END:VEVENT
BEGIN:VEVENT
DTSTART;TZID=UTC:20250513T223000
DTEND;TZID=UTC:20250513T233000
DTSTAMP:20260423T000952
CREATED:20250506T141547Z
LAST-MODIFIED:20250506T141547Z
UID:10001959-1747175400-1747179000@celebratefairfax.org
SUMMARY:Paper Crafting for Jewish American Heritage & AANHPI Heritage Month
DESCRIPTION:Come join us for an evening of Jewish Paper Cutting to celebrate Jewish American Heritage Month and crafting paper flowers for Asian American\, Native Hawaiian\, and Pacific Islander Heritage Month! For adults. \n\n\n\nReasonable accommodations will be made upon request. Call (703) 256-3800 ext. four or TTY (703) 324-8365.
URL:https://celebratefairfax.org/event/paper-crafting-for-jewish-american-heritage-aanhpi-heritage-month-2/
LOCATION:VA\, United States
CATEGORIES:Asian American and Pacific Islander Heritage Month Guide
ATTACH;FMTTYPE=image/png:https://celebratefairfax.org/wp-content/uploads/2025/05/FB-Celebrate-FairFax-Social-1-1.avif
END:VEVENT
BEGIN:VEVENT
DTSTART;TZID=UTC:20250508T150000
DTEND;TZID=UTC:20250508T160000
DTSTAMP:20260423T000952
CREATED:20250506T140929Z
LAST-MODIFIED:20250506T140929Z
UID:10000108-1746716400-1746720000@celebratefairfax.org
SUMMARY:One-on-One Korean Language Practice
DESCRIPTION:Practice your Korean one-on-one with a volunteer tutor. All levels welcome. Adults.
URL:https://celebratefairfax.org/event/one-on-one-korean-language-practice/2025-05-08/
LOCATION:VA\, United States
CATEGORIES:Asian American and Pacific Islander Heritage Month Guide
ATTACH;FMTTYPE=image/png:https://celebratefairfax.org/wp-content/uploads/2025/05/FB-Celebrate-FairFax-Social-2.avif
END:VEVENT
BEGIN:VEVENT
DTSTART;TZID=UTC:20250507T170000
DTEND;TZID=UTC:20250507T190000
DTSTAMP:20260423T000952
CREATED:20250506T134605Z
LAST-MODIFIED:20250506T134605Z
UID:10000107-1746637200-1746644400@celebratefairfax.org
SUMMARY:Advanced Craft: Silk Painting
DESCRIPTION:Come to the library to learn the basics about silk painting! \n\n\n\nYou will be shown how to start your silk painting journey and practice a pre-made design during this program. \n\n\n\nFor Adults. All materials provided. \n\n\n\nRegistration is required due to limited materials.
URL:https://celebratefairfax.org/event/advanced-craft-silk-painting/
LOCATION:VA\, United States
CATEGORIES:Asian American and Pacific Islander Heritage Month Guide
ATTACH;FMTTYPE=image/avif:https://celebratefairfax.org/wp-content/uploads/2025/05/painting-and-art-supplies.avif
END:VEVENT
BEGIN:VEVENT
DTSTART;TZID=UTC:20250507T170000
DTEND;TZID=UTC:20250507T190000
DTSTAMP:20260423T000952
CREATED:20250506T134605Z
LAST-MODIFIED:20250506T134605Z
UID:10001954-1746637200-1746644400@celebratefairfax.org
SUMMARY:Advanced Craft: Silk Painting
DESCRIPTION:Come to the library to learn the basics about silk painting! \n\n\n\nYou will be shown how to start your silk painting journey and practice a pre-made design during this program. \n\n\n\nFor Adults. All materials provided. \n\n\n\nRegistration is required due to limited materials.
URL:https://celebratefairfax.org/event/advanced-craft-silk-painting-2/
LOCATION:VA\, United States
CATEGORIES:Asian American and Pacific Islander Heritage Month Guide
ATTACH;FMTTYPE=image/avif:https://celebratefairfax.org/wp-content/uploads/2025/05/painting-and-art-supplies.avif
END:VEVENT
END:VCALENDAR