BEGIN:VCALENDAR
VERSION:2.0
PRODID:-//Celebrate Fairfax - ECPv6.15.20//NONSGML v1.0//EN
CALSCALE:GREGORIAN
METHOD:PUBLISH
X-WR-CALNAME:Celebrate Fairfax
X-ORIGINAL-URL:https://celebratefairfax.org
X-WR-CALDESC:Events for Celebrate Fairfax
REFRESH-INTERVAL;VALUE=DURATION:PT1H
X-Robots-Tag:noindex
X-PUBLISHED-TTL:PT1H
BEGIN:VTIMEZONE
TZID:UTC
BEGIN:STANDARD
TZOFFSETFROM:+0000
TZOFFSETTO:+0000
TZNAME:UTC
DTSTART:20250101T000000
END:STANDARD
END:VTIMEZONE
BEGIN:VEVENT
DTSTART;TZID=UTC:20260426T130000
DTEND;TZID=UTC:20260426T180000
DTSTAMP:20260426T000019
CREATED:20250429T195858Z
LAST-MODIFIED:20250429T195858Z
UID:10001471-1777208400-1777226400@celebratefairfax.org
SUMMARY:Mosaic District Market
DESCRIPTION:
URL:https://celebratefairfax.org/event/mosaic-district-market-2/2026-04-26/
LOCATION:United States
CATEGORIES:Farmer's Markets Guide
ATTACH;FMTTYPE=image/avif:https://celebratefairfax.org/wp-content/uploads/2025/04/fresh-produce-display.avif
END:VEVENT
BEGIN:VEVENT
DTSTART;TZID=UTC:20260426T140000
DTEND;TZID=UTC:20260426T163000
DTSTAMP:20260426T000019
CREATED:20260417T192429Z
LAST-MODIFIED:20260417T192429Z
UID:10009739-1777212000-1777221000@celebratefairfax.org
SUMMARY:A Funny Thing Happened on the Way to the Forum
DESCRIPTION:A Funny Thing Happened on the Way to the Forum is a riotous musical comedy that takes you on a whirlwind adventure through ancient Rome. With clever wordplay\, slapstick humor\, and unforgettable characters\, this show follows the misadventures of Pseudolus\, a wily slave who schemes to win his freedom. Delight in the catchy tunes and outrageous antics as love and chaos collide in this timeless tale of mistaken identities comedic twists. Prepare for an evening filled with laughter and entertainment!
URL:https://celebratefairfax.org/event/a-funny-thing-happened-on-the-way-to-the-forum-2/2026-04-26/
LOCATION:266 Sunset Business Park\, Herndon\, VA 20170
ATTACH;FMTTYPE=image/jpeg:https://celebratefairfax.org/wp-content/uploads/2026/04/afunnythinghappenedonthewaytotheforum.jpg
END:VEVENT
END:VCALENDAR