BEGIN:VCALENDAR
VERSION:2.0
PRODID:-//Celebrate Fairfax - ECPv6.15.20//NONSGML v1.0//EN
CALSCALE:GREGORIAN
METHOD:PUBLISH
X-WR-CALNAME:Celebrate Fairfax
X-ORIGINAL-URL:https://celebratefairfax.org
X-WR-CALDESC:Events for Celebrate Fairfax
REFRESH-INTERVAL;VALUE=DURATION:PT1H
X-Robots-Tag:noindex
X-PUBLISHED-TTL:PT1H
BEGIN:VTIMEZONE
TZID:UTC
BEGIN:STANDARD
TZOFFSETFROM:+0000
TZOFFSETTO:+0000
TZNAME:UTC
DTSTART:20250101T000000
END:STANDARD
END:VTIMEZONE
BEGIN:VEVENT
DTSTART;TZID=UTC:20260425T100000
DTEND;TZID=UTC:20260425T120000
DTSTAMP:20260423T000454
CREATED:20260417T131510Z
LAST-MODIFIED:20260417T131728Z
UID:10009579-1777111200-1777118400@celebratefairfax.org
SUMMARY:Bark in Boro Park: A Paw-fect Day at The Boro
DESCRIPTION:Bark in Boro Park returns as a festive spring celebration for dogs and their owners at The Boro\, bringing a lively outdoor morning of fun in the sunshine. We’ll have agility course challenges\, crafts\, giveaways\, treats and photo moments for pups and their paw-rents to enjoy together. Dog training sessions led by Zoom Room Springfield will also be offered but require registration for a timed session. The two fastest pups on the agility course will each win a $100 restaurant gift card! \n• WHEN: Saturday\, April 25 from 10am-12pm\n*Rain date: Sunday\, April 26 from 10am-12pm\n• WHERE: Boro Park: 8350 Broad Street\, Tysons\, VA 22102\n• HOW: The event is free and open to the public but registration is encouraged.
URL:https://celebratefairfax.org/event/bark-in-boro-park-a-paw-fect-day-at-the-boro/
LOCATION:The Boro\, 8350 Broad Street\, Tysons\, VA\, 22102\, United States
ATTACH;FMTTYPE=image/png:https://celebratefairfax.org/wp-content/uploads/2026/04/bark-in-boro-park.png
END:VEVENT
BEGIN:VEVENT
DTSTART;TZID=UTC:20260425T100000
DTEND;TZID=UTC:20260425T160000
DTSTAMP:20260423T000454
CREATED:20260319T164158Z
LAST-MODIFIED:20260319T164158Z
UID:10009273-1777111200-1777132800@celebratefairfax.org
SUMMARY:Earth Day Fairfax
DESCRIPTION:Mark your calendar for the 2026 Earth Day Festival! \nLearn how you can make a positive impact on the planet through exciting\, interactive activities and games\nEnjoy: \n\nOutdoor Discovery Activities\nInteractive Nature Exhibits\nEarth Friendly Vendors\nFood Trucks\nCraft Beer Garden\nLocal Bands and Live Entertainment\nFree Giveaways\nFurry Farm Friends
URL:https://celebratefairfax.org/event/earth-day-fairfax-2/
LOCATION:Lake Fairfax Park\, 1400 Lake Fairfax Dr\, Reston\, VA\, 20190\, United States
CATEGORIES:Earth Day Guide 2026
ATTACH;FMTTYPE=image/avif:https://celebratefairfax.org/wp-content/uploads/2026/03/earth-day-fairfax.avif
END:VEVENT
BEGIN:VEVENT
DTSTART;TZID=UTC:20260425T110000
DTEND;TZID=UTC:20260425T173000
DTSTAMP:20260423T000454
CREATED:20260319T141121Z
LAST-MODIFIED:20260319T141121Z
UID:10009272-1777114800-1777138200@celebratefairfax.org
SUMMARY:eARTh Day Celebration
DESCRIPTION:An art-inspired celebration of the day!
URL:https://celebratefairfax.org/event/earth-day-celebration-3/
LOCATION:Reston Town Square Park\, 1880 Explorer St\, Reston\, VA\, 20190\, United States
CATEGORIES:Earth Day Guide 2026
ATTACH;FMTTYPE=image/avif:https://celebratefairfax.org/wp-content/uploads/2026/03/earth-day.avif
END:VEVENT
BEGIN:VEVENT
DTSTART;TZID=UTC:20260425T120000
DTEND;TZID=UTC:20261121T170000
DTSTAMP:20260423T000454
CREATED:20260406T160618Z
LAST-MODIFIED:20260406T160620Z
UID:10009282-1777118400-1795280400@celebratefairfax.org
SUMMARY:Reston Market
DESCRIPTION:  \n\n\n\n\n\n\n\n\n\n\n\n\n\n\n\n 
URL:https://celebratefairfax.org/event/reston-market-2-2-2/2026-04-25/
LOCATION:United States
CATEGORIES:Farmer's Markets Guide
ATTACH;FMTTYPE=image/png:https://celebratefairfax.org/wp-content/uploads/2026/04/watermelon-at-farmers-market.png
END:VEVENT
END:VCALENDAR